PDS_VERSION_ID = PDS3
/* FILE DATA ELEMENTS */
RECORD_TYPE = STREAM
/* POINTERS TO DATA OBJECTS */
^COMPRESSED_FILE = "H0283_0000_IR3.JP2"
/* IDENTIFICATION DATA ELEMENTS */
DATA_SET_ID = "MEX-M-HRSC-5-REFDR-MAPPROJECTED-V3.0"
DATA_SET_NAME = "MARS EXPRESS HRSC MAP PROJECTED REFDR V3.0"
DETECTOR_ID = MEX_HRSC_IR
EVENT_TYPE = "MARS-REGIONAL-MAPPING-Vo-Fl-Eo"
INSTRUMENT_HOST_ID = MEX
INSTRUMENT_HOST_NAME = "MARS EXPRESS"
INSTRUMENT_ID = HRSC
INSTRUMENT_NAME = "HIGH RESOLUTION STEREO CAMERA"
MISSION_NAME = "MARS EXPRESS"
MISSION_PHASE_NAME = MC_Phase_5
PROCESSING_LEVEL_ID = 3
PRODUCT_CREATION_TIME = 2016-03-02T22:59:35.000Z
PRODUCT_ID = "H0283_0000_IR3.JP2"
RELEASE_ID = 0005
REVISION_ID = 0000
/* QUALITY DATA ELEMENTS */
DATA_QUALITY_ID = 1
DATA_QUALITY_DESC = "Data calculated based on original SPICE kernels"
/* TIME DATA ELEMENTS */
SPACECRAFT_CLOCK_START_COUNT = "1/0029511118.57170"
SPACECRAFT_CLOCK_STOP_COUNT = "1/0029511343.32003"
START_TIME = 2004-04-08T13:33:12.885Z
STOP_TIME = 2004-04-08T13:35:42.553Z
/* ORBITAL DATA ELEMENTS */
ASCENDING_NODE_LONGITUDE = 223.12
MAXIMUM_RESOLUTION = 68.4
FOOTPRINT_POINT_LATITUDE = (-23.4897,-23.512,-23.5346,-23.5576, -23.5811,-23.6049,-23.6292,-23.5523, -23.2451,-23.0405,-22.6357,-22.4289, -22.2227,-22.019,-21.8146,-21.6112, -21.4071,-21.203,-20.9993,-20.5933, -20.3891,-20.0835,-19.7799,-19.5752, -19.3713,-19.067,-18.8645,-18.6607, -18.4569,-18.1514,-17.9489,-17.7458, -17.5429,-17.3336,-17.1307,-16.928, -16.7245,-16.5207,-16.3176,-16.1146, -15.8101,-15.607,-15.4042,-15.2015, -14.8972,-14.5926,-14.3896,-14.1865, -13.7804,-13.4114,-13.3743,-13.3437, -13.3021,-13.2778,-13.2391,-13.2104, -13.4147,-13.7208,-13.9248,-14.129, -14.3331,-14.6391,-14.9451,-15.149, -15.3529,-15.5569,-15.7608,-15.9648, -16.1687,-16.3726,-16.6786,-16.8825, -17.1885,-17.3989,-17.6029,-17.9087, -18.1127,-18.4183,-18.6225,-18.8264, -19.0299,-19.234,-19.4385,-19.6433, -19.8477,-20.0517,-20.2562,-20.4599, -20.6645,-20.8693,-21.1778,-21.3824, -21.5864,-21.8936,-22.0984,-22.4057, -22.6107,-22.8157,-23.123,-23.4897)
FOOTPRINT_POINT_LONGITUDE = (179.068,178.821,178.565,178.301, 178.028,177.746,177.453,177.198,177.185 ,177.176,177.137,177.137,177.136, 177.123,177.113,177.098,177.087,177.076 ,177.062,177.026,177.016,176.997, 176.963,176.957,176.945,176.916,176.893 ,176.881,176.869,176.851,176.827, 176.808,176.788,176.768,176.747,176.723 ,176.709,176.702,176.685,176.665, 176.637,176.621,176.596,176.566,176.524 ,176.491,176.47,176.448,176.412,176.374 ,176.799,177.152,177.613,177.876, 178.285,178.596,178.611,178.629,178.64, 178.656,178.669,178.688,178.707,178.719 ,178.731,178.741,178.753,178.764, 178.775,178.786,178.801,178.811,178.826 ,178.835,178.845,178.86,178.87,178.887, 178.895,178.905,178.917,178.925,178.932 ,178.936,178.944,178.952,178.959, 178.969,178.976,178.981,178.985,178.991 ,179.0,179.009,179.015,179.023,179.028, 179.033,179.042,179.068)
ORBIT_NUMBER = 283
ORBITAL_ECCENTRICITY = 0.607
ORBITAL_INCLINATION = 86.59
ORBITAL_SEMIMAJOR_AXIS = 9282.6
PERIAPSIS_ALTITUDE = 264.84
PERIAPSIS_ARGUMENT_ANGLE = 311.64
PERIAPSIS_TIME = 2004-04-08T13:26:46.000Z
SPACECRAFT_ORIENTATION = (0.0,1.0,0.0)
^MEX_ORIENTATION_DESC = "MEX_ORIENTATION_DESC.TXT"
SPACECRAFT_POINTING_MODE = INERT
^MEX_POINTING_DESC = "MEX_POINTING_DESC.TXT"
RIGHT_ASCENSION = 35.253
DECLINATION = 58.133
OFFSET_ANGLE = -1e+32
SPACECRAFT_SOLAR_DISTANCE = 2.38911e+08
TARGET_NAME = MARS
/* CAMERA DATA ELEMENTS */
DETECTOR_TEMPERATURE = 16.7393
FOCAL_PLANE_TEMPERATURE = 8.1755
INST_CMPRS_NAME = "DISCRETE COSINE TRANSFORMATION (DCT)"
INST_CMPRS_RATIO = 10.4365
INST_CMPRS_QUALITY = 0
INST_CMPRS_QUANTZ_TBL_ID = 0
INSTRUMENT_TEMPERATURE = 11.0301
LENS_TEMPERATURE = 8.3794
MACROPIXEL_SIZE = 4
MISSING_FRAMES = 1
PIXEL_SUBSAMPLING_FLAG = N
SIGNAL_CHAIN_ID = 2
/* RADIOMETRIC DATA ELEMENTS */
BANDWIDTH = 81.0
CENTER_FILTER_WAVELENGTH = 955.5
RADIANCE_OFFSET = 1.56796
RADIANCE_SCALING_FACTOR = 0.00590929
REFLECTANCE_SCALING_FACTOR = 0.000727675
MEX:REFLECTANCE_OFFSET = 0.19308
/* IMAGE OBJECT DEFINITIONS */
OBJECT = IMAGE
  INTERCHANGE_FORMAT = BINARY
  LINES = 12222
  LINE_SAMPLES = 3368
  SAMPLE_TYPE = UNSIGNED_INTEGER
  SAMPLE_BITS = 8
  BANDS = 1
  BAND_STORAGE_TYPE = BAND_SEQUENTIAL
  MAXIMUM = 154
  MEAN = 124.555
  MINIMUM = 70
  STANDARD_DEVIATION = 7.9901
END_OBJECT = IMAGE
/* MAP OBJECT DEFINITIONS */
OBJECT = IMAGE_MAP_PROJECTION
  ^DATA_SET_MAP_PROJECTION_CATALOG= "DSMAP.CAT"
  A_AXIS_RADIUS = 3396.0
  B_AXIS_RADIUS = 3396.0
  C_AXIS_RADIUS = 3396.0
  CENTER_LATITUDE = 0.0
  CENTER_LONGITUDE = 178.0
  COORDINATE_SYSTEM_NAME = PLANETOGRAPHIC
  COORDINATE_SYSTEM_TYPE = "BODY-FIXED ROTATING"
  EASTERNMOST_LONGITUDE = 179.068
  FIRST_STANDARD_PARALLEL = "N/A"
  LINE_FIRST_PIXEL = 1
  LINE_LAST_PIXEL = 12222
  LINE_PROJECTION_OFFSET = -15850.375
  MAP_PROJECTION_ROTATION = 0.0
  MAP_PROJECTION_TYPE = SINUSOIDAL
  MAP_RESOLUTION = 1185.42760773333
  MAP_SCALE = 0.05
  MAXIMUM_LATITUDE = -13.2104
  MINIMUM_LATITUDE = -23.6292
  POSITIVE_LONGITUDE_DIRECTION = EAST
  REFERENCE_LATITUDE = "N/A"
  REFERENCE_LONGITUDE = "N/A"
  SAMPLE_FIRST_PIXEL = 1
  SAMPLE_LAST_PIXEL = 3368
  SAMPLE_PROJECTION_OFFSET = 2200.125
  SECOND_STANDARD_PARALLEL = "N/A"
  WESTERNMOST_LONGITUDE = 176.374
END_OBJECT = IMAGE_MAP_PROJECTION
/* The JPEG2000 image data file associated with this label. */
OBJECT = COMPRESSED_FILE
  FILE_NAME = "H0283_0000_IR3.JP2"
  RECORD_TYPE = UNDEFINED
  FILE_RECORDS = UNK
  ENCODING_TYPE = "JP2"
  INTERCHANGE_FORMAT = BINARY
  UNCOMPRESSED_FILE_NAME = "H0283_0000_IR3.IMG"
  REQUIRED_STORAGE_BYTES = "41187272"
  ^DESCRIPTION = "JP2INFO.TXT"
END_OBJECT = COMPRESSED_FILE
END
