PDS_VERSION_ID = PDS3
/* FILE DATA ELEMENTS */
RECORD_TYPE = STREAM
/* POINTERS TO DATA OBJECTS */
^COMPRESSED_FILE = "H0283_0000_P13.JP2"
/* IDENTIFICATION DATA ELEMENTS */
DATA_SET_ID = "MEX-M-HRSC-5-REFDR-MAPPROJECTED-V3.0"
DATA_SET_NAME = "MARS EXPRESS HRSC MAP PROJECTED REFDR V3.0"
DETECTOR_ID = MEX_HRSC_P1
EVENT_TYPE = "MARS-REGIONAL-MAPPING-Vo-Fl-Eo"
INSTRUMENT_HOST_ID = MEX
INSTRUMENT_HOST_NAME = "MARS EXPRESS"
INSTRUMENT_ID = HRSC
INSTRUMENT_NAME = "HIGH RESOLUTION STEREO CAMERA"
MISSION_NAME = "MARS EXPRESS"
MISSION_PHASE_NAME = MC_Phase_5
PROCESSING_LEVEL_ID = 3
PRODUCT_CREATION_TIME = 2016-03-02T22:59:35.000Z
PRODUCT_ID = "H0283_0000_P13.JP2"
RELEASE_ID = 0005
REVISION_ID = 0000
/* QUALITY DATA ELEMENTS */
DATA_QUALITY_ID = 1
DATA_QUALITY_DESC = "Data calculated based on original SPICE kernels"
/* TIME DATA ELEMENTS */
SPACECRAFT_CLOCK_START_COUNT = "1/0029511118.57170"
SPACECRAFT_CLOCK_STOP_COUNT = "1/0029511343.32003"
START_TIME = 2004-04-08T13:33:06.618Z
STOP_TIME = 2004-04-08T13:35:34.719Z
/* ORBITAL DATA ELEMENTS */
ASCENDING_NODE_LONGITUDE = 223.12
MAXIMUM_RESOLUTION = 67.2
FOOTPRINT_POINT_LATITUDE = (-23.5358,-23.5524,-23.5691,-23.5859, -23.6029,-23.6201,-23.5473,-23.2399, -23.035,-22.6277,-22.4217,-22.216, -22.0117,-21.807,-21.6028,-21.3983, -21.1938,-20.9895,-20.7854,-20.5815, -20.3769,-20.1726,-19.9682,-19.7646, -19.5601,-19.2536,-19.0496,-18.8456, -18.6411,-18.437,-18.0286,-17.8245, -17.6203,-17.314,-17.1098,-16.8032, -16.4975,-16.1913,-15.9871,-15.783, -15.5789,-15.2716,-15.0665,-14.8622, -14.5554,-14.3509,-14.1464,-13.9421, -13.5347,-13.3601,-13.338,-13.3148, -13.2969,-13.2785,-13.2551,-13.2409, -13.4468,-13.6518,-13.9599,-14.1655, -14.3713,-14.5764,-14.884,-15.0892, -15.2944,-15.4994,-15.7044,-15.9094, -16.2169,-16.5241,-16.7289,-17.0362, -17.3435,-17.5483,-17.7531,-18.0603, -18.2652,-18.4699,-18.7771,-18.9818, -19.2889,-19.4936,-19.6986,-19.9033, -20.1082,-20.3131,-20.5176,-20.7227, -21.0308,-21.2358,-21.4408,-21.6455, -21.8506,-22.0557,-22.2608,-22.466, -22.7738,-23.0815,-23.2869,-23.5358)
FOOTPRINT_POINT_LONGITUDE = (179.007,178.758,178.501,178.235,177.96 ,177.676,177.2,177.186,177.176,177.135, 177.136,177.134,177.119,177.109,177.094 ,177.082,177.07,177.056,177.039,177.018 ,177.008,176.994,176.981,176.952, 176.943,176.923,176.903,176.879,176.873 ,176.853,176.823,176.799,176.779, 176.748,176.727,176.688,176.679,176.651 ,176.631,176.613,176.594,176.548, 176.515,176.494,176.46,176.437,176.415, 176.395,176.364,176.791,177.144,177.508 ,177.775,178.033,178.364,178.581, 178.596,178.608,178.628,178.642,178.658 ,178.67,178.688,178.701,178.714,178.725 ,178.737,178.748,178.766,178.782, 178.792,178.807,178.823,178.833,178.844 ,178.859,178.874,178.882,178.895, 178.905,178.92,178.927,178.932,178.942, 178.948,178.956,178.967,178.972,178.976 ,178.983,178.99,178.999,179.004,179.011 ,179.017,179.023,179.031,179.04,179.044 ,179.007)
ORBIT_NUMBER = 283
ORBITAL_ECCENTRICITY = 0.607
ORBITAL_INCLINATION = 86.59
ORBITAL_SEMIMAJOR_AXIS = 9282.6
PERIAPSIS_ALTITUDE = 264.84
PERIAPSIS_ARGUMENT_ANGLE = 311.64
PERIAPSIS_TIME = 2004-04-08T13:26:46.000Z
SPACECRAFT_ORIENTATION = (0.0,1.0,0.0)
^MEX_ORIENTATION_DESC = "MEX_ORIENTATION_DESC.TXT"
SPACECRAFT_POINTING_MODE = INERT
^MEX_POINTING_DESC = "MEX_POINTING_DESC.TXT"
RIGHT_ASCENSION = 35.253
DECLINATION = 58.133
OFFSET_ANGLE = -1e+32
SPACECRAFT_SOLAR_DISTANCE = 2.38911e+08
TARGET_NAME = MARS
/* CAMERA DATA ELEMENTS */
DETECTOR_TEMPERATURE = 16.7393
FOCAL_PLANE_TEMPERATURE = 8.1755
INST_CMPRS_NAME = "DISCRETE COSINE TRANSFORMATION (DCT)"
INST_CMPRS_RATIO = 25.401
INST_CMPRS_QUALITY = 0
INST_CMPRS_QUANTZ_TBL_ID = 0
INSTRUMENT_TEMPERATURE = 11.0301
LENS_TEMPERATURE = 8.3794
MACROPIXEL_SIZE = 4
MISSING_FRAMES = 0
PIXEL_SUBSAMPLING_FLAG = N
SIGNAL_CHAIN_ID = 3
/* RADIOMETRIC DATA ELEMENTS */
BANDWIDTH = 174.0
CENTER_FILTER_WAVELENGTH = 675.0
RADIANCE_OFFSET = 6.84412
RADIANCE_SCALING_FACTOR = 0.016402
REFLECTANCE_SCALING_FACTOR = 0.000503567
MEX:REFLECTANCE_OFFSET = 0.210125
/* IMAGE OBJECT DEFINITIONS */
OBJECT = IMAGE
  INTERCHANGE_FORMAT = BINARY
  LINES = 12222
  LINE_SAMPLES = 3368
  SAMPLE_TYPE = UNSIGNED_INTEGER
  SAMPLE_BITS = 8
  BANDS = 1
  BAND_STORAGE_TYPE = BAND_SEQUENTIAL
  MAXIMUM = 131
  MEAN = 99.0081
  MINIMUM = 65
  STANDARD_DEVIATION = 4.96931
END_OBJECT = IMAGE
/* MAP OBJECT DEFINITIONS */
OBJECT = IMAGE_MAP_PROJECTION
  ^DATA_SET_MAP_PROJECTION_CATALOG= "DSMAP.CAT"
  A_AXIS_RADIUS = 3396.0
  B_AXIS_RADIUS = 3396.0
  C_AXIS_RADIUS = 3396.0
  CENTER_LATITUDE = 0.0
  CENTER_LONGITUDE = 178.0
  COORDINATE_SYSTEM_NAME = PLANETOGRAPHIC
  COORDINATE_SYSTEM_TYPE = "BODY-FIXED ROTATING"
  EASTERNMOST_LONGITUDE = 179.044
  FIRST_STANDARD_PARALLEL = "N/A"
  LINE_FIRST_PIXEL = 1
  LINE_LAST_PIXEL = 12222
  LINE_PROJECTION_OFFSET = -15850.375
  MAP_PROJECTION_ROTATION = 0.0
  MAP_PROJECTION_TYPE = SINUSOIDAL
  MAP_RESOLUTION = 1185.42760773333
  MAP_SCALE = 0.05
  MAXIMUM_LATITUDE = -13.2409
  MINIMUM_LATITUDE = -23.6201
  POSITIVE_LONGITUDE_DIRECTION = EAST
  REFERENCE_LATITUDE = "N/A"
  REFERENCE_LONGITUDE = "N/A"
  SAMPLE_FIRST_PIXEL = 1
  SAMPLE_LAST_PIXEL = 3368
  SAMPLE_PROJECTION_OFFSET = 2200.125
  SECOND_STANDARD_PARALLEL = "N/A"
  WESTERNMOST_LONGITUDE = 176.364
END_OBJECT = IMAGE_MAP_PROJECTION
/* The JPEG2000 image data file associated with this label. */
OBJECT = COMPRESSED_FILE
  FILE_NAME = "H0283_0000_P13.JP2"
  RECORD_TYPE = UNDEFINED
  FILE_RECORDS = UNK
  ENCODING_TYPE = "JP2"
  INTERCHANGE_FORMAT = BINARY
  UNCOMPRESSED_FILE_NAME = "H0283_0000_P13.IMG"
  REQUIRED_STORAGE_BYTES = "41187272"
  ^DESCRIPTION = "JP2INFO.TXT"
END_OBJECT = COMPRESSED_FILE
END
