PDS_VERSION_ID = PDS3
/* FILE DATA ELEMENTS */
RECORD_TYPE = STREAM
/* POINTERS TO DATA OBJECTS */
^COMPRESSED_FILE = "H0292_0000_RE3.JP2"
/* IDENTIFICATION DATA ELEMENTS */
DATA_SET_ID = "MEX-M-HRSC-5-REFDR-MAPPROJECTED-V3.0"
DATA_SET_NAME = "MARS EXPRESS HRSC MAP PROJECTED REFDR V3.0"
DETECTOR_ID = MEX_HRSC_RED
EVENT_TYPE = "MARS-REGIONAL-STEREO-Vo-Te-Im"
INSTRUMENT_HOST_ID = MEX
INSTRUMENT_HOST_NAME = "MARS EXPRESS"
INSTRUMENT_ID = HRSC
INSTRUMENT_NAME = "HIGH RESOLUTION STEREO CAMERA"
MISSION_NAME = "MARS EXPRESS"
MISSION_PHASE_NAME = MC_Phase_5
PROCESSING_LEVEL_ID = 3
PRODUCT_CREATION_TIME = 2016-03-02T22:59:35.000Z
PRODUCT_ID = "H0292_0000_RE3.JP2"
RELEASE_ID = 0005
REVISION_ID = 0000
/* QUALITY DATA ELEMENTS */
DATA_QUALITY_ID = 1
DATA_QUALITY_DESC = "Data calculated based on original SPICE kernels"
/* TIME DATA ELEMENTS */
SPACECRAFT_CLOCK_START_COUNT = "1/0029756424.57949"
SPACECRAFT_CLOCK_STOP_COUNT = "1/0029756572.57286"
START_TIME = 2004-04-11T09:41:16.094Z
STOP_TIME = 2004-04-11T09:42:55.098Z
/* ORBITAL DATA ELEMENTS */
ASCENDING_NODE_LONGITUDE = 222.94
MAXIMUM_RESOLUTION = 44.7
FOOTPRINT_POINT_LATITUDE = (-44.7727,-44.7786,-44.7857,-44.7916, -44.7958,-44.8009,-44.8386,-44.7128, -44.5869,-44.398,-44.2712,-44.1458, -44.0199,-43.8313,-43.7056,-43.5118, -43.3839,-43.1954,-43.0046,-42.8095, -42.6788,-42.5473,-42.3497,-42.2193, -42.0919,-41.9619,-41.7665,-41.5718, -41.4411,-41.3058,-41.1759,-41.0465, -40.9176,-40.7899,-40.6617,-40.4695, -40.3405,-40.2058,-40.0715,-39.9372, -39.8032,-39.6021,-39.4017,-39.2682, -39.1351,-39.0016,-38.8017,-38.6683, -38.5351,-38.4023,-38.2855,-38.2812, -38.2772,-38.2742,-38.2706,-38.2672, -38.2608,-38.2582,-38.3909,-38.5233, -38.7221,-38.9223,-39.0561,-39.1894, -39.3229,-39.5233,-39.6573,-39.7913, -39.9912,-40.1251,-40.3262,-40.455, -40.5839,-40.7127,-40.9059,-41.0345, -41.1659,-41.2966,-41.4262,-41.6196, -41.7486,-41.9416,-42.1382,-42.2667, -42.3967,-42.529,-42.6599,-42.7947, -42.9913,-43.1815,-43.3083,-43.4972, -43.6234,-43.8117,-43.9998,-44.1882, -44.314,-44.4393,-44.6276,-44.7727)
FOOTPRINT_POINT_LONGITUDE = (262.729,262.92,263.16,263.364,263.519, 263.711,263.898,263.905,263.911,263.922 ,263.928,263.935,263.941,263.951, 263.957,263.964,263.97,263.979,263.988, 263.998,264.004,264.01,264.019,264.025, 264.032,264.038,264.047,264.056,264.062 ,264.065,264.071,264.077,264.083, 264.089,264.095,264.105,264.11,264.116, 264.122,264.127,264.133,264.141,264.15, 264.155,264.161,264.166,264.175,264.18, 264.185,264.191,264.195,263.991,263.81, 263.654,263.45,263.293,263.041,262.904, 262.899,262.895,262.888,262.881,262.875 ,262.87,262.865,262.857,262.852,262.846 ,262.838,262.833,262.824,262.818, 262.813,262.807,262.799,262.793,262.786 ,262.779,262.773,262.764,262.758, 262.749,262.738,262.732,262.725,262.717 ,262.71,262.7,262.689,262.678,262.67, 262.658,262.651,262.639,262.628,262.617 ,262.609,262.601,262.589,262.729)
ORBIT_NUMBER = 292
ORBITAL_ECCENTRICITY = 0.607
ORBITAL_INCLINATION = 86.56
ORBITAL_SEMIMAJOR_AXIS = 9284.84
PERIAPSIS_ALTITUDE = 264.23
PERIAPSIS_ARGUMENT_ANGLE = 310.09
PERIAPSIS_TIME = 2004-04-11T09:39:44.000Z
SPACECRAFT_ORIENTATION = (0.0,-1.0,0.0)
^MEX_ORIENTATION_DESC = "MEX_ORIENTATION_DESC.TXT"
SPACECRAFT_POINTING_MODE = NADIR
^MEX_POINTING_DESC = "MEX_POINTING_DESC.TXT"
RIGHT_ASCENSION = -1e+32
DECLINATION = -1e+32
OFFSET_ANGLE = -1e+32
SPACECRAFT_SOLAR_DISTANCE = 2.3936e+08
TARGET_NAME = MARS
/* CAMERA DATA ELEMENTS */
DETECTOR_TEMPERATURE = 16.9432
FOCAL_PLANE_TEMPERATURE = 7.9716
INST_CMPRS_NAME = "DISCRETE COSINE TRANSFORMATION (DCT)"
INST_CMPRS_RATIO = 11.749
INST_CMPRS_QUALITY = 0
INST_CMPRS_QUANTZ_TBL_ID = 0
INSTRUMENT_TEMPERATURE = 11.234
LENS_TEMPERATURE = 8.1755
MACROPIXEL_SIZE = 4
MISSING_FRAMES = 0
PIXEL_SUBSAMPLING_FLAG = N
SIGNAL_CHAIN_ID = 2
/* RADIOMETRIC DATA ELEMENTS */
BANDWIDTH = 48.0
CENTER_FILTER_WAVELENGTH = 748.0
RADIANCE_OFFSET = 0.679661
RADIANCE_SCALING_FACTOR = 0.00482299
REFLECTANCE_SCALING_FACTOR = 0.000630591
MEX:REFLECTANCE_OFFSET = 0.0888636
/* IMAGE OBJECT DEFINITIONS */
OBJECT = IMAGE
  INTERCHANGE_FORMAT = BINARY
  LINES = 7794
  LINE_SAMPLES = 1492
  SAMPLE_TYPE = UNSIGNED_INTEGER
  SAMPLE_BITS = 8
  BANDS = 1
  BAND_STORAGE_TYPE = BAND_SEQUENTIAL
  MAXIMUM = 125
  MEAN = 81.4586
  MINIMUM = 35
  STANDARD_DEVIATION = 10.5315
END_OBJECT = IMAGE
/* MAP OBJECT DEFINITIONS */
OBJECT = IMAGE_MAP_PROJECTION
  ^DATA_SET_MAP_PROJECTION_CATALOG= "DSMAP.CAT"
  A_AXIS_RADIUS = 3396.0
  B_AXIS_RADIUS = 3396.0
  C_AXIS_RADIUS = 3396.0
  CENTER_LATITUDE = 0.0
  CENTER_LONGITUDE = 263.0
  COORDINATE_SYSTEM_NAME = PLANETOGRAPHIC
  COORDINATE_SYSTEM_TYPE = "BODY-FIXED ROTATING"
  EASTERNMOST_LONGITUDE = 264.195
  FIRST_STANDARD_PARALLEL = "N/A"
  LINE_FIRST_PIXEL = 1
  LINE_LAST_PIXEL = 7794
  LINE_PROJECTION_OFFSET = -45396.125
  MAP_PROJECTION_ROTATION = 0.0
  MAP_PROJECTION_TYPE = SINUSOIDAL
  MAP_RESOLUTION = 1185.42760773333
  MAP_SCALE = 0.05
  MAXIMUM_LATITUDE = -38.2582
  MINIMUM_LATITUDE = -44.8386
  POSITIVE_LONGITUDE_DIRECTION = EAST
  REFERENCE_LATITUDE = "N/A"
  REFERENCE_LONGITUDE = "N/A"
  SAMPLE_FIRST_PIXEL = 1
  SAMPLE_LAST_PIXEL = 1492
  SAMPLE_PROJECTION_OFFSET = 365.875
  SECOND_STANDARD_PARALLEL = "N/A"
  WESTERNMOST_LONGITUDE = 262.589
END_OBJECT = IMAGE_MAP_PROJECTION
/* The JPEG2000 image data file associated with this label. */
OBJECT = COMPRESSED_FILE
  FILE_NAME = "H0292_0000_RE3.JP2"
  RECORD_TYPE = UNDEFINED
  FILE_RECORDS = UNK
  ENCODING_TYPE = "JP2"
  INTERCHANGE_FORMAT = BINARY
  UNCOMPRESSED_FILE_NAME = "H0292_0000_RE3.IMG"
  REQUIRED_STORAGE_BYTES = "11648044"
  ^DESCRIPTION = "JP2INFO.TXT"
END_OBJECT = COMPRESSED_FILE
END
