PDS_VERSION_ID = PDS3
/* FILE DATA ELEMENTS */
RECORD_TYPE = STREAM
/* POINTERS TO DATA OBJECTS */
^COMPRESSED_FILE = "H0299_0001_IR3.JP2"
/* IDENTIFICATION DATA ELEMENTS */
DATA_SET_ID = "MEX-M-HRSC-5-REFDR-MAPPROJECTED-V3.0"
DATA_SET_NAME = "MARS EXPRESS HRSC MAP PROJECTED REFDR V3.0"
DETECTOR_ID = MEX_HRSC_IR
EVENT_TYPE = "MARS-REGIONAL-MAPPING-Te-Im-Fl"
INSTRUMENT_HOST_ID = MEX
INSTRUMENT_HOST_NAME = "MARS EXPRESS"
INSTRUMENT_ID = HRSC
INSTRUMENT_NAME = "HIGH RESOLUTION STEREO CAMERA"
MISSION_NAME = "MARS EXPRESS"
MISSION_PHASE_NAME = MC_Phase_5
PROCESSING_LEVEL_ID = 3
PRODUCT_CREATION_TIME = 2016-03-02T22:59:35.000Z
PRODUCT_ID = "H0299_0001_IR3.JP2"
RELEASE_ID = 0005
REVISION_ID = 0000
/* QUALITY DATA ELEMENTS */
DATA_QUALITY_ID = 1
DATA_QUALITY_DESC = "Data calculated based on original SPICE kernels"
/* TIME DATA ELEMENTS */
SPACECRAFT_CLOCK_START_COUNT = "1/0029947785.57312"
SPACECRAFT_CLOCK_STOP_COUNT = "1/0029948299.48536"
START_TIME = 2004-04-13T14:50:01.662Z
STOP_TIME = 2004-04-13T14:55:13.497Z
/* ORBITAL DATA ELEMENTS */
ASCENDING_NODE_LONGITUDE = 222.79
MAXIMUM_RESOLUTION = 70.8
FOOTPRINT_POINT_LATITUDE = (-21.0036,-20.986,-20.9655,-20.3258, -19.855,-19.5401,-19.2204,-18.899, -18.5756,-18.2474,-17.9194,-17.5834, -17.2505,-16.91,-16.5693,-16.2245, -15.8782,-15.5263,-15.1739,-14.8159, -14.2737,-13.9098,-13.5399,-12.9786, -12.6018,-12.2156,-11.8346,-11.4455, -11.0513,-10.6545,-10.0497,-9.43779, -9.02358,-8.60444,-8.17974,-7.7504, -7.31701,-6.87984,-6.4361,-5.98765, -5.53415,-5.07582,-4.61219,-4.13949, -3.66621,-3.18701,-2.70144,-2.20987, -1.71245,-1.40279,-1.41953,-1.43743, -1.45347,-1.46588,-1.48293,-1.50591, -2.00144,-2.49798,-2.9853,-3.46406, -4.18111,-4.64873,-5.11038,-5.56779, -6.02106,-6.46894,-6.91102,-7.3484, -7.78124,-8.20938,-8.63275,-9.05068, -9.46474,-9.87447,-10.2822,-10.682, -11.2745,-11.861,-12.4375,-13.0062, -13.3818,-13.7531,-14.3024,-14.8449, -15.2038,-15.5561,-15.9088,-16.2539, -16.5874,-16.9292,-17.2789,-17.6115, -17.9452,-18.4352,-18.7641,-19.0868, -19.5682,-20.3477,-20.9636,-21.0036)
FOOTPRINT_POINT_LONGITUDE = (208.556,209.033,209.519,209.77,209.775 ,209.779,209.782,209.786,209.789, 209.793,209.797,209.802,209.805,209.809 ,209.813,209.817,209.82,209.824,209.828 ,209.832,209.838,209.841,209.846, 209.853,209.857,209.864,209.865,209.87, 209.874,209.879,209.887,209.893,209.898 ,209.904,209.909,209.916,209.921, 209.927,209.934,209.941,209.947,209.954 ,209.961,209.97,209.976,209.983,209.99, 209.997,210.005,209.765,209.42,209.03, 208.642,208.329,207.945,207.413,207.439 ,207.466,207.492,207.516,207.553, 207.576,207.598,207.62,207.641,207.662, 207.682,207.702,207.721,207.739,207.757 ,207.774,207.791,207.808,207.824, 207.839,207.862,207.884,207.904,207.924 ,207.937,207.95,207.968,207.985,207.996 ,208.007,208.017,208.027,208.038, 208.047,208.056,208.065,208.074,208.087 ,208.095,208.103,208.114,208.132, 208.146,208.556)
ORBIT_NUMBER = 299
ORBITAL_ECCENTRICITY = 0.607
ORBITAL_INCLINATION = 86.59
ORBITAL_SEMIMAJOR_AXIS = 9276.97
PERIAPSIS_ALTITUDE = 263.44
PERIAPSIS_ARGUMENT_ANGLE = 308.89
PERIAPSIS_TIME = 2004-04-13T14:42:57.000Z
SPACECRAFT_ORIENTATION = (0.0,-1.0,0.0)
^MEX_ORIENTATION_DESC = "MEX_ORIENTATION_DESC.TXT"
SPACECRAFT_POINTING_MODE = ACROSSTRACK
^MEX_POINTING_DESC = "MEX_POINTING_DESC.TXT"
RIGHT_ASCENSION = -1e+32
DECLINATION = -1e+32
OFFSET_ANGLE = -0.9
SPACECRAFT_SOLAR_DISTANCE = 2.39704e+08
TARGET_NAME = MARS
/* CAMERA DATA ELEMENTS */
DETECTOR_TEMPERATURE = 19.1861
FOCAL_PLANE_TEMPERATURE = 9.6028
INST_CMPRS_NAME = "DISCRETE COSINE TRANSFORMATION (DCT)"
INST_CMPRS_RATIO = 11.7478
INST_CMPRS_QUALITY = 0
INST_CMPRS_QUANTZ_TBL_ID = 0
INSTRUMENT_TEMPERATURE = 13.4769
LENS_TEMPERATURE = 8.7872
MACROPIXEL_SIZE = 4
MISSING_FRAMES = 0
PIXEL_SUBSAMPLING_FLAG = N
SIGNAL_CHAIN_ID = 2
/* RADIOMETRIC DATA ELEMENTS */
BANDWIDTH = 81.0
CENTER_FILTER_WAVELENGTH = 955.5
RADIANCE_OFFSET = 1.17421
RADIANCE_SCALING_FACTOR = 0.00837809
REFLECTANCE_SCALING_FACTOR = 0.00103855
MEX:REFLECTANCE_OFFSET = 0.145556
/* IMAGE OBJECT DEFINITIONS */
OBJECT = IMAGE
  INTERCHANGE_FORMAT = BINARY
  LINES = 23232
  LINE_SAMPLES = 3510
  SAMPLE_TYPE = UNSIGNED_INTEGER
  SAMPLE_BITS = 8
  BANDS = 1
  BAND_STORAGE_TYPE = BAND_SEQUENTIAL
  MAXIMUM = 207
  MEAN = 163.809
  MINIMUM = 68
  STANDARD_DEVIATION = 14.9515
END_OBJECT = IMAGE
/* MAP OBJECT DEFINITIONS */
OBJECT = IMAGE_MAP_PROJECTION
  ^DATA_SET_MAP_PROJECTION_CATALOG= "DSMAP.CAT"
  A_AXIS_RADIUS = 3396.0
  B_AXIS_RADIUS = 3396.0
  C_AXIS_RADIUS = 3396.0
  CENTER_LATITUDE = 0.0
  CENTER_LONGITUDE = 209.0
  COORDINATE_SYSTEM_NAME = PLANETOGRAPHIC
  COORDINATE_SYSTEM_TYPE = "BODY-FIXED ROTATING"
  EASTERNMOST_LONGITUDE = 210.005
  FIRST_STANDARD_PARALLEL = "N/A"
  LINE_FIRST_PIXEL = 1
  LINE_LAST_PIXEL = 23232
  LINE_PROJECTION_OFFSET = -1551.125
  MAP_PROJECTION_ROTATION = 0.0
  MAP_PROJECTION_TYPE = SINUSOIDAL
  MAP_RESOLUTION = 1185.42760773333
  MAP_SCALE = 0.05
  MAXIMUM_LATITUDE = -1.40279
  MINIMUM_LATITUDE = -21.0036
  POSITIVE_LONGITUDE_DIRECTION = EAST
  REFERENCE_LATITUDE = "N/A"
  REFERENCE_LONGITUDE = "N/A"
  SAMPLE_FIRST_PIXEL = 1
  SAMPLE_LAST_PIXEL = 3510
  SAMPLE_PROJECTION_OFFSET = 2076.875
  SECOND_STANDARD_PARALLEL = "N/A"
  WESTERNMOST_LONGITUDE = 207.413
END_OBJECT = IMAGE_MAP_PROJECTION
/* The JPEG2000 image data file associated with this label. */
OBJECT = COMPRESSED_FILE
  FILE_NAME = "H0299_0001_IR3.JP2"
  RECORD_TYPE = UNDEFINED
  FILE_RECORDS = UNK
  ENCODING_TYPE = "JP2"
  INTERCHANGE_FORMAT = BINARY
  UNCOMPRESSED_FILE_NAME = "H0299_0001_IR3.IMG"
  REQUIRED_STORAGE_BYTES = "81568890"
  ^DESCRIPTION = "JP2INFO.TXT"
END_OBJECT = COMPRESSED_FILE
END
