PDS_VERSION_ID = PDS3
/* FILE DATA ELEMENTS */
RECORD_TYPE = STREAM
/* POINTERS TO DATA OBJECTS */
^COMPRESSED_FILE = "H0299_0005_SR3.JP2"
/* IDENTIFICATION DATA ELEMENTS */
DATA_SET_ID = "MEX-M-HRSC-5-REFDR-MAPPROJECTED-V3.0"
DATA_SET_NAME = "MARS EXPRESS HRSC MAP PROJECTED REFDR V3.0"
DETECTOR_ID = MEX_HRSC_SRC
EVENT_TYPE = "MARS-REGIONAL-MAPPING-Te-Im-Fl"
INSTRUMENT_HOST_ID = MEX
INSTRUMENT_HOST_NAME = "MARS EXPRESS"
INSTRUMENT_ID = HRSC
INSTRUMENT_NAME = "HIGH RESOLUTION STEREO CAMERA"
MISSION_NAME = "MARS EXPRESS"
MISSION_PHASE_NAME = MC_Phase_5
PROCESSING_LEVEL_ID = 3
PRODUCT_CREATION_TIME = 2016-03-02T22:59:35.000Z
PRODUCT_ID = "H0299_0005_SR3.JP2"
RELEASE_ID = 0005
REVISION_ID = 0000
/* QUALITY DATA ELEMENTS */
DATA_QUALITY_ID = 1
DATA_QUALITY_DESC = "Data calculated based on original SPICE kernels"
/* TIME DATA ELEMENTS */
SPACECRAFT_CLOCK_START_COUNT = "1/0029947785.57312"
SPACECRAFT_CLOCK_STOP_COUNT = "1/0029948299.48536"
IMAGE_TIME = 2004-04-13T14:54:18.885Z
START_TIME = 2004-04-13T14:54:18.882Z
STOP_TIME = 2004-04-13T14:54:18.887Z
/* ORBITAL DATA ELEMENTS */
ASCENDING_NODE_LONGITUDE = 222.79
MAXIMUM_RESOLUTION = 6.141
FOOTPRINT_POINT_LATITUDE = (-7.86966,-7.87505,-7.87806,-7.88283, -7.88905,-7.89424,-7.89777,-7.90067, -7.90409,-7.90907,-7.91249,-7.91737, -7.92079,-7.92422,-7.92888,-7.93262, -7.93645,-7.94174,-7.94766,-7.95098, -7.95606,-7.95938,-7.96322,-7.96747, -7.97361,-7.97367,-7.97374,-7.9738, -7.97387,-7.97393,-7.974,-7.97406, -7.97412,-7.97419,-7.97425,-7.97432, -7.97438,-7.97445,-7.97451,-7.97458, -7.97464,-7.9747,-7.97477,-7.97483, -7.9749,-7.97496,-7.97503,-7.97509, -7.97515,-7.97522,-7.97056,-7.96486, -7.95864,-7.95491,-7.95191,-7.94787, -7.94382,-7.94082,-7.93678,-7.93398, -7.93087,-7.9259,-7.92123,-7.91553, -7.91201,-7.90921,-7.90372,-7.9003, -7.89626,-7.89139,-7.88818,-7.88527, -7.88113,-7.87792,-7.87346,-7.8708, -7.87073,-7.87066,-7.8706,-7.87053, -7.87046,-7.87039,-7.87033,-7.87026, -7.87019,-7.87012,-7.87005,-7.86999, -7.86992,-7.86985,-7.86978,-7.86971, -7.86965,-7.86958,-7.86951,-7.86944, -7.86937,-7.8693,-7.86924,-7.86966)
FOOTPRINT_POINT_LONGITUDE = (208.848,208.848,208.848,208.848, 208.848,208.848,208.848,208.848,208.848 ,208.849,208.849,208.849,208.849, 208.849,208.849,208.849,208.849,208.849 ,208.849,208.849,208.849,208.849, 208.849,208.85,208.848,208.844,208.84, 208.836,208.832,208.827,208.823,208.819 ,208.815,208.811,208.806,208.802, 208.798,208.794,208.79,208.785,208.781, 208.777,208.773,208.769,208.764,208.76, 208.756,208.752,208.747,208.743,208.743 ,208.742,208.742,208.742,208.742, 208.742,208.742,208.742,208.742,208.742 ,208.742,208.742,208.742,208.742, 208.742,208.742,208.741,208.741,208.741 ,208.741,208.741,208.741,208.741, 208.741,208.741,208.745,208.749,208.754 ,208.758,208.762,208.766,208.77,208.775 ,208.779,208.783,208.787,208.791, 208.796,208.8,208.804,208.808,208.813, 208.817,208.821,208.825,208.829,208.834 ,208.838,208.842,208.848)
ORBIT_NUMBER = 299
ORBITAL_ECCENTRICITY = 0.607
ORBITAL_INCLINATION = 86.59
ORBITAL_SEMIMAJOR_AXIS = 9276.97
PERIAPSIS_ALTITUDE = 263.44
PERIAPSIS_ARGUMENT_ANGLE = 308.89
PERIAPSIS_TIME = 2004-04-13T14:42:57.000Z
SPACECRAFT_ORIENTATION = (0.0,-1.0,0.0)
^MEX_ORIENTATION_DESC = "MEX_ORIENTATION_DESC.TXT"
SPACECRAFT_POINTING_MODE = ACROSSTRACK
^MEX_POINTING_DESC = "MEX_POINTING_DESC.TXT"
RIGHT_ASCENSION = -1e+32
DECLINATION = -1e+32
OFFSET_ANGLE = -0.9
SPACECRAFT_SOLAR_DISTANCE = 2.39704e+08
TARGET_NAME = MARS
/* CAMERA DATA ELEMENTS */
BUFFER_MODE_ID = DIRECT
EXPOSURE_DURATION = 5.04
INST_CMPRS_NAME = NONE
INST_CMPRS_RATIO = 1.0
INST_CMPRS_QUALITY = -2147483648
INST_CMPRS_QUANTZ_TBL_ID = -2147483648
INSTRUMENT_TEMPERATURE = 11.2121
MISSING_FRAMES = 0
START_BIT = 0
/* RADIOMETRIC DATA ELEMENTS */
BANDWIDTH = 250.0
CENTER_FILTER_WAVELENGTH = 600.0
RADIANCE_OFFSET = -9.99e+31
RADIANCE_SCALING_FACTOR = -9.99e+31
REFLECTANCE_SCALING_FACTOR = -9.99e+31
MEX:REFLECTANCE_OFFSET = -9.99e+31
/* IMAGE OBJECT DEFINITIONS */
OBJECT = IMAGE
  INTERCHANGE_FORMAT = BINARY
  LINES = 1299
  LINE_SAMPLES = 1318
  SAMPLE_TYPE = UNSIGNED_INTEGER
  SAMPLE_BITS = 8
  BANDS = 1
  BAND_STORAGE_TYPE = BAND_SEQUENTIAL
  MAXIMUM = 8650
  MEAN = 7714.33
  MINIMUM = 0
  STANDARD_DEVIATION = 308.261
END_OBJECT = IMAGE
/* MAP OBJECT DEFINITIONS */
OBJECT = IMAGE_MAP_PROJECTION
  ^DATA_SET_MAP_PROJECTION_CATALOG= "DSMAP.CAT"
  A_AXIS_RADIUS = 3396.19
  B_AXIS_RADIUS = 3396.19
  C_AXIS_RADIUS = 3396.19
  CENTER_LATITUDE = 0.0
  CENTER_LONGITUDE = 209.0
  COORDINATE_SYSTEM_NAME = PLANETOGRAPHIC
  COORDINATE_SYSTEM_TYPE = "BODY-FIXED ROTATING"
  EASTERNMOST_LONGITUDE = 208.85
  FIRST_STANDARD_PARALLEL = "N/A"
  LINE_FIRST_PIXEL = 1
  LINE_LAST_PIXEL = 1299
  LINE_PROJECTION_OFFSET = -93265.0
  MAP_PROJECTION_ROTATION = 0.0
  MAP_PROJECTION_TYPE = SINUSOIDAL
  MAP_RESOLUTION = 11854.9393024378
  MAP_SCALE = 0.005
  MAXIMUM_LATITUDE = -7.86924
  MINIMUM_LATITUDE = -7.97522
  POSITIVE_LONGITUDE_DIRECTION = EAST
  REFERENCE_LATITUDE = "N/A"
  REFERENCE_LONGITUDE = "N/A"
  SAMPLE_FIRST_PIXEL = 1
  SAMPLE_LAST_PIXEL = 1318
  SAMPLE_PROJECTION_OFFSET = 3058.0
  SECOND_STANDARD_PARALLEL = "N/A"
  WESTERNMOST_LONGITUDE = 208.741
END_OBJECT = IMAGE_MAP_PROJECTION
/* The JPEG2000 image data file associated with this label. */
OBJECT = COMPRESSED_FILE
  FILE_NAME = "H0299_0005_SR3.JP2"
  RECORD_TYPE = UNDEFINED
  FILE_RECORDS = UNK
  ENCODING_TYPE = "JP2"
  INTERCHANGE_FORMAT = BINARY
  UNCOMPRESSED_FILE_NAME = "H0299_0005_SR3.IMG"
  REQUIRED_STORAGE_BYTES = "1731852"
  ^DESCRIPTION = "JP2INFO.TXT"
END_OBJECT = COMPRESSED_FILE
END
