PDS_VERSION_ID = PDS3
/* FILE DATA ELEMENTS */
RECORD_TYPE = STREAM
/* POINTERS TO DATA OBJECTS */
^COMPRESSED_FILE = "H0330_0007_SR3.JP2"
/* IDENTIFICATION DATA ELEMENTS */
DATA_SET_ID = "MEX-M-HRSC-5-REFDR-MAPPROJECTED-V3.0"
DATA_SET_NAME = "MARS EXPRESS HRSC MAP PROJECTED REFDR V3.0"
DETECTOR_ID = MEX_HRSC_SRC
EVENT_TYPE = "MARS-LOCAL-COLOR-Im-Fl-Lc"
INSTRUMENT_HOST_ID = MEX
INSTRUMENT_HOST_NAME = "MARS EXPRESS"
INSTRUMENT_ID = HRSC
INSTRUMENT_NAME = "HIGH RESOLUTION STEREO CAMERA"
MISSION_NAME = "MARS EXPRESS"
MISSION_PHASE_NAME = MC_Phase_6
PROCESSING_LEVEL_ID = 3
PRODUCT_CREATION_TIME = 2016-03-03T01:16:01.000Z
PRODUCT_ID = "H0330_0007_SR3.JP2"
RELEASE_ID = 0006
REVISION_ID = 0000
/* QUALITY DATA ELEMENTS */
DATA_QUALITY_ID = 1
DATA_QUALITY_DESC = "Data calculated based on original SPICE kernels"
/* TIME DATA ELEMENTS */
SPACECRAFT_CLOCK_START_COUNT = "1/0030793809.57313"
SPACECRAFT_CLOCK_STOP_COUNT = "1/0030794102.19288"
IMAGE_TIME = 2004-04-23T09:53:02.594Z
START_TIME = 2004-04-23T09:53:02.592Z
STOP_TIME = 2004-04-23T09:53:02.596Z
/* ORBITAL DATA ELEMENTS */
ASCENDING_NODE_LONGITUDE = 222.17
MAXIMUM_RESOLUTION = 9.999
FOOTPRINT_POINT_LATITUDE = (-8.37504,-8.38106,-8.38708,-8.3931, -8.39911,-8.40513,-8.41114,-8.41715, -8.42315,-8.42915,-8.43515,-8.44115, -8.44715,-8.45314,-8.45913,-8.46512, -8.4711,-8.47709,-8.48307,-8.48904, -8.49502,-8.50099,-8.50696,-8.51293, -8.51889,-8.52486,-8.53103,-8.54218, -8.54813,-8.55407,-8.56001,-8.56334, -8.56404,-8.5693,-8.57017,-8.57087, -8.57157,-8.57226,-8.57295,-8.57364, -8.57433,-8.57501,-8.5757,-8.57638, -8.57705,-8.57773,-8.57841,-8.57908, -8.57975,-8.58041,-8.58108,-8.58174, -8.5824,-8.58306,-8.58372,-8.58437, -8.58201,-8.57033,-8.55864,-8.54694, -8.53084,-8.52785,-8.51612,-8.50438, -8.49263,-8.48087,-8.4691,-8.45732, -8.44553,-8.43373,-8.42192,-8.4101, -8.40419,-8.39714,-8.39638,-8.39561, -8.39483,-8.39406,-8.39328,-8.3925, -8.39172,-8.39094,-8.39015,-8.38936, -8.38857,-8.38777,-8.38698,-8.38618, -8.38518,-8.37635,-8.37554,-8.37473, -8.37391,-8.37309,-8.37227,-8.37145, -8.37062,-8.36979,-8.36896,-8.37504)
FOOTPRINT_POINT_LONGITUDE = (24.7735,24.7709,24.7683,24.7658, 24.7632,24.7607,24.7581,24.7556,24.753, 24.7505,24.7479,24.7454,24.7428,24.7403 ,24.7378,24.7352,24.7327,24.7302, 24.7276,24.7251,24.7226,24.7201,24.7176 ,24.715,24.7125,24.71,24.688,24.6833, 24.6808,24.6783,24.6758,24.662,24.6495, 24.6277,24.6122,24.5998,24.5875,24.5751 ,24.5628,24.5505,24.5382,24.5259, 24.5136,24.5014,24.4891,24.4769,24.4647 ,24.4526,24.4404,24.4283,24.4161,24.404 ,24.3919,24.3798,24.3678,24.3557, 24.3467,24.3515,24.3563,24.3611,24.3677 ,24.3778,24.3826,24.3874,24.3922, 24.3971,24.4019,24.4067,24.4116,24.4165 ,24.4213,24.4262,24.4287,24.4319,24.444 ,24.4562,24.4684,24.4807,24.4929, 24.5052,24.5174,24.5297,24.542,24.5544, 24.5667,24.5791,24.5914,24.6038,24.6194 ,24.6526,24.6651,24.6776,24.6901, 24.7027,24.7152,24.7278,24.7404,24.753, 24.7656,24.7735)
ORBIT_NUMBER = 330
ORBITAL_ECCENTRICITY = 0.607
ORBITAL_INCLINATION = 86.56
ORBITAL_SEMIMAJOR_AXIS = 9271.35
PERIAPSIS_ALTITUDE = 264.74
PERIAPSIS_ARGUMENT_ANGLE = 303.65
PERIAPSIS_TIME = 2004-04-23T09:41:18.000Z
SPACECRAFT_ORIENTATION = (0.0,-1.0,0.0)
^MEX_ORIENTATION_DESC = "MEX_ORIENTATION_DESC.TXT"
SPACECRAFT_POINTING_MODE = INERT
^MEX_POINTING_DESC = "MEX_POINTING_DESC.TXT"
RIGHT_ASCENSION = 19.826
DECLINATION = 59.857
OFFSET_ANGLE = -1e+32
SPACECRAFT_SOLAR_DISTANCE = 2.41168e+08
TARGET_NAME = MARS
/* CAMERA DATA ELEMENTS */
BUFFER_MODE_ID = BUFFER_8
EXPOSURE_DURATION = 3.528
INST_CMPRS_NAME = NONE
INST_CMPRS_RATIO = 1.0
INST_CMPRS_QUALITY = -2147483648
INST_CMPRS_QUANTZ_TBL_ID = -2147483648
INSTRUMENT_TEMPERATURE = 9.56921
MISSING_FRAMES = 0
START_BIT = 0
/* RADIOMETRIC DATA ELEMENTS */
BANDWIDTH = 250.0
CENTER_FILTER_WAVELENGTH = 600.0
RADIANCE_OFFSET = -9.99e+31
RADIANCE_SCALING_FACTOR = -9.99e+31
REFLECTANCE_SCALING_FACTOR = -9.99e+31
MEX:REFLECTANCE_OFFSET = -9.99e+31
/* IMAGE OBJECT DEFINITIONS */
OBJECT = IMAGE
  INTERCHANGE_FORMAT = BINARY
  LINES = 1256
  LINE_SAMPLES = 2324
  SAMPLE_TYPE = UNSIGNED_INTEGER
  SAMPLE_BITS = 8
  BANDS = 1
  BAND_STORAGE_TYPE = BAND_SEQUENTIAL
  MAXIMUM = 4067
  MEAN = 3505.7
  MINIMUM = 2956
  STANDARD_DEVIATION = 86.189
END_OBJECT = IMAGE
/* MAP OBJECT DEFINITIONS */
OBJECT = IMAGE_MAP_PROJECTION
  ^DATA_SET_MAP_PROJECTION_CATALOG= "DSMAP.CAT"
  A_AXIS_RADIUS = 3396.19
  B_AXIS_RADIUS = 3396.19
  C_AXIS_RADIUS = 3396.19
  CENTER_LATITUDE = 0.0
  CENTER_LONGITUDE = 25.0
  COORDINATE_SYSTEM_NAME = PLANETOGRAPHIC
  COORDINATE_SYSTEM_TYPE = "BODY-FIXED ROTATING"
  EASTERNMOST_LONGITUDE = 24.7735
  FIRST_STANDARD_PARALLEL = "N/A"
  LINE_FIRST_PIXEL = 1
  LINE_LAST_PIXEL = 1256
  LINE_PROJECTION_OFFSET = -49640.0
  MAP_PROJECTION_ROTATION = 0.0
  MAP_PROJECTION_TYPE = SINUSOIDAL
  MAP_RESOLUTION = 5927.46965121889
  MAP_SCALE = 0.01
  MAXIMUM_LATITUDE = -8.36896
  MINIMUM_LATITUDE = -8.58437
  POSITIVE_LONGITUDE_DIRECTION = EAST
  REFERENCE_LATITUDE = "N/A"
  REFERENCE_LONGITUDE = "N/A"
  SAMPLE_FIRST_PIXEL = 1
  SAMPLE_LAST_PIXEL = 2324
  SAMPLE_PROJECTION_OFFSET = 3816.0
  SECOND_STANDARD_PARALLEL = "N/A"
  WESTERNMOST_LONGITUDE = 24.3467
END_OBJECT = IMAGE_MAP_PROJECTION
/* The JPEG2000 image data file associated with this label. */
OBJECT = COMPRESSED_FILE
  FILE_NAME = "H0330_0007_SR3.JP2"
  RECORD_TYPE = UNDEFINED
  FILE_RECORDS = UNK
  ENCODING_TYPE = "JP2"
  INTERCHANGE_FORMAT = BINARY
  UNCOMPRESSED_FILE_NAME = "H0330_0007_SR3.IMG"
  REQUIRED_STORAGE_BYTES = "2942184"
  ^DESCRIPTION = "JP2INFO.TXT"
END_OBJECT = COMPRESSED_FILE
END
