PDS_VERSION_ID = PDS3
/* FILE DATA ELEMENTS */
RECORD_TYPE = STREAM
/* POINTERS TO DATA OBJECTS */
^COMPRESSED_FILE = "H0332_0000_ND3.JP2"
/* IDENTIFICATION DATA ELEMENTS */
DATA_SET_ID = "MEX-M-HRSC-5-REFDR-MAPPROJECTED-V3.0"
DATA_SET_NAME = "MARS EXPRESS HRSC MAP PROJECTED REFDR V3.0"
DETECTOR_ID = MEX_HRSC_NADIR
EVENT_TYPE = "MARS-LOCAL-MAPPING-Im-Mw-Ot"
INSTRUMENT_HOST_ID = MEX
INSTRUMENT_HOST_NAME = "MARS EXPRESS"
INSTRUMENT_ID = HRSC
INSTRUMENT_NAME = "HIGH RESOLUTION STEREO CAMERA"
MISSION_NAME = "MARS EXPRESS"
MISSION_PHASE_NAME = MC_Phase_6
PROCESSING_LEVEL_ID = 3
PRODUCT_CREATION_TIME = 2016-03-03T01:16:01.000Z
PRODUCT_ID = "H0332_0000_ND3.JP2"
RELEASE_ID = 0006
REVISION_ID = 0000
/* QUALITY DATA ELEMENTS */
DATA_QUALITY_ID = 1
DATA_QUALITY_DESC = "Data calculated based on original SPICE kernels"
/* TIME DATA ELEMENTS */
SPACECRAFT_CLOCK_START_COUNT = "1/0030847743.56178"
SPACECRAFT_CLOCK_STOP_COUNT = "1/0030847845.55453"
START_TIME = 2004-04-24T00:49:36.784Z
STOP_TIME = 2004-04-24T00:50:29.789Z
/* ORBITAL DATA ELEMENTS */
ASCENDING_NODE_LONGITUDE = 222.12
MAXIMUM_RESOLUTION = 10.6
FOOTPRINT_POINT_LATITUDE = (-62.5134,-62.5271,-62.5402,-62.5465, -62.5527,-62.5587,-62.5646,-62.5703, -62.5758,-62.5842,-62.4407,-62.3689, -62.2971,-62.2253,-62.1535,-62.0817, -62.0099,-61.9381,-61.8663,-61.7945, -61.7226,-61.6508,-61.579,-61.4713, -61.3995,-61.3275,-61.2196,-61.1477, -61.0758,-61.0039,-60.932,-60.8241, -60.7162,-60.6443,-60.5364,-60.4645, -60.3925,-60.3206,-60.2126,-60.1047, -60.0327,-59.9607,-59.8887,-59.7808, -59.7088,-59.6367,-59.5647,-59.4567, -59.3847,-59.3127,-59.2406,-59.1326, -59.0606,-58.9848,-58.9796,-58.9717, -58.9629,-58.9556,-58.9494,-58.9431, -58.9373,-58.9292,-58.9231,-58.9924, -59.0642,-59.1359,-59.2436,-59.3153, -59.387,-59.4587,-59.5663,-59.638, -59.7097,-59.8173,-59.889,-59.9965, -60.0682,-60.1399,-60.2474,-60.319, -60.4265,-60.4981,-60.5697,-60.6413, -60.7129,-60.7845,-60.8919,-60.9992, -61.1066,-61.2497,-61.3928,-61.5358, -61.6788,-61.786,-61.929,-62.0362, -62.179,-62.3219,-62.5003,-62.5134)
FOOTPRINT_POINT_LONGITUDE = (147.413,147.721,148.032,148.188, 148.345,148.503,148.661,148.82,148.98, 149.19,149.211,149.221,149.231,149.241, 149.251,149.26,149.27,149.28,149.289, 149.299,149.308,149.318,149.329,149.345 ,149.355,149.363,149.374,149.383, 149.392,149.402,149.411,149.424,149.437 ,149.446,149.459,149.468,149.477, 149.486,149.499,149.512,149.521,149.528 ,149.537,149.55,149.558,149.566,149.574 ,149.586,149.594,149.602,149.61,149.621 ,149.629,149.527,149.363,149.127, 148.874,148.677,148.517,148.357,148.215 ,148.022,147.882,147.809,147.796, 147.784,147.765,147.753,147.74,147.728, 147.708,147.695,147.683,147.663,147.65, 147.63,147.617,147.603,147.583,147.569, 147.548,147.535,147.521,147.507,147.492 ,147.478,147.457,147.435,147.413, 147.383,147.353,147.323,147.292,147.269 ,147.238,147.214,147.182,147.149, 147.108,147.413)
ORBIT_NUMBER = 332
ORBITAL_ECCENTRICITY = 0.607
ORBITAL_INCLINATION = 86.56
ORBITAL_SEMIMAJOR_AXIS = 9271.63
PERIAPSIS_ALTITUDE = 265.54
PERIAPSIS_ARGUMENT_ANGLE = 303.34
PERIAPSIS_TIME = 2004-04-24T00:51:05.000Z
SPACECRAFT_ORIENTATION = (0.0,-1.0,0.0)
^MEX_ORIENTATION_DESC = "MEX_ORIENTATION_DESC.TXT"
SPACECRAFT_POINTING_MODE = ACROSSTRACK
^MEX_POINTING_DESC = "MEX_POINTING_DESC.TXT"
RIGHT_ASCENSION = -1e+32
DECLINATION = -1e+32
OFFSET_ANGLE = -0.458
SPACECRAFT_SOLAR_DISTANCE = 2.41259e+08
TARGET_NAME = MARS
/* CAMERA DATA ELEMENTS */
DETECTOR_TEMPERATURE = 18.1666
FOCAL_PLANE_TEMPERATURE = 7.7677
INST_CMPRS_NAME = "DISCRETE COSINE TRANSFORMATION (DCT)"
INST_CMPRS_RATIO = 6.82931
INST_CMPRS_QUALITY = 0
INST_CMPRS_QUANTZ_TBL_ID = 0
INSTRUMENT_TEMPERATURE = 10.8262
LENS_TEMPERATURE = 8.5833
MACROPIXEL_SIZE = 1
MISSING_FRAMES = 0
PIXEL_SUBSAMPLING_FLAG = N
SIGNAL_CHAIN_ID = 0
/* RADIOMETRIC DATA ELEMENTS */
BANDWIDTH = 177.0
CENTER_FILTER_WAVELENGTH = 677.5
RADIANCE_OFFSET = 1.17972
RADIANCE_SCALING_FACTOR = 0.00439505
REFLECTANCE_SCALING_FACTOR = 0.000135899
MEX:REFLECTANCE_OFFSET = 0.0364781
/* IMAGE OBJECT DEFINITIONS */
OBJECT = IMAGE
  INTERCHANGE_FORMAT = BINARY
  LINES = 17358
  LINE_SAMPLES = 6102
  SAMPLE_TYPE = UNSIGNED_INTEGER
  SAMPLE_BITS = 8
  BANDS = 1
  BAND_STORAGE_TYPE = BAND_SEQUENTIAL
  MAXIMUM = 123
  MEAN = 58.8284
  MINIMUM = 36
  STANDARD_DEVIATION = 5.11649
END_OBJECT = IMAGE
/* MAP OBJECT DEFINITIONS */
OBJECT = IMAGE_MAP_PROJECTION
  ^DATA_SET_MAP_PROJECTION_CATALOG= "DSMAP.CAT"
  A_AXIS_RADIUS = 3396.0
  B_AXIS_RADIUS = 3396.0
  C_AXIS_RADIUS = 3396.0
  CENTER_LATITUDE = 0.0
  CENTER_LONGITUDE = 148.0
  COORDINATE_SYSTEM_NAME = PLANETOGRAPHIC
  COORDINATE_SYSTEM_TYPE = "BODY-FIXED ROTATING"
  EASTERNMOST_LONGITUDE = 149.629
  FIRST_STANDARD_PARALLEL = "N/A"
  LINE_FIRST_PIXEL = 1
  LINE_LAST_PIXEL = 17358
  LINE_PROJECTION_OFFSET = -279378.0
  MAP_PROJECTION_ROTATION = 0.0
  MAP_PROJECTION_TYPE = SINUSOIDAL
  MAP_RESOLUTION = 4741.71043093333
  MAP_SCALE = 0.0125
  MAXIMUM_LATITUDE = -58.9231
  MINIMUM_LATITUDE = -62.5842
  POSITIVE_LONGITUDE_DIRECTION = EAST
  REFERENCE_LATITUDE = "N/A"
  REFERENCE_LONGITUDE = "N/A"
  SAMPLE_FIRST_PIXEL = 1
  SAMPLE_LAST_PIXEL = 6102
  SAMPLE_PROJECTION_OFFSET = 1951.0
  SECOND_STANDARD_PARALLEL = "N/A"
  WESTERNMOST_LONGITUDE = 147.108
END_OBJECT = IMAGE_MAP_PROJECTION
/* The JPEG2000 image data file associated with this label. */
OBJECT = COMPRESSED_FILE
  FILE_NAME = "H0332_0000_ND3.JP2"
  RECORD_TYPE = UNDEFINED
  FILE_RECORDS = UNK
  ENCODING_TYPE = "JP2"
  INTERCHANGE_FORMAT = BINARY
  UNCOMPRESSED_FILE_NAME = "H0332_0000_ND3.IMG"
  REQUIRED_STORAGE_BYTES = "105949026"
  ^DESCRIPTION = "JP2INFO.TXT"
END_OBJECT = COMPRESSED_FILE
END
