PDS_VERSION_ID = PDS3
/* FILE DATA ELEMENTS */
RECORD_TYPE = STREAM
/* POINTERS TO DATA OBJECTS */
^COMPRESSED_FILE = "H0332_0000_P23.JP2"
/* IDENTIFICATION DATA ELEMENTS */
DATA_SET_ID = "MEX-M-HRSC-5-REFDR-MAPPROJECTED-V3.0"
DATA_SET_NAME = "MARS EXPRESS HRSC MAP PROJECTED REFDR V3.0"
DETECTOR_ID = MEX_HRSC_P2
EVENT_TYPE = "MARS-LOCAL-MAPPING-Im-Mw-Ot"
INSTRUMENT_HOST_ID = MEX
INSTRUMENT_HOST_NAME = "MARS EXPRESS"
INSTRUMENT_ID = HRSC
INSTRUMENT_NAME = "HIGH RESOLUTION STEREO CAMERA"
MISSION_NAME = "MARS EXPRESS"
MISSION_PHASE_NAME = MC_Phase_6
PROCESSING_LEVEL_ID = 3
PRODUCT_CREATION_TIME = 2016-03-03T01:16:01.000Z
PRODUCT_ID = "H0332_0000_P23.JP2"
RELEASE_ID = 0006
REVISION_ID = 0000
/* QUALITY DATA ELEMENTS */
DATA_QUALITY_ID = 1
DATA_QUALITY_DESC = "Data calculated based on original SPICE kernels"
/* TIME DATA ELEMENTS */
SPACECRAFT_CLOCK_START_COUNT = "1/0030847743.56178"
SPACECRAFT_CLOCK_STOP_COUNT = "1/0030847845.55453"
START_TIME = 2004-04-24T00:49:52.285Z
STOP_TIME = 2004-04-24T00:50:44.954Z
/* ORBITAL DATA ELEMENTS */
ASCENDING_NODE_LONGITUDE = 222.12
MAXIMUM_RESOLUTION = 43.5
FOOTPRINT_POINT_LATITUDE = (-62.4412,-62.4571,-62.4727,-62.4879, -62.5026,-62.5169,-62.5489,-62.4776, -62.4061,-62.3348,-62.2633,-62.192, -62.085,-62.0134,-61.9419,-61.8705, -61.7991,-61.7276,-61.6562,-61.5502, -61.4447,-61.3733,-61.301,-61.1922, -61.121,-61.0496,-60.9783,-60.8713, -60.7999,-60.6927,-60.6213,-60.55, -60.4433,-60.3721,-60.2651,-60.1584, -60.0872,-59.9802,-59.9086,-59.8373, -59.7663,-59.695,-59.5879,-59.5165, -59.4451,-59.3738,-59.3025,-59.1956, -59.1243,-59.0531,-58.9852,-58.9715, -58.9626,-58.9553,-58.9481,-58.9409, -58.9277,-58.9156,-58.9049,-58.971, -59.042,-59.1489,-59.2201,-59.2911, -59.3972,-59.5388,-59.6457,-59.7169, -59.8235,-59.8946,-59.9658,-60.0367, -60.1078,-60.2143,-60.3209,-60.3919, -60.4983,-60.5692,-60.64,-60.7462, -60.8523,-60.9938,-61.065,-61.1717, -61.243,-61.3142,-61.3853,-61.4919, -61.5984,-61.6695,-61.7407,-61.8474, -61.9186,-61.9898,-62.0966,-62.1678, -62.2743,-62.3455,-62.4174,-62.4412)
FOOTPRINT_POINT_LONGITUDE = (147.349,147.635,147.924,148.216,148.51 ,148.806,149.19,149.2,149.21,149.22, 149.23,149.24,149.255,149.265,149.275, 149.284,149.294,149.303,149.313,149.329 ,149.346,149.355,149.363,149.374, 149.383,149.393,149.402,149.416,149.424 ,149.438,149.446,149.455,149.469, 149.478,149.491,149.504,149.513,149.525 ,149.533,149.541,149.55,149.558,149.57, 149.578,149.586,149.594,149.602,149.614 ,149.622,149.63,149.569,149.26,149.072, 148.919,148.767,148.616,148.365,148.132 ,147.934,147.818,147.806,147.788, 147.775,147.763,147.745,147.72,147.701, 147.688,147.669,147.656,147.643,147.63, 147.617,147.597,147.577,147.563,147.543 ,147.529,147.515,147.495,147.474, 147.445,147.431,147.409,147.395,147.38, 147.365,147.343,147.32,147.305,147.29, 147.267,147.251,147.236,147.212,147.196 ,147.172,147.156,147.14,147.349)
ORBIT_NUMBER = 332
ORBITAL_ECCENTRICITY = 0.607
ORBITAL_INCLINATION = 86.56
ORBITAL_SEMIMAJOR_AXIS = 9271.63
PERIAPSIS_ALTITUDE = 265.54
PERIAPSIS_ARGUMENT_ANGLE = 303.34
PERIAPSIS_TIME = 2004-04-24T00:51:05.000Z
SPACECRAFT_ORIENTATION = (0.0,-1.0,0.0)
^MEX_ORIENTATION_DESC = "MEX_ORIENTATION_DESC.TXT"
SPACECRAFT_POINTING_MODE = ACROSSTRACK
^MEX_POINTING_DESC = "MEX_POINTING_DESC.TXT"
RIGHT_ASCENSION = -1e+32
DECLINATION = -1e+32
OFFSET_ANGLE = -0.458
SPACECRAFT_SOLAR_DISTANCE = 2.41259e+08
TARGET_NAME = MARS
/* CAMERA DATA ELEMENTS */
DETECTOR_TEMPERATURE = 18.1666
FOCAL_PLANE_TEMPERATURE = 7.7677
INST_CMPRS_NAME = "DISCRETE COSINE TRANSFORMATION (DCT)"
INST_CMPRS_RATIO = 18.6846
INST_CMPRS_QUALITY = 0
INST_CMPRS_QUANTZ_TBL_ID = 0
INSTRUMENT_TEMPERATURE = 10.8262
LENS_TEMPERATURE = 8.5833
MACROPIXEL_SIZE = 4
MISSING_FRAMES = 0
PIXEL_SUBSAMPLING_FLAG = N
SIGNAL_CHAIN_ID = 3
/* RADIOMETRIC DATA ELEMENTS */
BANDWIDTH = 177.0
CENTER_FILTER_WAVELENGTH = 676.5
RADIANCE_OFFSET = 1.49962
RADIANCE_SCALING_FACTOR = 0.00446136
REFLECTANCE_SCALING_FACTOR = 0.000137687
MEX:REFLECTANCE_OFFSET = 0.0462814
/* IMAGE OBJECT DEFINITIONS */
OBJECT = IMAGE
  INTERCHANGE_FORMAT = BINARY
  LINES = 4340
  LINE_SAMPLES = 1526
  SAMPLE_TYPE = UNSIGNED_INTEGER
  SAMPLE_BITS = 8
  BANDS = 1
  BAND_STORAGE_TYPE = BAND_SEQUENTIAL
  MAXIMUM = 103
  MEAN = 77.9644
  MINIMUM = 58
  STANDARD_DEVIATION = 6.66736
END_OBJECT = IMAGE
/* MAP OBJECT DEFINITIONS */
OBJECT = IMAGE_MAP_PROJECTION
  ^DATA_SET_MAP_PROJECTION_CATALOG= "DSMAP.CAT"
  A_AXIS_RADIUS = 3396.0
  B_AXIS_RADIUS = 3396.0
  C_AXIS_RADIUS = 3396.0
  CENTER_LATITUDE = 0.0
  CENTER_LONGITUDE = 148.0
  COORDINATE_SYSTEM_NAME = PLANETOGRAPHIC
  COORDINATE_SYSTEM_TYPE = "BODY-FIXED ROTATING"
  EASTERNMOST_LONGITUDE = 149.63
  FIRST_STANDARD_PARALLEL = "N/A"
  LINE_FIRST_PIXEL = 1
  LINE_LAST_PIXEL = 4340
  LINE_PROJECTION_OFFSET = -69844.875
  MAP_PROJECTION_ROTATION = 0.0
  MAP_PROJECTION_TYPE = SINUSOIDAL
  MAP_RESOLUTION = 1185.42760773333
  MAP_SCALE = 0.05
  MAXIMUM_LATITUDE = -58.9049
  MINIMUM_LATITUDE = -62.5489
  POSITIVE_LONGITUDE_DIRECTION = EAST
  REFERENCE_LATITUDE = "N/A"
  REFERENCE_LONGITUDE = "N/A"
  SAMPLE_FIRST_PIXEL = 1
  SAMPLE_LAST_PIXEL = 1526
  SAMPLE_PROJECTION_OFFSET = 487.375
  SECOND_STANDARD_PARALLEL = "N/A"
  WESTERNMOST_LONGITUDE = 147.14
END_OBJECT = IMAGE_MAP_PROJECTION
/* The JPEG2000 image data file associated with this label. */
OBJECT = COMPRESSED_FILE
  FILE_NAME = "H0332_0000_P23.JP2"
  RECORD_TYPE = UNDEFINED
  FILE_RECORDS = UNK
  ENCODING_TYPE = "JP2"
  INTERCHANGE_FORMAT = BINARY
  UNCOMPRESSED_FILE_NAME = "H0332_0000_P23.IMG"
  REQUIRED_STORAGE_BYTES = "6642678"
  ^DESCRIPTION = "JP2INFO.TXT"
END_OBJECT = COMPRESSED_FILE
END
