PDS_VERSION_ID = PDS3
/* FILE DATA ELEMENTS */
RECORD_TYPE = STREAM
/* POINTERS TO DATA OBJECTS */
^COMPRESSED_FILE = "H0332_0001_RE3.JP2"
/* IDENTIFICATION DATA ELEMENTS */
DATA_SET_ID = "MEX-M-HRSC-5-REFDR-MAPPROJECTED-V3.0"
DATA_SET_NAME = "MARS EXPRESS HRSC MAP PROJECTED REFDR V3.0"
DETECTOR_ID = MEX_HRSC_RED
EVENT_TYPE = "MARS-LOCAL-MAPPING-Im-Mw-Ot"
INSTRUMENT_HOST_ID = MEX
INSTRUMENT_HOST_NAME = "MARS EXPRESS"
INSTRUMENT_ID = HRSC
INSTRUMENT_NAME = "HIGH RESOLUTION STEREO CAMERA"
MISSION_NAME = "MARS EXPRESS"
MISSION_PHASE_NAME = MC_Phase_6
PROCESSING_LEVEL_ID = 3
PRODUCT_CREATION_TIME = 2016-03-03T01:16:01.000Z
PRODUCT_ID = "H0332_0001_RE3.JP2"
RELEASE_ID = 0006
REVISION_ID = 0000
/* QUALITY DATA ELEMENTS */
DATA_QUALITY_ID = 1
DATA_QUALITY_DESC = "Data calculated based on original SPICE kernels"
/* TIME DATA ELEMENTS */
SPACECRAFT_CLOCK_START_COUNT = "1/0030847976.57935"
SPACECRAFT_CLOCK_STOP_COUNT = "1/0030848127.33435"
START_TIME = 2004-04-24T00:53:51.698Z
STOP_TIME = 2004-04-24T00:55:28.849Z
/* ORBITAL DATA ELEMENTS */
ASCENDING_NODE_LONGITUDE = 222.12
MAXIMUM_RESOLUTION = 96
FOOTPRINT_POINT_LATITUDE = (-46.6104,-46.6206,-46.6307,-46.6406, -46.6503,-46.6597,-46.669,-46.5432, -46.4272,-46.311,-46.1943,-46.0174, -45.8969,-45.7759,-45.6554,-45.5359, -45.4162,-45.2964,-45.1769,-45.0571, -44.8773,-44.7573,-44.6378,-44.5183, -44.3989,-44.2796,-44.1582,-43.9733, -43.8496,-43.6651,-43.4836,-43.3604, -43.237,-43.1138,-42.9902,-42.8646, -42.7414,-42.6198,-42.4945,-42.3673, -42.2402,-42.1137,-41.9871,-41.8602, -41.6702,-41.4805,-41.3537,-41.2273, -41.0339,-40.9033,-40.7723,-40.6423, -40.448,-40.4401,-40.4326,-40.417, -40.4065,-40.3984,-40.5249,-40.6555, -40.7855,-40.9806,-41.11,-41.2997, -41.4264,-41.6155,-41.7419,-41.9321, -42.1218,-42.2483,-42.3752,-42.5019, -42.6251,-42.809,-42.9317,-43.0546, -43.2391,-43.362,-43.4849,-43.6698, -43.7932,-43.9166,-44.04,-44.2227, -44.342,-44.5208,-44.6397,-44.7589, -44.9367,-45.0551,-45.174,-45.3566, -45.4788,-45.5989,-45.718,-45.834, -45.9529,-46.1872,-46.4188,-46.6104)
FOOTPRINT_POINT_LONGITUDE = (149.164,149.375,149.586,149.799, 150.014,150.23,150.448,150.564,150.57, 150.576,150.581,150.59,150.596,150.601, 150.607,150.613,150.62,150.626,150.632, 150.638,150.646,150.651,150.657,150.663 ,150.668,150.674,150.679,150.688, 150.693,150.702,150.714,150.719,150.724 ,150.729,150.734,150.737,150.742, 150.748,150.754,150.759,150.764,150.769 ,150.774,150.779,150.786,150.794, 150.798,150.803,150.809,150.814,150.818 ,150.823,150.746,150.531,150.332, 149.965,149.658,149.463,149.326,149.322 ,149.319,149.314,149.31,149.304,149.3, 149.295,149.291,149.285,149.279,149.274 ,149.27,149.266,149.262,149.255,149.251 ,149.246,149.239,149.235,149.23,149.223 ,149.218,149.213,149.207,149.2,149.195, 149.187,149.182,149.176,149.168,149.163 ,149.157,149.149,149.143,149.137, 149.131,149.125,149.119,149.107,149.095 ,149.164)
ORBIT_NUMBER = 332
ORBITAL_ECCENTRICITY = 0.607
ORBITAL_INCLINATION = 86.56
ORBITAL_SEMIMAJOR_AXIS = 9271.63
PERIAPSIS_ALTITUDE = 265.54
PERIAPSIS_ARGUMENT_ANGLE = 303.34
PERIAPSIS_TIME = 2004-04-24T00:51:05.000Z
SPACECRAFT_ORIENTATION = (0.0,-1.0,0.0)
^MEX_ORIENTATION_DESC = "MEX_ORIENTATION_DESC.TXT"
SPACECRAFT_POINTING_MODE = ACROSSTRACK
^MEX_POINTING_DESC = "MEX_POINTING_DESC.TXT"
RIGHT_ASCENSION = -1e+32
DECLINATION = -1e+32
OFFSET_ANGLE = -0.458
SPACECRAFT_SOLAR_DISTANCE = 2.41259e+08
TARGET_NAME = MARS
/* CAMERA DATA ELEMENTS */
DETECTOR_TEMPERATURE = 19.1861
FOCAL_PLANE_TEMPERATURE = 7.9716
INST_CMPRS_NAME = "DISCRETE COSINE TRANSFORMATION (DCT)"
INST_CMPRS_RATIO = 17.9188
INST_CMPRS_QUALITY = 0
INST_CMPRS_QUANTZ_TBL_ID = 0
INSTRUMENT_TEMPERATURE = 11.8457
LENS_TEMPERATURE = 8.3794
MACROPIXEL_SIZE = 8
MISSING_FRAMES = 0
PIXEL_SUBSAMPLING_FLAG = N
SIGNAL_CHAIN_ID = 2
/* RADIOMETRIC DATA ELEMENTS */
BANDWIDTH = 48.0
CENTER_FILTER_WAVELENGTH = 748.0
RADIANCE_OFFSET = 0.682344
RADIANCE_SCALING_FACTOR = 0.00423678
REFLECTANCE_SCALING_FACTOR = 0.00056277
MEX:REFLECTANCE_OFFSET = 0.0906355
/* IMAGE OBJECT DEFINITIONS */
OBJECT = IMAGE
  INTERCHANGE_FORMAT = BINARY
  LINES = 3735
  LINE_SAMPLES = 761
  SAMPLE_TYPE = UNSIGNED_INTEGER
  SAMPLE_BITS = 8
  BANDS = 1
  BAND_STORAGE_TYPE = BAND_SEQUENTIAL
  MAXIMUM = 126
  MEAN = 86.3286
  MINIMUM = 46
  STANDARD_DEVIATION = 8.65116
END_OBJECT = IMAGE
/* MAP OBJECT DEFINITIONS */
OBJECT = IMAGE_MAP_PROJECTION
  ^DATA_SET_MAP_PROJECTION_CATALOG= "DSMAP.CAT"
  A_AXIS_RADIUS = 3396.0
  B_AXIS_RADIUS = 3396.0
  C_AXIS_RADIUS = 3396.0
  CENTER_LATITUDE = 0.0
  CENTER_LONGITUDE = 150.0
  COORDINATE_SYSTEM_NAME = PLANETOGRAPHIC
  COORDINATE_SYSTEM_TYPE = "BODY-FIXED ROTATING"
  EASTERNMOST_LONGITUDE = 150.823
  FIRST_STANDARD_PARALLEL = "N/A"
  LINE_FIRST_PIXEL = 1
  LINE_LAST_PIXEL = 3735
  LINE_PROJECTION_OFFSET = -23973.9375
  MAP_PROJECTION_ROTATION = 0.0
  MAP_PROJECTION_TYPE = SINUSOIDAL
  MAP_RESOLUTION = 592.713803866667
  MAP_SCALE = 0.1
  MAXIMUM_LATITUDE = -40.3984
  MINIMUM_LATITUDE = -46.669
  POSITIVE_LONGITUDE_DIRECTION = EAST
  REFERENCE_LATITUDE = "N/A"
  REFERENCE_LONGITUDE = "N/A"
  SAMPLE_FIRST_PIXEL = 1
  SAMPLE_LAST_PIXEL = 761
  SAMPLE_PROJECTION_OFFSET = 368.9375
  SECOND_STANDARD_PARALLEL = "N/A"
  WESTERNMOST_LONGITUDE = 149.095
END_OBJECT = IMAGE_MAP_PROJECTION
/* The JPEG2000 image data file associated with this label. */
OBJECT = COMPRESSED_FILE
  FILE_NAME = "H0332_0001_RE3.JP2"
  RECORD_TYPE = UNDEFINED
  FILE_RECORDS = UNK
  ENCODING_TYPE = "JP2"
  INTERCHANGE_FORMAT = BINARY
  UNCOMPRESSED_FILE_NAME = "H0332_0001_RE3.IMG"
  REQUIRED_STORAGE_BYTES = "2860599"
  ^DESCRIPTION = "JP2INFO.TXT"
END_OBJECT = COMPRESSED_FILE
END
