PDS_VERSION_ID = PDS3
/* FILE DATA ELEMENTS */
RECORD_TYPE = STREAM
/* POINTERS TO DATA OBJECTS */
^COMPRESSED_FILE = "H0334_0001_S23.JP2"
/* IDENTIFICATION DATA ELEMENTS */
DATA_SET_ID = "MEX-M-HRSC-5-REFDR-MAPPROJECTED-V3.0"
DATA_SET_NAME = "MARS EXPRESS HRSC MAP PROJECTED REFDR V3.0"
DETECTOR_ID = MEX_HRSC_S2
EVENT_TYPE = "MARS-REGIONAL-MAPPING-Vo-Te-Fl"
INSTRUMENT_HOST_ID = MEX
INSTRUMENT_HOST_NAME = "MARS EXPRESS"
INSTRUMENT_ID = HRSC
INSTRUMENT_NAME = "HIGH RESOLUTION STEREO CAMERA"
MISSION_NAME = "MARS EXPRESS"
MISSION_PHASE_NAME = MC_Phase_6
PROCESSING_LEVEL_ID = 3
PRODUCT_CREATION_TIME = 2016-03-03T01:16:01.000Z
PRODUCT_ID = "H0334_0001_S23.JP2"
RELEASE_ID = 0006
REVISION_ID = 0000
/* QUALITY DATA ELEMENTS */
DATA_QUALITY_ID = 1
DATA_QUALITY_DESC = "Data calculated based on original SPICE kernels"
/* TIME DATA ELEMENTS */
SPACECRAFT_CLOCK_START_COUNT = "1/0030903032.57922"
SPACECRAFT_CLOCK_STOP_COUNT = "1/0030903494.46566"
START_TIME = 2004-04-24T16:13:05.501Z
STOP_TIME = 2004-04-24T16:18:21.720Z
/* ORBITAL DATA ELEMENTS */
ASCENDING_NODE_LONGITUDE = 222.08
MAXIMUM_RESOLUTION = 62.9
FOOTPRINT_POINT_LATITUDE = (-15.1056,-15.0965,-15.0901,-15.0842, -15.0789,-15.0721,-14.9067,-14.6181, -14.3315,-14.0465,-13.7796,-13.5238, -13.2398,-12.95,-12.6737,-12.3979, -12.1357,-11.8668,-11.5934,-11.3227, -10.9174,-10.6505,-10.3844,-10.116, -9.84219,-9.56165,-9.15097,-8.87561, -8.61674,-8.22968,-7.9762,-7.73371, -7.2666,-7.01041,-6.62976,-6.18547, -5.9427,-5.666,-5.39095,-4.96165, -4.60685,-4.37304,-3.87345,-3.41768, -2.96598,-2.52898,-2.2828,-2.29532, -2.29913,-2.30649,-2.31834,-2.32716, -2.33646,-2.34842,-2.35808,-2.36886, -2.38178,-2.40124,-2.62723,-3.06968, -3.55491,-3.98814,-4.2259,-4.66018, -4.89926,-5.16485,-5.40612,-5.84817, -6.11277,-6.47694,-6.73177,-6.97913, -7.22883,-7.6056,-8.07826,-8.47598, -8.73899,-8.99177,-9.24619,-9.50317, -9.76139,-10.1492,-10.4039,-10.6554, -10.9199,-11.1867,-11.4629,-11.7385, -12.0109,-12.288,-12.5684,-12.8155, -13.0775,-13.3576,-13.6388,-13.9217, -14.2064,-14.4922,-14.78,-15.1056)
FOOTPRINT_POINT_LONGITUDE = (286.788,287.336,287.754,288.171, 288.588,289.189,289.406,289.416,289.426 ,289.437,289.452,289.471,289.48,289.487 ,289.498,289.508,289.523,289.535, 289.544,289.555,289.569,289.58,289.59, 289.599,289.606,289.61,289.618,289.623, 289.633,289.647,289.657,289.671,289.703 ,289.711,289.723,289.758,289.769, 289.767,289.766,289.803,289.818,289.829 ,289.839,289.861,289.884,289.91,289.8, 289.321,289.041,288.722,288.244,287.926 ,287.608,287.25,286.972,286.693,286.375 ,285.936,285.823,285.866,285.898, 285.944,285.963,286.01,286.029,286.041, 286.059,286.107,286.12,286.149,286.165, 286.183,286.201,286.228,286.272,286.295 ,286.311,286.329,286.348,286.366, 286.384,286.412,286.432,286.453,286.47, 286.487,286.502,286.517,286.534,286.549 ,286.563,286.588,286.608,286.624, 286.639,286.654,286.669,286.684,286.698 ,286.788)
ORBIT_NUMBER = 334
ORBITAL_ECCENTRICITY = 0.607
ORBITAL_INCLINATION = 86.56
ORBITAL_SEMIMAJOR_AXIS = 9268.54
PERIAPSIS_ALTITUDE = 264.92
PERIAPSIS_ARGUMENT_ANGLE = 303.01
PERIAPSIS_TIME = 2004-04-24T16:00:47.000Z
SPACECRAFT_ORIENTATION = (0.0,-1.0,0.0)
^MEX_ORIENTATION_DESC = "MEX_ORIENTATION_DESC.TXT"
SPACECRAFT_POINTING_MODE = NADIR
^MEX_POINTING_DESC = "MEX_POINTING_DESC.TXT"
RIGHT_ASCENSION = -1e+32
DECLINATION = -1e+32
OFFSET_ANGLE = -1e+32
SPACECRAFT_SOLAR_DISTANCE = 2.4135e+08
TARGET_NAME = MARS
/* CAMERA DATA ELEMENTS */
DETECTOR_TEMPERATURE = 20.6134
FOCAL_PLANE_TEMPERATURE = 8.1755
INST_CMPRS_NAME = "DISCRETE COSINE TRANSFORMATION (DCT)"
INST_CMPRS_RATIO = 9.18557
INST_CMPRS_QUALITY = 0
INST_CMPRS_QUANTZ_TBL_ID = 0
INSTRUMENT_TEMPERATURE = 13.0691
LENS_TEMPERATURE = 8.7872
MACROPIXEL_SIZE = 2
MISSING_FRAMES = 0
PIXEL_SUBSAMPLING_FLAG = N
SIGNAL_CHAIN_ID = 1
/* RADIOMETRIC DATA ELEMENTS */
BANDWIDTH = 178.0
CENTER_FILTER_WAVELENGTH = 679.0
RADIANCE_OFFSET = 3.86978
RADIANCE_SCALING_FACTOR = 0.0351078
REFLECTANCE_SCALING_FACTOR = 0.00108301
MEX:REFLECTANCE_OFFSET = 0.119375
/* IMAGE OBJECT DEFINITIONS */
OBJECT = IMAGE
  INTERCHANGE_FORMAT = BINARY
  LINES = 15100
  LINE_SAMPLES = 3975
  SAMPLE_TYPE = UNSIGNED_INTEGER
  SAMPLE_BITS = 8
  BANDS = 1
  BAND_STORAGE_TYPE = BAND_SEQUENTIAL
  MAXIMUM = 232
  MEAN = 139.77
  MINIMUM = 65
  STANDARD_DEVIATION = 31.4872
END_OBJECT = IMAGE
/* MAP OBJECT DEFINITIONS */
OBJECT = IMAGE_MAP_PROJECTION
  ^DATA_SET_MAP_PROJECTION_CATALOG= "DSMAP.CAT"
  A_AXIS_RADIUS = 3396.0
  B_AXIS_RADIUS = 3396.0
  C_AXIS_RADIUS = 3396.0
  CENTER_LATITUDE = 0.0
  CENTER_LONGITUDE = 288.0
  COORDINATE_SYSTEM_NAME = PLANETOGRAPHIC
  COORDINATE_SYSTEM_TYPE = "BODY-FIXED ROTATING"
  EASTERNMOST_LONGITUDE = 289.91
  FIRST_STANDARD_PARALLEL = "N/A"
  LINE_FIRST_PIXEL = 1
  LINE_LAST_PIXEL = 15100
  LINE_PROJECTION_OFFSET = -2966.75
  MAP_PROJECTION_ROTATION = 0.0
  MAP_PROJECTION_TYPE = SINUSOIDAL
  MAP_RESOLUTION = 1185.42760773333
  MAP_SCALE = 0.05
  MAXIMUM_LATITUDE = -2.2828
  MINIMUM_LATITUDE = -15.1056
  POSITIVE_LONGITUDE_DIRECTION = EAST
  REFERENCE_LATITUDE = "N/A"
  REFERENCE_LONGITUDE = "N/A"
  SAMPLE_FIRST_PIXEL = 1
  SAMPLE_LAST_PIXEL = 3975
  SAMPLE_PROJECTION_OFFSET = 2164.75
  SECOND_STANDARD_PARALLEL = "N/A"
  WESTERNMOST_LONGITUDE = 285.823
END_OBJECT = IMAGE_MAP_PROJECTION
/* The JPEG2000 image data file associated with this label. */
OBJECT = COMPRESSED_FILE
  FILE_NAME = "H0334_0001_S23.JP2"
  RECORD_TYPE = UNDEFINED
  FILE_RECORDS = UNK
  ENCODING_TYPE = "JP2"
  INTERCHANGE_FORMAT = BINARY
  UNCOMPRESSED_FILE_NAME = "H0334_0001_S23.IMG"
  REQUIRED_STORAGE_BYTES = "60046350"
  ^DESCRIPTION = "JP2INFO.TXT"
END_OBJECT = COMPRESSED_FILE
END
