PDS_VERSION_ID = PDS3
/* FILE DATA ELEMENTS */
RECORD_TYPE = STREAM
/* POINTERS TO DATA OBJECTS */
^COMPRESSED_FILE = "H0335_0000_GR3.JP2"
/* IDENTIFICATION DATA ELEMENTS */
DATA_SET_ID = "MEX-M-HRSC-5-REFDR-MAPPROJECTED-V3.0"
DATA_SET_NAME = "MARS EXPRESS HRSC MAP PROJECTED REFDR V3.0"
DETECTOR_ID = MEX_HRSC_GREEN
EVENT_TYPE = "MARS-REGIONAL-MAPPING-Vo-Gl-Mw"
INSTRUMENT_HOST_ID = MEX
INSTRUMENT_HOST_NAME = "MARS EXPRESS"
INSTRUMENT_ID = HRSC
INSTRUMENT_NAME = "HIGH RESOLUTION STEREO CAMERA"
MISSION_NAME = "MARS EXPRESS"
MISSION_PHASE_NAME = MC_Phase_6
PROCESSING_LEVEL_ID = 3
PRODUCT_CREATION_TIME = 2016-03-03T01:16:01.000Z
PRODUCT_ID = "H0335_0000_GR3.JP2"
RELEASE_ID = 0006
REVISION_ID = 0000
/* QUALITY DATA ELEMENTS */
DATA_QUALITY_ID = 1
DATA_QUALITY_DESC = "Data calculated based on original SPICE kernels"
/* TIME DATA ELEMENTS */
SPACECRAFT_CLOCK_START_COUNT = "1/0030930328.57982"
SPACECRAFT_CLOCK_STOP_COUNT = "1/0030930931.57825"
START_TIME = 2004-04-24T23:46:29.301Z
STOP_TIME = 2004-04-24T23:51:55.783Z
/* ORBITAL DATA ELEMENTS */
ASCENDING_NODE_LONGITUDE = 222.05
MAXIMUM_RESOLUTION = 205.7
FOOTPRINT_POINT_LATITUDE = (-14.7175,-14.7152,-14.7124,-14.709, -14.7049,-14.6901,-14.3502,-14.0066, -13.6606,-13.312,-12.9597,-12.6042, -12.2461,-11.7089,-11.3531,-10.9979, -10.644,-10.2912,-9.93954,-9.58908, -9.23984,-8.8919,-8.54519,-8.19998, -7.85586,-7.51288,-7.17096,-6.83052, -6.49105,-6.15282,-5.81603,-5.48036, -5.146,-4.81299,-4.48125,-4.15055, -3.82106,-3.49285,-3.1656,-2.83977, -2.51527,-2.19212,-1.87007,-1.22954, -0.593789,0.0370455,0.663164,1.28475, 1.90139,2.25482,2.23436,2.21825,2.20442 ,2.18181,2.16917,2.15218,1.54255, 0.927978,0.308661,-0.31544,-0.944551, -1.57855,-2.21754,-2.53878,-2.86122, -3.18486,-3.50979,-3.83611,-4.16364, -4.49245,-4.82246,-5.15376,-5.48636, -5.82032,-6.15529,-6.49117,-6.82826, -7.16679,-7.50706,-7.84851,-8.19093, -8.53455,-8.87981,-9.22634,-9.57425, -9.9229,-10.2729,-10.6239,-10.976, -11.3297,-11.6844,-12.0407,-12.3981, -12.7543,-13.1078,-13.4579,-13.8035, -14.1464,-14.487,-14.7175)
FOOTPRINT_POINT_LONGITUDE = (176.608,176.951,177.294,177.638, 177.982,178.627,178.633,178.64,178.647, 178.653,178.661,178.667,178.673,178.683 ,178.687,178.693,178.699,178.705, 178.712,178.718,178.725,178.731,178.737 ,178.743,178.749,178.755,178.762, 178.768,178.775,178.781,178.787,178.794 ,178.8,178.806,178.812,178.819,178.825, 178.832,178.838,178.845,178.851,178.857 ,178.864,178.877,178.89,178.903,178.917 ,178.931,178.944,178.751,178.06,177.51, 177.029,176.24,175.795,175.292,175.343, 175.392,175.441,175.49,175.537,175.584, 175.631,175.653,175.676,175.698,175.72, 175.742,175.764,175.786,175.807,175.828 ,175.85,175.871,175.891,175.911,175.931 ,175.95,175.971,175.991,176.01,176.029, 176.048,176.067,176.086,176.104,176.122 ,176.14,176.157,176.174,176.19,176.207, 176.224,176.241,176.257,176.273,176.286 ,176.3,176.315,176.608)
ORBIT_NUMBER = 335
ORBITAL_ECCENTRICITY = 0.606
ORBITAL_INCLINATION = 86.58
ORBITAL_SEMIMAJOR_AXIS = 9267.58
PERIAPSIS_ALTITUDE = 265.14
PERIAPSIS_ARGUMENT_ANGLE = 302.84
PERIAPSIS_TIME = 2004-04-24T23:35:32.000Z
SPACECRAFT_ORIENTATION = (0.0,-1.0,0.0)
^MEX_ORIENTATION_DESC = "MEX_ORIENTATION_DESC.TXT"
SPACECRAFT_POINTING_MODE = ACROSSTRACK
^MEX_POINTING_DESC = "MEX_POINTING_DESC.TXT"
RIGHT_ASCENSION = -1e+32
DECLINATION = -1e+32
OFFSET_ANGLE = -0.28
SPACECRAFT_SOLAR_DISTANCE = 2.41395e+08
TARGET_NAME = MARS
/* CAMERA DATA ELEMENTS */
DETECTOR_TEMPERATURE = 18.1666
FOCAL_PLANE_TEMPERATURE = 7.9716
INST_CMPRS_NAME = "DISCRETE COSINE TRANSFORMATION (DCT)"
INST_CMPRS_RATIO = 21.9864
INST_CMPRS_QUALITY = 0
INST_CMPRS_QUANTZ_TBL_ID = 0
INSTRUMENT_TEMPERATURE = 11.0301
LENS_TEMPERATURE = 8.3794
MACROPIXEL_SIZE = 8
MISSING_FRAMES = 0
PIXEL_SUBSAMPLING_FLAG = N
SIGNAL_CHAIN_ID = 2
/* RADIOMETRIC DATA ELEMENTS */
BANDWIDTH = 88.0
CENTER_FILTER_WAVELENGTH = 538.0
RADIANCE_OFFSET = 2.08628
RADIANCE_SCALING_FACTOR = 0.00398586
REFLECTANCE_SCALING_FACTOR = 0.000199972
MEX:REFLECTANCE_OFFSET = 0.10467
/* IMAGE OBJECT DEFINITIONS */
OBJECT = IMAGE
  INTERCHANGE_FORMAT = BINARY
  LINES = 5033
  LINE_SAMPLES = 1151
  SAMPLE_TYPE = UNSIGNED_INTEGER
  SAMPLE_BITS = 8
  BANDS = 1
  BAND_STORAGE_TYPE = BAND_SEQUENTIAL
  MAXIMUM = 121
  MEAN = 103.426
  MINIMUM = 74
  STANDARD_DEVIATION = 3.72126
END_OBJECT = IMAGE
/* MAP OBJECT DEFINITIONS */
OBJECT = IMAGE_MAP_PROJECTION
  ^DATA_SET_MAP_PROJECTION_CATALOG= "DSMAP.CAT"
  A_AXIS_RADIUS = 3396.0
  B_AXIS_RADIUS = 3396.0
  C_AXIS_RADIUS = 3396.0
  CENTER_LATITUDE = 0.0
  CENTER_LONGITUDE = 177.0
  COORDINATE_SYSTEM_NAME = PLANETOGRAPHIC
  COORDINATE_SYSTEM_TYPE = "BODY-FIXED ROTATING"
  EASTERNMOST_LONGITUDE = 178.944
  FIRST_STANDARD_PARALLEL = "N/A"
  LINE_FIRST_PIXEL = 1
  LINE_LAST_PIXEL = 5033
  LINE_PROJECTION_OFFSET = 670.6875
  MAP_PROJECTION_ROTATION = 0.0
  MAP_PROJECTION_TYPE = SINUSOIDAL
  MAP_RESOLUTION = 296.356901933333
  MAP_SCALE = 0.2
  MAXIMUM_LATITUDE = 2.25482
  MINIMUM_LATITUDE = -14.7175
  POSITIVE_LONGITUDE_DIRECTION = EAST
  REFERENCE_LATITUDE = "N/A"
  REFERENCE_LONGITUDE = "N/A"
  SAMPLE_FIRST_PIXEL = 1
  SAMPLE_LAST_PIXEL = 1151
  SAMPLE_PROJECTION_OFFSET = 529.1875
  SECOND_STANDARD_PARALLEL = "N/A"
  WESTERNMOST_LONGITUDE = 175.292
END_OBJECT = IMAGE_MAP_PROJECTION
/* The JPEG2000 image data file associated with this label. */
OBJECT = COMPRESSED_FILE
  FILE_NAME = "H0335_0000_GR3.JP2"
  RECORD_TYPE = UNDEFINED
  FILE_RECORDS = UNK
  ENCODING_TYPE = "JP2"
  INTERCHANGE_FORMAT = BINARY
  UNCOMPRESSED_FILE_NAME = "H0335_0000_GR3.IMG"
  REQUIRED_STORAGE_BYTES = "5812550"
  ^DESCRIPTION = "JP2INFO.TXT"
END_OBJECT = COMPRESSED_FILE
END
