PDS_VERSION_ID = PDS3
/* FILE DATA ELEMENTS */
RECORD_TYPE = STREAM
/* POINTERS TO DATA OBJECTS */
^COMPRESSED_FILE = "H0335_0000_S23.JP2"
/* IDENTIFICATION DATA ELEMENTS */
DATA_SET_ID = "MEX-M-HRSC-5-REFDR-MAPPROJECTED-V3.0"
DATA_SET_NAME = "MARS EXPRESS HRSC MAP PROJECTED REFDR V3.0"
DETECTOR_ID = MEX_HRSC_S2
EVENT_TYPE = "MARS-REGIONAL-MAPPING-Vo-Gl-Mw"
INSTRUMENT_HOST_ID = MEX
INSTRUMENT_HOST_NAME = "MARS EXPRESS"
INSTRUMENT_ID = HRSC
INSTRUMENT_NAME = "HIGH RESOLUTION STEREO CAMERA"
MISSION_NAME = "MARS EXPRESS"
MISSION_PHASE_NAME = MC_Phase_6
PROCESSING_LEVEL_ID = 3
PRODUCT_CREATION_TIME = 2016-03-03T01:16:01.000Z
PRODUCT_ID = "H0335_0000_S23.JP2"
RELEASE_ID = 0006
REVISION_ID = 0000
/* QUALITY DATA ELEMENTS */
DATA_QUALITY_ID = 1
DATA_QUALITY_DESC = "Data calculated based on original SPICE kernels"
/* TIME DATA ELEMENTS */
SPACECRAFT_CLOCK_START_COUNT = "1/0030930328.57982"
SPACECRAFT_CLOCK_STOP_COUNT = "1/0030930931.57825"
START_TIME = 2004-04-24T23:48:05.882Z
STOP_TIME = 2004-04-24T23:55:38.884Z
/* ORBITAL DATA ELEMENTS */
ASCENDING_NODE_LONGITUDE = 222.05
MAXIMUM_RESOLUTION = 64.8
FOOTPRINT_POINT_LATITUDE = (-14.5648,-14.5608,-14.5573,-14.5545, -14.5522,-14.5505,-14.3572,-13.9563, -13.5524,-13.1504,-12.7522,-12.3579, -11.7683,-11.3775,-10.7974,-10.4159, -10.0382,-9.66433,-9.29209,-8.92314, -8.55574,-8.19222,-7.83109,-7.47459, -7.12023,-6.76949,-6.42182,-6.07562, -5.55885,-5.2195,-4.88311,-4.55088, -4.22009,-3.89191,-3.56637,-3.24348, -2.92354,-2.60735,-2.29343,-1.6713, -1.06088,-0.308324,0.277958,0.711788, 1.283,1.84308,2.39386,2.42139,2.4162, 2.40924,2.39764,2.38753,2.37705,2.36203 ,2.34721,2.33087,2.30835,2.28874, 2.13631,1.5891,1.03215,0.466733, -0.110002,-0.69697,-1.29452,-1.89998, -2.51928,-2.83284,-3.14811,-3.46728, -3.78664,-4.10989,-4.43646,-4.76546, -5.09754,-5.43179,-5.76858,-6.10865, -6.45522,-6.80283,-7.14918,-7.49748, -7.85142,-8.20157,-8.56117,-8.9242, -9.29268,-9.663,-10.035,-10.4126, -10.7937,-11.1781,-11.7587,-12.1464, -12.5359,-12.9259,-13.3218,-13.7327, -14.1368,-14.5648)
FOOTPRINT_POINT_LONGITUDE = (176.286,176.712,177.138,177.565, 177.993,178.422,178.901,178.917,178.931 ,178.945,178.959,178.973,178.993, 179.006,179.026,179.04,179.054,179.069, 179.083,179.097,179.111,179.126,179.14, 179.155,179.17,179.186,179.201,179.216, 179.238,179.254,179.269,179.285,179.301 ,179.317,179.333,179.349,179.366, 179.382,179.399,179.432,179.467,179.508 ,179.544,179.571,179.607,179.644, 179.681,179.1,178.711,178.323,177.792, 177.406,177.069,176.635,176.25,175.865, 175.383,174.998,174.708,174.775,174.841 ,174.906,174.971,175.035,175.098, 175.161,175.223,175.253,175.284,175.314 ,175.344,175.374,175.404,175.433, 175.462,175.491,175.52,175.549,175.576, 175.604,175.632,175.66,175.688,175.716, 175.743,175.77,175.796,175.821,175.847, 175.872,175.896,175.92,175.956,175.98, 176.005,176.029,176.053,176.073,176.095 ,176.286)
ORBIT_NUMBER = 335
ORBITAL_ECCENTRICITY = 0.606
ORBITAL_INCLINATION = 86.58
ORBITAL_SEMIMAJOR_AXIS = 9267.58
PERIAPSIS_ALTITUDE = 265.14
PERIAPSIS_ARGUMENT_ANGLE = 302.84
PERIAPSIS_TIME = 2004-04-24T23:35:32.000Z
SPACECRAFT_ORIENTATION = (0.0,-1.0,0.0)
^MEX_ORIENTATION_DESC = "MEX_ORIENTATION_DESC.TXT"
SPACECRAFT_POINTING_MODE = ACROSSTRACK
^MEX_POINTING_DESC = "MEX_POINTING_DESC.TXT"
RIGHT_ASCENSION = -1e+32
DECLINATION = -1e+32
OFFSET_ANGLE = -0.28
SPACECRAFT_SOLAR_DISTANCE = 2.41395e+08
TARGET_NAME = MARS
/* CAMERA DATA ELEMENTS */
DETECTOR_TEMPERATURE = 18.5744
FOCAL_PLANE_TEMPERATURE = 7.9716
INST_CMPRS_NAME = "DISCRETE COSINE TRANSFORMATION (DCT)"
INST_CMPRS_RATIO = 11.1972
INST_CMPRS_QUALITY = 0
INST_CMPRS_QUANTZ_TBL_ID = 0
INSTRUMENT_TEMPERATURE = 11.0301
LENS_TEMPERATURE = 8.3794
MACROPIXEL_SIZE = 2
MISSING_FRAMES = 0
PIXEL_SUBSAMPLING_FLAG = N
SIGNAL_CHAIN_ID = 1
/* RADIOMETRIC DATA ELEMENTS */
BANDWIDTH = 178.0
CENTER_FILTER_WAVELENGTH = 679.0
RADIANCE_OFFSET = 8.25863
RADIANCE_SCALING_FACTOR = 0.0124035
REFLECTANCE_SCALING_FACTOR = 0.000382766
MEX:REFLECTANCE_OFFSET = 0.254858
/* IMAGE OBJECT DEFINITIONS */
OBJECT = IMAGE
  INTERCHANGE_FORMAT = BINARY
  LINES = 20129
  LINE_SAMPLES = 4601
  SAMPLE_TYPE = UNSIGNED_INTEGER
  SAMPLE_BITS = 8
  BANDS = 1
  BAND_STORAGE_TYPE = BAND_SEQUENTIAL
  MAXIMUM = 135
  MEAN = 118.367
  MINIMUM = 81
  STANDARD_DEVIATION = 3.44381
END_OBJECT = IMAGE
/* MAP OBJECT DEFINITIONS */
OBJECT = IMAGE_MAP_PROJECTION
  ^DATA_SET_MAP_PROJECTION_CATALOG= "DSMAP.CAT"
  A_AXIS_RADIUS = 3396.0
  B_AXIS_RADIUS = 3396.0
  C_AXIS_RADIUS = 3396.0
  CENTER_LATITUDE = 0.0
  CENTER_LONGITUDE = 177.0
  COORDINATE_SYSTEM_NAME = PLANETOGRAPHIC
  COORDINATE_SYSTEM_TYPE = "BODY-FIXED ROTATING"
  EASTERNMOST_LONGITUDE = 179.681
  FIRST_STANDARD_PARALLEL = "N/A"
  LINE_FIRST_PIXEL = 1
  LINE_LAST_PIXEL = 20129
  LINE_PROJECTION_OFFSET = 2684.25
  MAP_PROJECTION_ROTATION = 0.0
  MAP_PROJECTION_TYPE = SINUSOIDAL
  MAP_RESOLUTION = 1185.42760773333
  MAP_SCALE = 0.05
  MAXIMUM_LATITUDE = 2.42139
  MINIMUM_LATITUDE = -14.5648
  POSITIVE_LONGITUDE_DIRECTION = EAST
  REFERENCE_LATITUDE = "N/A"
  REFERENCE_LONGITUDE = "N/A"
  SAMPLE_FIRST_PIXEL = 1
  SAMPLE_LAST_PIXEL = 4601
  SAMPLE_PROJECTION_OFFSET = 2118.25
  SECOND_STANDARD_PARALLEL = "N/A"
  WESTERNMOST_LONGITUDE = 174.708
END_OBJECT = IMAGE_MAP_PROJECTION
/* The JPEG2000 image data file associated with this label. */
OBJECT = COMPRESSED_FILE
  FILE_NAME = "H0335_0000_S23.JP2"
  RECORD_TYPE = UNDEFINED
  FILE_RECORDS = UNK
  ENCODING_TYPE = "JP2"
  INTERCHANGE_FORMAT = BINARY
  UNCOMPRESSED_FILE_NAME = "H0335_0000_S23.IMG"
  REQUIRED_STORAGE_BYTES = "92641135"
  ^DESCRIPTION = "JP2INFO.TXT"
END_OBJECT = COMPRESSED_FILE
END
