PDS_VERSION_ID = PDS3
/* FILE DATA ELEMENTS */
RECORD_TYPE = STREAM
/* POINTERS TO DATA OBJECTS */
^COMPRESSED_FILE = "H0337_0000_S23.JP2"
/* IDENTIFICATION DATA ELEMENTS */
DATA_SET_ID = "MEX-M-HRSC-5-REFDR-MAPPROJECTED-V3.0"
DATA_SET_NAME = "MARS EXPRESS HRSC MAP PROJECTED REFDR V3.0"
DETECTOR_ID = MEX_HRSC_S2
EVENT_TYPE = "MARS-REGIONAL-STEREO-Im-Fl-Gl"
INSTRUMENT_HOST_ID = MEX
INSTRUMENT_HOST_NAME = "MARS EXPRESS"
INSTRUMENT_ID = HRSC
INSTRUMENT_NAME = "HIGH RESOLUTION STEREO CAMERA"
MISSION_NAME = "MARS EXPRESS"
MISSION_PHASE_NAME = MC_Phase_6
PROCESSING_LEVEL_ID = 3
PRODUCT_CREATION_TIME = 2016-03-03T01:16:01.000Z
PRODUCT_ID = "H0337_0000_S23.JP2"
RELEASE_ID = 0006
REVISION_ID = 0000
/* QUALITY DATA ELEMENTS */
DATA_QUALITY_ID = 1
DATA_QUALITY_DESC = "Data calculated based on original SPICE kernels"
/* TIME DATA ELEMENTS */
SPACECRAFT_CLOCK_START_COUNT = "1/0030984156.57965"
SPACECRAFT_CLOCK_STOP_COUNT = "1/0030984447.32769"
START_TIME = 2004-04-25T14:43:32.829Z
STOP_TIME = 2004-04-25T14:47:34.442Z
/* ORBITAL DATA ELEMENTS */
ASCENDING_NODE_LONGITUDE = 222.02
MAXIMUM_RESOLUTION = 22.2
FOOTPRINT_POINT_LATITUDE = (-65.0875,-65.1192,-65.2485,-65.0782, -64.7446,-64.4186,-64.0918,-63.7637, -63.4433,-63.1161,-62.6577,-62.3508, -62.0379,-61.7194,-61.4105,-60.9482, -60.4672,-59.9991,-59.6935,-59.3785, -59.0681,-58.754,-58.4376,-58.1037, -57.7951,-57.479,-57.1464,-56.8112, -56.5181,-56.2029,-55.8813,-55.5607, -55.2384,-54.9179,-54.4373,-53.9559, -53.6359,-53.3166,-52.9895,-52.6572, -52.3257,-51.9945,-51.6636,-51.334, -50.8405,-50.5108,-50.0039,-49.6632, -49.3231,-48.9848,-48.9375,-48.9253, -48.91,-49.2396,-49.5785,-49.7492, -50.0902,-50.427,-50.9194,-51.412, -51.7405,-52.0712,-52.5664,-52.8976, -53.2255,-53.5446,-53.8645,-54.1836, -54.6618,-54.9816,-55.302,-55.6219, -55.9395,-56.242,-56.5639,-56.8916, -57.3828,-57.8672,-58.1889,-58.5004, -58.7987,-59.1197,-59.589,-59.8963, -60.2106,-60.6702,-60.982,-61.2969, -61.6068,-61.9135,-62.2237,-62.5349, -62.9828,-63.3076,-63.6331,-63.9577, -64.2827,-64.6072,-65.0931,-65.0875)
FOOTPRINT_POINT_LONGITUDE = (311.996,312.661,313.34,313.373,313.443 ,313.513,313.581,313.647,313.715, 313.777,313.857,313.917,313.972,314.023 ,314.077,314.156,314.224,314.295, 314.343,314.387,314.431,314.473,314.513 ,314.552,314.6,314.644,314.68,314.714, 314.765,314.805,314.842,314.878,314.913 ,314.947,314.997,315.045,315.076, 315.107,315.138,315.168,315.198,315.228 ,315.257,315.285,315.327,315.353, 315.394,315.42,315.446,315.472,315.059, 314.629,314.199,313.914,313.885,313.869 ,313.838,313.807,313.759,313.71,313.677 ,313.641,313.586,313.548,313.509,313.47 ,313.43,313.389,313.326,313.283,313.238 ,313.192,313.147,313.111,313.061, 313.005,312.919,312.835,312.778,312.725 ,312.676,312.607,312.511,312.45,312.381 ,312.283,312.212,312.136,312.063,311.99 ,311.912,311.831,311.71,311.619,311.525 ,311.429,311.33,311.228,311.071, 311.996)
ORBIT_NUMBER = 337
ORBITAL_ECCENTRICITY = 0.606
ORBITAL_INCLINATION = 86.58
ORBITAL_SEMIMAJOR_AXIS = 9265.19
PERIAPSIS_ALTITUDE = 264.47
PERIAPSIS_ARGUMENT_ANGLE = 302.49
PERIAPSIS_TIME = 2004-04-25T14:45:05.000Z
SPACECRAFT_ORIENTATION = (0.0,-1.0,0.0)
^MEX_ORIENTATION_DESC = "MEX_ORIENTATION_DESC.TXT"
SPACECRAFT_POINTING_MODE = NADIR
^MEX_POINTING_DESC = "MEX_POINTING_DESC.TXT"
RIGHT_ASCENSION = -1e+32
DECLINATION = -1e+32
OFFSET_ANGLE = -1e+32
SPACECRAFT_SOLAR_DISTANCE = 2.41485e+08
TARGET_NAME = MARS
/* CAMERA DATA ELEMENTS */
DETECTOR_TEMPERATURE = 17.9627
FOCAL_PLANE_TEMPERATURE = 7.3599
INST_CMPRS_NAME = "DISCRETE COSINE TRANSFORMATION (DCT)"
INST_CMPRS_RATIO = 15.9803
INST_CMPRS_QUALITY = 0
INST_CMPRS_QUANTZ_TBL_ID = 0
INSTRUMENT_TEMPERATURE = 11.4379
LENS_TEMPERATURE = 8.1755
MACROPIXEL_SIZE = 2
MISSING_FRAMES = 44
PIXEL_SUBSAMPLING_FLAG = N
SIGNAL_CHAIN_ID = 1
/* RADIOMETRIC DATA ELEMENTS */
BANDWIDTH = 178.0
CENTER_FILTER_WAVELENGTH = 679.0
RADIANCE_OFFSET = 1.01816
RADIANCE_SCALING_FACTOR = 0.0153323
REFLECTANCE_SCALING_FACTOR = 0.000473495
MEX:REFLECTANCE_OFFSET = 0.031443
/* IMAGE OBJECT DEFINITIONS */
OBJECT = IMAGE
  INTERCHANGE_FORMAT = BINARY
  LINES = 38509
  LINE_SAMPLES = 5222
  SAMPLE_TYPE = UNSIGNED_INTEGER
  SAMPLE_BITS = 8
  BANDS = 1
  BAND_STORAGE_TYPE = BAND_SEQUENTIAL
  MAXIMUM = 126
  MEAN = 69.6557
  MINIMUM = 22
  STANDARD_DEVIATION = 20.2054
END_OBJECT = IMAGE
/* MAP OBJECT DEFINITIONS */
OBJECT = IMAGE_MAP_PROJECTION
  ^DATA_SET_MAP_PROJECTION_CATALOG= "DSMAP.CAT"
  A_AXIS_RADIUS = 3396.0
  B_AXIS_RADIUS = 3396.0
  C_AXIS_RADIUS = 3396.0
  CENTER_LATITUDE = 0.0
  CENTER_LONGITUDE = 314.0
  COORDINATE_SYSTEM_NAME = PLANETOGRAPHIC
  COORDINATE_SYSTEM_TYPE = "BODY-FIXED ROTATING"
  EASTERNMOST_LONGITUDE = 315.472
  FIRST_STANDARD_PARALLEL = "N/A"
  LINE_FIRST_PIXEL = 1
  LINE_LAST_PIXEL = 38509
  LINE_PROJECTION_OFFSET = -116083.25
  MAP_PROJECTION_ROTATION = 0.0
  MAP_PROJECTION_TYPE = SINUSOIDAL
  MAP_RESOLUTION = 2370.85521546667
  MAP_SCALE = 0.025
  MAXIMUM_LATITUDE = -48.91
  MINIMUM_LATITUDE = -65.24850000000001
  POSITIVE_LONGITUDE_DIRECTION = EAST
  REFERENCE_LATITUDE = "N/A"
  REFERENCE_LONGITUDE = "N/A"
  SAMPLE_FIRST_PIXEL = 1
  SAMPLE_LAST_PIXEL = 5222
  SAMPLE_PROJECTION_OFFSET = 2957.75
  SECOND_STANDARD_PARALLEL = "N/A"
  WESTERNMOST_LONGITUDE = 311.071
END_OBJECT = IMAGE_MAP_PROJECTION
/* The JPEG2000 image data file associated with this label. */
OBJECT = COMPRESSED_FILE
  FILE_NAME = "H0337_0000_S23.JP2"
  RECORD_TYPE = UNDEFINED
  FILE_RECORDS = UNK
  ENCODING_TYPE = "JP2"
  INTERCHANGE_FORMAT = BINARY
  UNCOMPRESSED_FILE_NAME = "H0337_0000_S23.IMG"
  REQUIRED_STORAGE_BYTES = "201120108"
  ^DESCRIPTION = "JP2INFO.TXT"
END_OBJECT = COMPRESSED_FILE
END
