PDS_VERSION_ID = PDS3
/* FILE DATA ELEMENTS */
RECORD_TYPE = STREAM
/* POINTERS TO DATA OBJECTS */
^COMPRESSED_FILE = "H0344_0000_BL3.JP2"
/* IDENTIFICATION DATA ELEMENTS */
DATA_SET_ID = "MEX-M-HRSC-5-REFDR-MAPPROJECTED-V3.0"
DATA_SET_NAME = "MARS EXPRESS HRSC MAP PROJECTED REFDR V3.0"
DETECTOR_ID = MEX_HRSC_BLUE
EVENT_TYPE = "MARS-REGIONAL-MAPPING-Vo-Te-Im"
INSTRUMENT_HOST_ID = MEX
INSTRUMENT_HOST_NAME = "MARS EXPRESS"
INSTRUMENT_ID = HRSC
INSTRUMENT_NAME = "HIGH RESOLUTION STEREO CAMERA"
MISSION_NAME = "MARS EXPRESS"
MISSION_PHASE_NAME = MC_Phase_6
PROCESSING_LEVEL_ID = 3
PRODUCT_CREATION_TIME = 2016-03-03T01:16:01.000Z
PRODUCT_ID = "H0344_0000_BL3.JP2"
RELEASE_ID = 0006
REVISION_ID = 0000
/* QUALITY DATA ELEMENTS */
DATA_QUALITY_ID = 1
DATA_QUALITY_DESC = "Data calculated based on original SPICE kernels"
/* TIME DATA ELEMENTS */
SPACECRAFT_CLOCK_START_COUNT = "1/0031175416.57995"
SPACECRAFT_CLOCK_STOP_COUNT = "1/0031175633.48842"
START_TIME = 2004-04-27T19:50:53.340Z
STOP_TIME = 2004-04-27T19:53:34.455Z
/* ORBITAL DATA ELEMENTS */
ASCENDING_NODE_LONGITUDE = 221.88
MAXIMUM_RESOLUTION = 43.7
FOOTPRINT_POINT_LATITUDE = (-50.3981,-50.4207,-50.4341,-50.1534, -49.9571,-49.7607,-49.5644,-49.3683, -49.1724,-48.9766,-48.7808,-48.5852, -48.3898,-48.1944,-47.8038,-47.5007, -47.298,-47.0954,-46.8929,-46.6906, -46.4883,-46.2861,-46.0841,-45.8822, -45.6805,-45.4745,-45.2652,-45.0563, -44.8475,-44.6388,-44.4302,-44.2219, -44.0136,-43.8056,-43.4835,-43.2682, -43.0529,-42.8378,-42.6228,-42.4079, -42.1931,-41.9718,-41.7496,-41.5277, -41.3061,-40.9752,-40.7544,-40.5292, -40.302,-40.0747,-39.7928,-39.783, -39.7692,-39.7582,-39.985,-40.212, -40.4394,-40.667,-40.8878,-41.2171, -41.5492,-41.7711,-41.9927,-42.2113, -42.4255,-42.6399,-42.8543,-43.069, -43.2838,-43.499,-43.8184,-44.0263, -44.2342,-44.4424,-44.6506,-44.8591, -45.0676,-45.2764,-45.5884,-45.7898, -45.9913,-46.1929,-46.4952,-46.6976, -46.8997,-47.1019,-47.3039,-47.5065, -47.8071,-48.197,-48.5873,-48.7825, -48.978,-49.1735,-49.3692,-49.5649, -49.8586,-50.0545,-50.2506,-50.3981)
FOOTPRINT_POINT_LONGITUDE = (258.056,258.661,259.065,259.302, 259.318,259.333,259.348,259.363,259.379 ,259.394,259.408,259.423,259.438, 259.452,259.48,259.501,259.516,259.53, 259.543,259.557,259.57,259.584,259.597, 259.61,259.622,259.636,259.648,259.662, 259.674,259.687,259.699,259.712,259.724 ,259.736,259.754,259.766,259.778, 259.789,259.8,259.811,259.822,259.832, 259.843,259.853,259.863,259.878,259.888 ,259.902,259.915,259.926,259.939, 259.422,258.862,258.438,258.43,258.423, 258.415,258.407,258.398,258.385,258.37, 258.359,258.349,258.339,258.33,258.32, 258.31,258.3,258.29,258.279,258.263, 258.252,258.24,258.229,258.217,258.205, 258.193,258.181,258.162,258.149,258.137 ,258.124,258.104,258.09,258.076,258.061 ,258.048,258.032,258.01,257.98,257.949, 257.933,257.917,257.9,257.883,257.866, 257.84,257.822,257.804,258.056)
ORBIT_NUMBER = 344
ORBITAL_ECCENTRICITY = 0.607
ORBITAL_INCLINATION = 86.55
ORBITAL_SEMIMAJOR_AXIS = 9267.14
PERIAPSIS_ALTITUDE = 264.66
PERIAPSIS_ARGUMENT_ANGLE = 301.29
PERIAPSIS_TIME = 2004-04-27T19:48:49.000Z
SPACECRAFT_ORIENTATION = (0.0,-1.0,0.0)
^MEX_ORIENTATION_DESC = "MEX_ORIENTATION_DESC.TXT"
SPACECRAFT_POINTING_MODE = NADIR
^MEX_POINTING_DESC = "MEX_POINTING_DESC.TXT"
RIGHT_ASCENSION = -1e+32
DECLINATION = -1e+32
OFFSET_ANGLE = -1e+32
SPACECRAFT_SOLAR_DISTANCE = 2.41796e+08
TARGET_NAME = MARS
/* CAMERA DATA ELEMENTS */
DETECTOR_TEMPERATURE = 17.7588
FOCAL_PLANE_TEMPERATURE = 5.9326
INST_CMPRS_NAME = "DISCRETE COSINE TRANSFORMATION (DCT)"
INST_CMPRS_RATIO = 7.15972
INST_CMPRS_QUALITY = 0
INST_CMPRS_QUANTZ_TBL_ID = 0
INSTRUMENT_TEMPERATURE = 10.8262
LENS_TEMPERATURE = 7.9716
MACROPIXEL_SIZE = 4
MISSING_FRAMES = 34
PIXEL_SUBSAMPLING_FLAG = N
SIGNAL_CHAIN_ID = 2
/* RADIOMETRIC DATA ELEMENTS */
BANDWIDTH = 76.0
CENTER_FILTER_WAVELENGTH = 444.0
RADIANCE_OFFSET = 0.500598
RADIANCE_SCALING_FACTOR = 0.00185556
REFLECTANCE_SCALING_FACTOR = 0.000111463
MEX:REFLECTANCE_OFFSET = 0.0300708
/* IMAGE OBJECT DEFINITIONS */
OBJECT = IMAGE
  INTERCHANGE_FORMAT = BINARY
  LINES = 12667
  LINE_SAMPLES = 1805
  SAMPLE_TYPE = UNSIGNED_INTEGER
  SAMPLE_BITS = 8
  BANDS = 1
  BAND_STORAGE_TYPE = BAND_SEQUENTIAL
  MAXIMUM = 152
  MEAN = 99.7514
  MINIMUM = 68
  STANDARD_DEVIATION = 11.8539
END_OBJECT = IMAGE
/* MAP OBJECT DEFINITIONS */
OBJECT = IMAGE_MAP_PROJECTION
  ^DATA_SET_MAP_PROJECTION_CATALOG= "DSMAP.CAT"
  A_AXIS_RADIUS = 3396.0
  B_AXIS_RADIUS = 3396.0
  C_AXIS_RADIUS = 3396.0
  CENTER_LATITUDE = 0.0
  CENTER_LONGITUDE = 259.0
  COORDINATE_SYSTEM_NAME = PLANETOGRAPHIC
  COORDINATE_SYSTEM_TYPE = "BODY-FIXED ROTATING"
  EASTERNMOST_LONGITUDE = 259.939
  FIRST_STANDARD_PARALLEL = "N/A"
  LINE_FIRST_PIXEL = 1
  LINE_LAST_PIXEL = 12667
  LINE_PROJECTION_OFFSET = -47150.875
  MAP_PROJECTION_ROTATION = 0.0
  MAP_PROJECTION_TYPE = SINUSOIDAL
  MAP_RESOLUTION = 1185.42760773333
  MAP_SCALE = 0.05
  MAXIMUM_LATITUDE = -39.7582
  MINIMUM_LATITUDE = -50.4341
  POSITIVE_LONGITUDE_DIRECTION = EAST
  REFERENCE_LATITUDE = "N/A"
  REFERENCE_LONGITUDE = "N/A"
  SAMPLE_FIRST_PIXEL = 1
  SAMPLE_LAST_PIXEL = 1805
  SAMPLE_PROJECTION_OFFSET = 919.625
  SECOND_STANDARD_PARALLEL = "N/A"
  WESTERNMOST_LONGITUDE = 257.804
END_OBJECT = IMAGE_MAP_PROJECTION
/* The JPEG2000 image data file associated with this label. */
OBJECT = COMPRESSED_FILE
  FILE_NAME = "H0344_0000_BL3.JP2"
  RECORD_TYPE = UNDEFINED
  FILE_RECORDS = UNK
  ENCODING_TYPE = "JP2"
  INTERCHANGE_FORMAT = BINARY
  UNCOMPRESSED_FILE_NAME = "H0344_0000_BL3.IMG"
  REQUIRED_STORAGE_BYTES = "22883790"
  ^DESCRIPTION = "JP2INFO.TXT"
END_OBJECT = COMPRESSED_FILE
END
