PDS_VERSION_ID = PDS3
/* FILE DATA ELEMENTS */
RECORD_TYPE = STREAM
/* POINTERS TO DATA OBJECTS */
^COMPRESSED_FILE = "H0344_0000_GR3.JP2"
/* IDENTIFICATION DATA ELEMENTS */
DATA_SET_ID = "MEX-M-HRSC-5-REFDR-MAPPROJECTED-V3.0"
DATA_SET_NAME = "MARS EXPRESS HRSC MAP PROJECTED REFDR V3.0"
DETECTOR_ID = MEX_HRSC_GREEN
EVENT_TYPE = "MARS-REGIONAL-MAPPING-Vo-Te-Im"
INSTRUMENT_HOST_ID = MEX
INSTRUMENT_HOST_NAME = "MARS EXPRESS"
INSTRUMENT_ID = HRSC
INSTRUMENT_NAME = "HIGH RESOLUTION STEREO CAMERA"
MISSION_NAME = "MARS EXPRESS"
MISSION_PHASE_NAME = MC_Phase_6
PROCESSING_LEVEL_ID = 3
PRODUCT_CREATION_TIME = 2016-03-03T01:16:01.000Z
PRODUCT_ID = "H0344_0000_GR3.JP2"
RELEASE_ID = 0006
REVISION_ID = 0000
/* QUALITY DATA ELEMENTS */
DATA_QUALITY_ID = 1
DATA_QUALITY_DESC = "Data calculated based on original SPICE kernels"
/* TIME DATA ELEMENTS */
SPACECRAFT_CLOCK_START_COUNT = "1/0031175416.57995"
SPACECRAFT_CLOCK_STOP_COUNT = "1/0031175633.48842"
START_TIME = 2004-04-27T19:50:45.230Z
STOP_TIME = 2004-04-27T19:53:24.215Z
/* ORBITAL DATA ELEMENTS */
ASCENDING_NODE_LONGITUDE = 221.88
MAXIMUM_RESOLUTION = 43.4
FOOTPRINT_POINT_LATITUDE = (-50.4221,-50.4484,-50.4597,-50.0797, -49.7842,-49.5865,-49.3888,-49.0922, -48.8946,-48.697,-48.4008,-48.2033, -48.006,-47.8088,-47.6117,-47.4146, -47.2176,-46.9105,-46.7058,-46.5013, -46.2969,-46.0925,-45.8882,-45.684, -45.4799,-45.174,-44.8624,-44.651, -44.4396,-44.2283,-44.0172,-43.8061, -43.5953,-43.3845,-43.174,-42.956, -42.738,-42.5202,-42.3026,-42.0853, -41.8682,-41.6513,-41.4306,-41.2062, -40.9823,-40.6452,-40.3097,-40.0856, -39.8545,-39.806,-39.7999,-39.7886, -39.7767,-40.0078,-40.2325,-40.5665, -40.9026,-41.1265,-41.351,-41.5721, -41.7885,-42.0054,-42.2226,-42.44, -42.6576,-42.8754,-43.0933,-43.3049, -43.6205,-43.831,-44.0417,-44.2525, -44.4635,-44.6745,-44.9907,-45.1942, -45.3978,-45.6015,-45.8054,-46.0093, -46.2133,-46.4175,-46.7237,-46.928, -47.1325,-47.3308,-47.5271,-47.7239, -48.0192,-48.2161,-48.4132,-48.6103, -48.8075,-49.0047,-49.202,-49.3993, -49.5967,-49.7941,-50.1814,-50.4221)
FOOTPRINT_POINT_LONGITUDE = (258.004,258.686,259.274,259.304, 259.327,259.342,259.358,259.38,259.395, 259.41,259.432,259.447,259.461,259.475, 259.489,259.502,259.516,259.537,259.55, 259.564,259.577,259.59,259.603,259.616, 259.629,259.648,259.667,259.679,259.692 ,259.704,259.716,259.728,259.74,259.752 ,259.763,259.775,259.786,259.797, 259.808,259.819,259.829,259.838,259.849 ,259.859,259.868,259.886,259.904, 259.915,259.926,259.612,259.336,258.881 ,258.449,258.442,258.434,258.422,258.41 ,258.4,258.391,258.38,258.369,258.359, 258.35,258.34,258.329,258.319,258.309, 258.298,258.282,258.271,258.26,258.249, 258.237,258.225,258.207,258.194,258.182 ,258.169,258.157,258.143,258.13,258.117 ,258.095,258.081,258.067,258.053, 258.038,258.023,258.001,257.985,257.97, 257.954,257.938,257.921,257.904,257.887 ,257.869,257.852,257.816,258.004)
ORBIT_NUMBER = 344
ORBITAL_ECCENTRICITY = 0.607
ORBITAL_INCLINATION = 86.55
ORBITAL_SEMIMAJOR_AXIS = 9267.14
PERIAPSIS_ALTITUDE = 264.66
PERIAPSIS_ARGUMENT_ANGLE = 301.29
PERIAPSIS_TIME = 2004-04-27T19:48:49.000Z
SPACECRAFT_ORIENTATION = (0.0,-1.0,0.0)
^MEX_ORIENTATION_DESC = "MEX_ORIENTATION_DESC.TXT"
SPACECRAFT_POINTING_MODE = NADIR
^MEX_POINTING_DESC = "MEX_POINTING_DESC.TXT"
RIGHT_ASCENSION = -1e+32
DECLINATION = -1e+32
OFFSET_ANGLE = -1e+32
SPACECRAFT_SOLAR_DISTANCE = 2.41796e+08
TARGET_NAME = MARS
/* CAMERA DATA ELEMENTS */
DETECTOR_TEMPERATURE = 17.7588
FOCAL_PLANE_TEMPERATURE = 5.9326
INST_CMPRS_NAME = "DISCRETE COSINE TRANSFORMATION (DCT)"
INST_CMPRS_RATIO = 14.6529
INST_CMPRS_QUALITY = 0
INST_CMPRS_QUANTZ_TBL_ID = 0
INSTRUMENT_TEMPERATURE = 10.8262
LENS_TEMPERATURE = 7.9716
MACROPIXEL_SIZE = 4
MISSING_FRAMES = 34
PIXEL_SUBSAMPLING_FLAG = N
SIGNAL_CHAIN_ID = 2
/* RADIOMETRIC DATA ELEMENTS */
BANDWIDTH = 88.0
CENTER_FILTER_WAVELENGTH = 538.0
RADIANCE_OFFSET = 0.889944
RADIANCE_SCALING_FACTOR = 0.00348998
REFLECTANCE_SCALING_FACTOR = 0.000175676
MEX:REFLECTANCE_OFFSET = 0.0447973
/* IMAGE OBJECT DEFINITIONS */
OBJECT = IMAGE
  INTERCHANGE_FORMAT = BINARY
  LINES = 12667
  LINE_SAMPLES = 1805
  SAMPLE_TYPE = UNSIGNED_INTEGER
  SAMPLE_BITS = 8
  BANDS = 1
  BAND_STORAGE_TYPE = BAND_SEQUENTIAL
  MAXIMUM = 126
  MEAN = 81.9215
  MINIMUM = 51
  STANDARD_DEVIATION = 10.0583
END_OBJECT = IMAGE
/* MAP OBJECT DEFINITIONS */
OBJECT = IMAGE_MAP_PROJECTION
  ^DATA_SET_MAP_PROJECTION_CATALOG= "DSMAP.CAT"
  A_AXIS_RADIUS = 3396.0
  B_AXIS_RADIUS = 3396.0
  C_AXIS_RADIUS = 3396.0
  CENTER_LATITUDE = 0.0
  CENTER_LONGITUDE = 259.0
  COORDINATE_SYSTEM_NAME = PLANETOGRAPHIC
  COORDINATE_SYSTEM_TYPE = "BODY-FIXED ROTATING"
  EASTERNMOST_LONGITUDE = 259.926
  FIRST_STANDARD_PARALLEL = "N/A"
  LINE_FIRST_PIXEL = 1
  LINE_LAST_PIXEL = 12667
  LINE_PROJECTION_OFFSET = -47150.875
  MAP_PROJECTION_ROTATION = 0.0
  MAP_PROJECTION_TYPE = SINUSOIDAL
  MAP_RESOLUTION = 1185.42760773333
  MAP_SCALE = 0.05
  MAXIMUM_LATITUDE = -39.7767
  MINIMUM_LATITUDE = -50.4597
  POSITIVE_LONGITUDE_DIRECTION = EAST
  REFERENCE_LATITUDE = "N/A"
  REFERENCE_LONGITUDE = "N/A"
  SAMPLE_FIRST_PIXEL = 1
  SAMPLE_LAST_PIXEL = 1805
  SAMPLE_PROJECTION_OFFSET = 919.625
  SECOND_STANDARD_PARALLEL = "N/A"
  WESTERNMOST_LONGITUDE = 257.816
END_OBJECT = IMAGE_MAP_PROJECTION
/* The JPEG2000 image data file associated with this label. */
OBJECT = COMPRESSED_FILE
  FILE_NAME = "H0344_0000_GR3.JP2"
  RECORD_TYPE = UNDEFINED
  FILE_RECORDS = UNK
  ENCODING_TYPE = "JP2"
  INTERCHANGE_FORMAT = BINARY
  UNCOMPRESSED_FILE_NAME = "H0344_0000_GR3.IMG"
  REQUIRED_STORAGE_BYTES = "22883790"
  ^DESCRIPTION = "JP2INFO.TXT"
END_OBJECT = COMPRESSED_FILE
END
