PDS_VERSION_ID = PDS3
/* FILE DATA ELEMENTS */
RECORD_TYPE = STREAM
/* POINTERS TO DATA OBJECTS */
^COMPRESSED_FILE = "H0350_0000_S13.JP2"
/* IDENTIFICATION DATA ELEMENTS */
DATA_SET_ID = "MEX-M-HRSC-5-REFDR-MAPPROJECTED-V3.0"
DATA_SET_NAME = "MARS EXPRESS HRSC MAP PROJECTED REFDR V3.0"
DETECTOR_ID = MEX_HRSC_S1
EVENT_TYPE = "MARS-REGIONAL-MAPPING-Fl-Gl-Lc"
INSTRUMENT_HOST_ID = MEX
INSTRUMENT_HOST_NAME = "MARS EXPRESS"
INSTRUMENT_ID = HRSC
INSTRUMENT_NAME = "HIGH RESOLUTION STEREO CAMERA"
MISSION_NAME = "MARS EXPRESS"
MISSION_PHASE_NAME = MC_Phase_6
PROCESSING_LEVEL_ID = 3
PRODUCT_CREATION_TIME = 2016-03-03T01:16:01.000Z
PRODUCT_ID = "H0350_0000_S13.JP2"
RELEASE_ID = 0006
REVISION_ID = 0000
/* QUALITY DATA ELEMENTS */
DATA_QUALITY_ID = 1
DATA_QUALITY_DESC = "Data calculated based on original SPICE kernels"
/* TIME DATA ELEMENTS */
SPACECRAFT_CLOCK_START_COUNT = "1/0031338992.57949"
SPACECRAFT_CLOCK_STOP_COUNT = "1/0031339219.56922"
START_TIME = 2004-04-29T17:16:41.513Z
STOP_TIME = 2004-04-29T17:19:38.267Z
/* ORBITAL DATA ELEMENTS */
ASCENDING_NODE_LONGITUDE = 221.75
MAXIMUM_RESOLUTION = 22.2
FOOTPRINT_POINT_LATITUDE = (-62.9968,-63.025,-63.05,-63.0793, -62.8814,-62.6425,-62.4028,-62.1625, -61.921,-61.6788,-61.4359,-61.1941, -60.8357,-60.5948,-60.3586,-60.1111, -59.7433,-59.5011,-59.2635,-59.0378, -58.8129,-58.5686,-58.3311,-58.0977, -57.7469,-57.5115,-57.2786,-56.9328, -56.6978,-56.4602,-56.2213,-55.9866, -55.7518,-55.5171,-55.2748,-55.0288, -54.7847,-54.538,-54.1712,-53.9265, -53.682,-53.4367,-53.069,-52.8233, -52.4549,-52.2058,-51.9618,-51.7176, -51.4709,-51.2244,-50.9786,-50.9696, -50.9592,-50.9465,-50.9327,-50.9193, -51.1641,-51.4099,-51.7788,-52.0239, -52.3915,-52.6366,-52.882,-53.1268, -53.4918,-53.7352,-54.1032,-54.47, -54.7151,-54.9593,-55.2031,-55.4445, -55.808,-56.0483,-56.2733,-56.5007, -56.8607,-57.2036,-57.4357,-57.6683, -57.9041,-58.134,-58.3656,-58.7132, -58.9458,-59.1742,-59.532,-59.8945, -60.1363,-60.3807,-60.6198,-60.8606, -61.0968,-61.3391,-61.5791,-61.8165, -62.1758,-62.5334,-62.772,-62.9968)
FOOTPRINT_POINT_LONGITUDE = (310.798,311.329,311.842,312.509, 312.608,312.651,312.694,312.736,312.779 ,312.821,312.863,312.903,312.958, 312.996,313.029,313.07,313.127,313.162, 313.195,313.223,313.249,313.289,313.323 ,313.354,313.399,313.43,313.458,313.497 ,313.526,313.556,313.586,313.612, 313.639,313.665,313.691,313.718,313.743 ,313.769,313.805,313.829,313.852, 313.876,313.91,313.933,313.966,313.99, 314.01,314.03,314.051,314.072,314.092, 313.885,313.574,313.248,312.863,312.562 ,312.537,312.512,312.473,312.447, 312.406,312.378,312.35,312.321,312.275, 312.244,312.198,312.149,312.117,312.083 ,312.048,312.014,311.967,311.935, 311.896,311.857,311.805,311.745,311.705 ,311.665,311.625,311.583,311.54,311.475 ,311.431,311.384,311.312,311.238, 311.187,311.136,311.082,311.028,310.971 ,310.916,310.858,310.798,310.708, 310.614,310.55,310.798)
ORBIT_NUMBER = 350
ORBITAL_ECCENTRICITY = 0.606
ORBITAL_INCLINATION = 86.58
ORBITAL_SEMIMAJOR_AXIS = 9261.87
PERIAPSIS_ALTITUDE = 265.18
PERIAPSIS_ARGUMENT_ANGLE = 300.3
PERIAPSIS_TIME = 2004-04-29T17:17:55.000Z
SPACECRAFT_ORIENTATION = (0.0,-1.0,0.0)
^MEX_ORIENTATION_DESC = "MEX_ORIENTATION_DESC.TXT"
SPACECRAFT_POINTING_MODE = NADIR
^MEX_POINTING_DESC = "MEX_POINTING_DESC.TXT"
RIGHT_ASCENSION = -1e+32
DECLINATION = -1e+32
OFFSET_ANGLE = -1e+32
SPACECRAFT_SOLAR_DISTANCE = 2.42059e+08
TARGET_NAME = MARS
/* CAMERA DATA ELEMENTS */
DETECTOR_TEMPERATURE = 16.9432
FOCAL_PLANE_TEMPERATURE = 7.3599
INST_CMPRS_NAME = "DISCRETE COSINE TRANSFORMATION (DCT)"
INST_CMPRS_RATIO = 10.2595
INST_CMPRS_QUALITY = 0
INST_CMPRS_QUANTZ_TBL_ID = 0
INSTRUMENT_TEMPERATURE = 10.8262
LENS_TEMPERATURE = 7.9716
MACROPIXEL_SIZE = 2
MISSING_FRAMES = 0
PIXEL_SUBSAMPLING_FLAG = N
SIGNAL_CHAIN_ID = 1
/* RADIOMETRIC DATA ELEMENTS */
BANDWIDTH = 180.0
CENTER_FILTER_WAVELENGTH = 677.0
RADIANCE_OFFSET = 1.84125
RADIANCE_SCALING_FACTOR = 0.0109148
REFLECTANCE_SCALING_FACTOR = 0.000333656
MEX:REFLECTANCE_OFFSET = 0.0562853
/* IMAGE OBJECT DEFINITIONS */
OBJECT = IMAGE
  INTERCHANGE_FORMAT = BINARY
  LINES = 28582
  LINE_SAMPLES = 4299
  SAMPLE_TYPE = UNSIGNED_INTEGER
  SAMPLE_BITS = 8
  BANDS = 1
  BAND_STORAGE_TYPE = BAND_SEQUENTIAL
  MAXIMUM = 111
  MEAN = 78.1618
  MINIMUM = 41
  STANDARD_DEVIATION = 16.5607
END_OBJECT = IMAGE
/* MAP OBJECT DEFINITIONS */
OBJECT = IMAGE_MAP_PROJECTION
  ^DATA_SET_MAP_PROJECTION_CATALOG= "DSMAP.CAT"
  A_AXIS_RADIUS = 3396.0
  B_AXIS_RADIUS = 3396.0
  C_AXIS_RADIUS = 3396.0
  CENTER_LATITUDE = 0.0
  CENTER_LONGITUDE = 313.0
  COORDINATE_SYSTEM_NAME = PLANETOGRAPHIC
  COORDINATE_SYSTEM_TYPE = "BODY-FIXED ROTATING"
  EASTERNMOST_LONGITUDE = 314.092
  FIRST_STANDARD_PARALLEL = "N/A"
  LINE_FIRST_PIXEL = 1
  LINE_LAST_PIXEL = 28582
  LINE_PROJECTION_OFFSET = -120760.75
  MAP_PROJECTION_ROTATION = 0.0
  MAP_PROJECTION_TYPE = SINUSOIDAL
  MAP_RESOLUTION = 2370.85521546667
  MAP_SCALE = 0.025
  MAXIMUM_LATITUDE = -50.9193
  MINIMUM_LATITUDE = -63.0793
  POSITIVE_LONGITUDE_DIRECTION = EAST
  REFERENCE_LATITUDE = "N/A"
  REFERENCE_LONGITUDE = "N/A"
  SAMPLE_FIRST_PIXEL = 1
  SAMPLE_LAST_PIXEL = 4299
  SAMPLE_PROJECTION_OFFSET = 2623.75
  SECOND_STANDARD_PARALLEL = "N/A"
  WESTERNMOST_LONGITUDE = 310.55
END_OBJECT = IMAGE_MAP_PROJECTION
/* The JPEG2000 image data file associated with this label. */
OBJECT = COMPRESSED_FILE
  FILE_NAME = "H0350_0000_S13.JP2"
  RECORD_TYPE = UNDEFINED
  FILE_RECORDS = UNK
  ENCODING_TYPE = "JP2"
  INTERCHANGE_FORMAT = BINARY
  UNCOMPRESSED_FILE_NAME = "H0350_0000_S13.IMG"
  REQUIRED_STORAGE_BYTES = "122899812"
  ^DESCRIPTION = "JP2INFO.TXT"
END_OBJECT = COMPRESSED_FILE
END
