PDS_VERSION_ID = PDS3
/* FILE DATA ELEMENTS */
RECORD_TYPE = STREAM
/* POINTERS TO DATA OBJECTS */
^COMPRESSED_FILE = "H0353_0001_RE3.JP2"
/* IDENTIFICATION DATA ELEMENTS */
DATA_SET_ID = "MEX-M-HRSC-5-REFDR-MAPPROJECTED-V3.0"
DATA_SET_NAME = "MARS EXPRESS HRSC MAP PROJECTED REFDR V3.0"
DETECTOR_ID = MEX_HRSC_RED
EVENT_TYPE = "MARS-LOCAL-STEREO-Im-Fl"
INSTRUMENT_HOST_ID = MEX
INSTRUMENT_HOST_NAME = "MARS EXPRESS"
INSTRUMENT_ID = HRSC
INSTRUMENT_NAME = "HIGH RESOLUTION STEREO CAMERA"
MISSION_NAME = "MARS EXPRESS"
MISSION_PHASE_NAME = MC_Phase_6
PROCESSING_LEVEL_ID = 3
PRODUCT_CREATION_TIME = 2016-03-03T01:16:01.000Z
PRODUCT_ID = "H0353_0001_RE3.JP2"
RELEASE_ID = 0006
REVISION_ID = 0000
/* QUALITY DATA ELEMENTS */
DATA_QUALITY_ID = 1
DATA_QUALITY_DESC = "Data calculated based on original SPICE kernels"
/* TIME DATA ELEMENTS */
SPACECRAFT_CLOCK_START_COUNT = "1/0031420844.57949"
SPACECRAFT_CLOCK_STOP_COUNT = "1/0031421055.32760"
START_TIME = 2004-04-30T16:01:36.178Z
STOP_TIME = 2004-04-30T16:04:17.964Z
/* ORBITAL DATA ELEMENTS */
ASCENDING_NODE_LONGITUDE = 221.69
MAXIMUM_RESOLUTION = 87.5
FOOTPRINT_POINT_LATITUDE = (-63.975,-64.003,-64.0207,-64.0426, -64.0553,-63.9084,-63.6893,-63.3627, -63.1485,-62.9392,-62.7301,-62.5171, -62.3077,-62.0992,-61.7863,-61.5777, -61.2653,-60.9525,-60.5713,-60.2591, -60.0508,-59.7392,-59.532,-59.3263, -59.1202,-58.9141,-58.6051,-58.3939, -58.1798,-57.9651,-57.6424,-57.3196, -57.1046,-56.8899,-56.5677,-56.3524, -56.1388,-55.9224,-55.7009,-55.4857, -55.273,-54.9556,-54.6359,-54.4241, -54.2112,-53.998,-53.6793,-53.4669, -53.211,-53.2045,-53.1895,-53.1798, -53.1702,-53.1566,-53.377,-53.5899, -53.8019,-54.0136,-54.2254,-54.5449, -54.7581,-54.9723,-55.2911,-55.5037, -55.8219,-56.1481,-56.3624,-56.5775, -56.7917,-57.0051,-57.2194,-57.4345, -57.7559,-58.0773,-58.3934,-58.6057, -58.8135,-59.1209,-59.328,-59.5341, -59.7406,-59.9456,-60.1599,-60.3679, -60.5692,-60.9486,-61.2592,-61.4664, -61.6732,-61.8802,-62.0884,-62.4002, -62.6087,-62.9202,-63.1343,-63.3507, -63.5668,-63.7829,-63.9973,-63.975)
FOOTPRINT_POINT_LONGITUDE = (338.009,338.567,338.939,339.423, 339.722,339.819,339.863,339.929,339.974 ,340.015,340.054,340.091,340.129, 340.167,340.222,340.258,340.311,340.363 ,340.425,340.474,340.506,340.553, 340.584,340.615,340.646,340.676,340.722 ,340.754,340.784,340.814,340.856, 340.898,340.925,340.952,340.991,341.017 ,341.042,341.066,341.087,341.111, 341.135,341.172,341.207,341.23,341.253, 341.274,341.307,341.328,341.235,341.039 ,340.604,340.348,340.108,339.753, 339.727,339.702,339.676,339.65,339.624, 339.582,339.554,339.524,339.481,339.452 ,339.408,339.356,339.323,339.289, 339.256,339.222,339.188,339.152,339.098 ,339.042,338.991,338.953,338.913, 338.856,338.816,338.775,338.734,338.693 ,338.643,338.598,338.558,338.474, 338.403,338.355,338.306,338.255,338.203 ,338.124,338.069,337.986,337.926, 337.866,337.805,337.744,337.682, 338.009)
ORBIT_NUMBER = 353
ORBITAL_ECCENTRICITY = 0.606
ORBITAL_INCLINATION = 86.58
ORBITAL_SEMIMAJOR_AXIS = 9261.8
PERIAPSIS_ALTITUDE = 264.95
PERIAPSIS_ARGUMENT_ANGLE = 299.76
PERIAPSIS_TIME = 2004-04-30T16:02:16.000Z
SPACECRAFT_ORIENTATION = (0.0,-1.0,0.0)
^MEX_ORIENTATION_DESC = "MEX_ORIENTATION_DESC.TXT"
SPACECRAFT_POINTING_MODE = NADIR
^MEX_POINTING_DESC = "MEX_POINTING_DESC.TXT"
RIGHT_ASCENSION = -1e+32
DECLINATION = -1e+32
OFFSET_ANGLE = -1e+32
SPACECRAFT_SOLAR_DISTANCE = 2.42189e+08
TARGET_NAME = MARS
/* CAMERA DATA ELEMENTS */
DETECTOR_TEMPERATURE = 20.2056
FOCAL_PLANE_TEMPERATURE = 8.1755
INST_CMPRS_NAME = "DISCRETE COSINE TRANSFORMATION (DCT)"
INST_CMPRS_RATIO = 32.9482
INST_CMPRS_QUALITY = 0
INST_CMPRS_QUANTZ_TBL_ID = 0
INSTRUMENT_TEMPERATURE = 11.8457
LENS_TEMPERATURE = 8.3794
MACROPIXEL_SIZE = 8
MISSING_FRAMES = 26
PIXEL_SUBSAMPLING_FLAG = N
SIGNAL_CHAIN_ID = 2
/* RADIOMETRIC DATA ELEMENTS */
BANDWIDTH = 48.0
CENTER_FILTER_WAVELENGTH = 748.0
RADIANCE_OFFSET = 0.319763
RADIANCE_SCALING_FACTOR = 0.00257394
REFLECTANCE_SCALING_FACTOR = 0.000344534
MEX:REFLECTANCE_OFFSET = 0.0428017
/* IMAGE OBJECT DEFINITIONS */
OBJECT = IMAGE
  INTERCHANGE_FORMAT = BINARY
  LINES = 6506
  LINE_SAMPLES = 1089
  SAMPLE_TYPE = UNSIGNED_INTEGER
  SAMPLE_BITS = 8
  BANDS = 1
  BAND_STORAGE_TYPE = BAND_SEQUENTIAL
  MAXIMUM = 118
  MEAN = 71.8017
  MINIMUM = 39
  STANDARD_DEVIATION = 17.2351
END_OBJECT = IMAGE
/* MAP OBJECT DEFINITIONS */
OBJECT = IMAGE_MAP_PROJECTION
  ^DATA_SET_MAP_PROJECTION_CATALOG= "DSMAP.CAT"
  A_AXIS_RADIUS = 3396.0
  B_AXIS_RADIUS = 3396.0
  C_AXIS_RADIUS = 3396.0
  CENTER_LATITUDE = 0.0
  CENTER_LONGITUDE = 340.0
  COORDINATE_SYSTEM_NAME = PLANETOGRAPHIC
  COORDINATE_SYSTEM_TYPE = "BODY-FIXED ROTATING"
  EASTERNMOST_LONGITUDE = 341.328
  FIRST_STANDARD_PARALLEL = "N/A"
  LINE_FIRST_PIXEL = 1
  LINE_LAST_PIXEL = 6506
  LINE_PROJECTION_OFFSET = -31514.4375
  MAP_PROJECTION_ROTATION = 0.0
  MAP_PROJECTION_TYPE = SINUSOIDAL
  MAP_RESOLUTION = 592.713803866667
  MAP_SCALE = 0.1
  MAXIMUM_LATITUDE = -53.1566
  MINIMUM_LATITUDE = -64.0553
  POSITIVE_LONGITUDE_DIRECTION = EAST
  REFERENCE_LATITUDE = "N/A"
  REFERENCE_LONGITUDE = "N/A"
  SAMPLE_FIRST_PIXEL = 1
  SAMPLE_LAST_PIXEL = 1089
  SAMPLE_PROJECTION_OFFSET = 613.0625
  SECOND_STANDARD_PARALLEL = "N/A"
  WESTERNMOST_LONGITUDE = 337.682
END_OBJECT = IMAGE_MAP_PROJECTION
/* The JPEG2000 image data file associated with this label. */
OBJECT = COMPRESSED_FILE
  FILE_NAME = "H0353_0001_RE3.JP2"
  RECORD_TYPE = UNDEFINED
  FILE_RECORDS = UNK
  ENCODING_TYPE = "JP2"
  INTERCHANGE_FORMAT = BINARY
  UNCOMPRESSED_FILE_NAME = "H0353_0001_RE3.IMG"
  REQUIRED_STORAGE_BYTES = "7103547"
  ^DESCRIPTION = "JP2INFO.TXT"
END_OBJECT = COMPRESSED_FILE
END
