PDS_VERSION_ID = PDS3
/* FILE DATA ELEMENTS */
RECORD_TYPE = STREAM
/* POINTERS TO DATA OBJECTS */
^COMPRESSED_FILE = "H0360_0000_GR3.JP2"
/* IDENTIFICATION DATA ELEMENTS */
DATA_SET_ID = "MEX-M-HRSC-5-REFDR-MAPPROJECTED-V3.0"
DATA_SET_NAME = "MARS EXPRESS HRSC MAP PROJECTED REFDR V3.0"
DETECTOR_ID = MEX_HRSC_GREEN
EVENT_TYPE = "MARS-GLOBAL-MAPPING-Te-Fl-Lc"
INSTRUMENT_HOST_ID = MEX
INSTRUMENT_HOST_NAME = "MARS EXPRESS"
INSTRUMENT_ID = HRSC
INSTRUMENT_NAME = "HIGH RESOLUTION STEREO CAMERA"
MISSION_NAME = "MARS EXPRESS"
MISSION_PHASE_NAME = MC_Phase_6
PROCESSING_LEVEL_ID = 3
PRODUCT_CREATION_TIME = 2016-03-03T01:16:01.000Z
PRODUCT_ID = "H0360_0000_GR3.JP2"
RELEASE_ID = 0006
REVISION_ID = 0000
/* QUALITY DATA ELEMENTS */
DATA_QUALITY_ID = 1
DATA_QUALITY_DESC = "Data calculated based on original SPICE kernels"
/* TIME DATA ELEMENTS */
SPACECRAFT_CLOCK_START_COUNT = "1/0031612651.56187"
SPACECRAFT_CLOCK_STOP_COUNT = "1/0031613373.19695"
START_TIME = 2004-05-02T21:18:37.852Z
STOP_TIME = 2004-05-02T21:24:51.595Z
/* ORBITAL DATA ELEMENTS */
ASCENDING_NODE_LONGITUDE = 221.55
MAXIMUM_RESOLUTION = 113.9
FOOTPRINT_POINT_LATITUDE = (-15.376,-15.3733,-15.3703,-15.3634, -15.3554,-14.9475,-14.5426,-14.1394, -13.7377,-13.3378,-12.9394,-12.5373, -12.1414,-11.7469,-11.3554,-10.7717, -10.3813,-9.99473,-9.60974,-9.22638, -8.84449,-8.27769,-7.90073,-7.3349, -6.96149,-6.59059,-6.22085,-5.85382, -5.48543,-5.12496,-4.75781,-4.39903, -3.85849,-3.49539,-3.14619,-2.79214, -2.43849,-2.08632,-1.73564,-1.3867, -1.03923,-0.693349,-0.349034,-0.0060313 ,0.335238,0.675121,1.35037,2.01969, 2.6835,3.11195,3.09018,3.07349,3.0613, 3.04095,3.01802,2.99992,2.98427,2.64619 ,1.98948,1.32654,0.657866,0.320971, -0.182393,-0.864054,-1.21132,-1.55173, -1.89862,-2.2518,-2.60157,-2.95302, -3.30589,-3.66053,-4.0166,-4.37427, -4.72834,-5.08919,-5.45479,-5.8195, -6.18481,-6.54929,-6.92192,-7.4783, -8.03271,-8.59635,-8.97345,-9.35308, -9.73483,-10.1202,-10.7013,-11.0882, -11.4769,-11.8671,-12.259,-12.6525, -13.0474,-13.4443,-13.8427,-14.2428, -14.6445,-15.376)
FOOTPRINT_POINT_LONGITUDE = (284.234,284.931,285.362,286.057, 286.658,286.811,286.819,286.827,286.835 ,286.843,286.851,286.869,286.878, 286.887,286.894,286.903,286.915,286.923 ,286.931,286.939,286.947,286.954, 286.961,286.977,286.984,286.989,286.996 ,287.0,287.01,287.008,287.021,287.022, 287.033,287.049,287.042,287.047,287.055 ,287.062,287.069,287.077,287.084, 287.091,287.098,287.106,287.113,287.121 ,287.136,287.151,287.167,287.024, 286.393,285.921,285.568,284.98,284.313, 283.763,283.291,282.994,283.058,283.121 ,283.183,283.214,283.249,283.307, 283.344,283.363,283.392,283.431,283.459 ,283.488,283.515,283.543,283.57,283.596 ,283.612,283.638,283.671,283.698, 283.722,283.741,283.774,283.81,283.834, 283.87,283.891,283.914,283.938,283.965, 284.006,284.028,284.049,284.07,284.091, 284.111,284.13,284.15,284.169,284.188, 284.206,284.234)
ORBIT_NUMBER = 360
ORBITAL_ECCENTRICITY = 0.606
ORBITAL_INCLINATION = 86.56
ORBITAL_SEMIMAJOR_AXIS = 9261.67
PERIAPSIS_ALTITUDE = 266.17
PERIAPSIS_ARGUMENT_ANGLE = 298.62
PERIAPSIS_TIME = 2004-05-02T21:06:37.000Z
SPACECRAFT_ORIENTATION = (0.0,-1.0,0.0)
^MEX_ORIENTATION_DESC = "MEX_ORIENTATION_DESC.TXT"
SPACECRAFT_POINTING_MODE = NADIR
^MEX_POINTING_DESC = "MEX_POINTING_DESC.TXT"
RIGHT_ASCENSION = -1e+32
DECLINATION = -1e+32
OFFSET_ANGLE = -1e+32
SPACECRAFT_SOLAR_DISTANCE = 2.42487e+08
TARGET_NAME = MARS
/* CAMERA DATA ELEMENTS */
DETECTOR_TEMPERATURE = 18.1666
FOCAL_PLANE_TEMPERATURE = 8.7872
INST_CMPRS_NAME = "DISCRETE COSINE TRANSFORMATION (DCT)"
INST_CMPRS_RATIO = 12.9023
INST_CMPRS_QUALITY = 0
INST_CMPRS_QUANTZ_TBL_ID = 0
INSTRUMENT_TEMPERATURE = 11.234
LENS_TEMPERATURE = 9.195
MACROPIXEL_SIZE = 4
MISSING_FRAMES = 0
PIXEL_SUBSAMPLING_FLAG = N
SIGNAL_CHAIN_ID = 2
/* RADIOMETRIC DATA ELEMENTS */
BANDWIDTH = 88.0
CENTER_FILTER_WAVELENGTH = 538.0
RADIANCE_OFFSET = 1.2329
RADIANCE_SCALING_FACTOR = 0.00865788
REFLECTANCE_SCALING_FACTOR = 0.000438311
MEX:REFLECTANCE_OFFSET = 0.0624167
/* IMAGE OBJECT DEFINITIONS */
OBJECT = IMAGE
  INTERCHANGE_FORMAT = BINARY
  LINES = 10971
  LINE_SAMPLES = 2646
  SAMPLE_TYPE = UNSIGNED_INTEGER
  SAMPLE_BITS = 8
  BANDS = 1
  BAND_STORAGE_TYPE = BAND_SEQUENTIAL
  MAXIMUM = 125
  MEAN = 83.659
  MINIMUM = 34
  STANDARD_DEVIATION = 12.0553
END_OBJECT = IMAGE
/* MAP OBJECT DEFINITIONS */
OBJECT = IMAGE_MAP_PROJECTION
  ^DATA_SET_MAP_PROJECTION_CATALOG= "DSMAP.CAT"
  A_AXIS_RADIUS = 3396.0
  B_AXIS_RADIUS = 3396.0
  C_AXIS_RADIUS = 3396.0
  CENTER_LATITUDE = 0.0
  CENTER_LONGITUDE = 285.0
  COORDINATE_SYSTEM_NAME = PLANETOGRAPHIC
  COORDINATE_SYSTEM_TYPE = "BODY-FIXED ROTATING"
  EASTERNMOST_LONGITUDE = 287.167
  FIRST_STANDARD_PARALLEL = "N/A"
  LINE_FIRST_PIXEL = 1
  LINE_LAST_PIXEL = 10971
  LINE_PROJECTION_OFFSET = 1852.875
  MAP_PROJECTION_ROTATION = 0.0
  MAP_PROJECTION_TYPE = SINUSOIDAL
  MAP_RESOLUTION = 592.713803866667
  MAP_SCALE = 0.1
  MAXIMUM_LATITUDE = 3.11195
  MINIMUM_LATITUDE = -15.376
  POSITIVE_LONGITUDE_DIRECTION = EAST
  REFERENCE_LATITUDE = "N/A"
  REFERENCE_LONGITUDE = "N/A"
  SAMPLE_FIRST_PIXEL = 1
  SAMPLE_LAST_PIXEL = 2646
  SAMPLE_PROJECTION_OFFSET = 1267.375
  SECOND_STANDARD_PARALLEL = "N/A"
  WESTERNMOST_LONGITUDE = 282.994
END_OBJECT = IMAGE_MAP_PROJECTION
/* The JPEG2000 image data file associated with this label. */
OBJECT = COMPRESSED_FILE
  FILE_NAME = "H0360_0000_GR3.JP2"
  RECORD_TYPE = UNDEFINED
  FILE_RECORDS = UNK
  ENCODING_TYPE = "JP2"
  INTERCHANGE_FORMAT = BINARY
  UNCOMPRESSED_FILE_NAME = "H0360_0000_GR3.IMG"
  REQUIRED_STORAGE_BYTES = "29050434"
  ^DESCRIPTION = "JP2INFO.TXT"
END_OBJECT = COMPRESSED_FILE
END
