PDS_VERSION_ID = PDS3
/* FILE DATA ELEMENTS */
RECORD_TYPE = STREAM
/* POINTERS TO DATA OBJECTS */
^COMPRESSED_FILE = "H0360_0000_P23.JP2"
/* IDENTIFICATION DATA ELEMENTS */
DATA_SET_ID = "MEX-M-HRSC-5-REFDR-MAPPROJECTED-V3.0"
DATA_SET_NAME = "MARS EXPRESS HRSC MAP PROJECTED REFDR V3.0"
DETECTOR_ID = MEX_HRSC_P2
EVENT_TYPE = "MARS-GLOBAL-MAPPING-Te-Fl-Lc"
INSTRUMENT_HOST_ID = MEX
INSTRUMENT_HOST_NAME = "MARS EXPRESS"
INSTRUMENT_ID = HRSC
INSTRUMENT_NAME = "HIGH RESOLUTION STEREO CAMERA"
MISSION_NAME = "MARS EXPRESS"
MISSION_PHASE_NAME = MC_Phase_6
PROCESSING_LEVEL_ID = 3
PRODUCT_CREATION_TIME = 2016-03-03T01:16:01.000Z
PRODUCT_ID = "H0360_0000_P23.JP2"
RELEASE_ID = 0006
REVISION_ID = 0000
/* QUALITY DATA ELEMENTS */
DATA_QUALITY_ID = 1
DATA_QUALITY_DESC = "Data calculated based on original SPICE kernels"
/* TIME DATA ELEMENTS */
SPACECRAFT_CLOCK_START_COUNT = "1/0031612651.56187"
SPACECRAFT_CLOCK_STOP_COUNT = "1/0031613373.19695"
START_TIME = 2004-05-02T21:19:50.603Z
STOP_TIME = 2004-05-02T21:27:43.756Z
/* ORBITAL DATA ELEMENTS */
ASCENDING_NODE_LONGITUDE = 221.55
MAXIMUM_RESOLUTION = 66.2
FOOTPRINT_POINT_LATITUDE = (-15.3551,-15.3461,-15.338,-15.3323, -15.3254,-15.3051,-14.8646,-14.4286, -13.9951,-13.5651,-13.1379,-12.5186, -12.097,-11.6955,-11.2785,-10.8637, -10.4644,-10.0634,-9.66254,-9.26493, -8.87024,-8.27649,-7.87774,-7.50734, -7.12407,-6.743,-6.35366,-5.97294, -5.59855,-5.23191,-4.69108,-4.31727, -3.95582,-3.61577,-3.2488,-2.69627, -2.34874,-2.00412,-1.66186,-1.32205, -0.98472,-0.317919,0.338882,0.985289, 1.61785,2.40066,3.01247,3.18011,3.16711 ,3.15686,3.13448,3.11097,3.0847,3.06459 ,3.04476,3.01919,2.99476,2.95676, 2.35496,1.74599,1.12949,0.499718, -0.323271,-0.968352,-1.47821,-2.1341, -2.47398,-2.81657,-3.1623,-3.51123, -3.8622,-4.21623,-4.59278,-4.95963, -5.31339,-5.67391,-6.22776,-6.60873, -6.96478,-7.34362,-7.73737,-8.14536, -8.52684,-8.91956,-9.31427,-9.70342, -10.2789,-10.679,-11.0851,-11.4942, -11.9065,-12.322,-12.7402,-13.162, -13.5874,-14.0153,-14.4461,-14.8802, -15.3172,-15.3551)
FOOTPRINT_POINT_LONGITUDE = (284.499,285.065,285.575,285.942, 286.395,286.995,287.008,287.022,287.035 ,287.048,287.062,287.09,287.102,287.123 ,287.135,287.146,287.164,287.179, 287.193,287.207,287.221,287.239,287.248 ,287.269,287.283,287.296,287.304, 287.315,287.328,287.343,287.368,287.377 ,287.39,287.413,287.421,287.43,287.444, 287.459,287.474,287.489,287.504,287.534 ,287.564,287.595,287.629,287.668, 287.703,287.409,286.953,286.598,285.943 ,285.339,284.734,284.281,283.929, 283.475,283.071,282.494,282.57,282.646, 282.722,282.796,282.879,282.954,283.002 ,283.078,283.113,283.147,283.181, 283.215,283.248,283.281,283.306,283.336 ,283.371,283.405,283.452,283.48,283.519 ,283.549,283.574,283.594,283.626, 283.654,283.683,283.714,283.767,283.796 ,283.823,283.85,283.877,283.903,283.93, 283.955,283.98,284.004,284.029,284.053, 284.076,284.499)
ORBIT_NUMBER = 360
ORBITAL_ECCENTRICITY = 0.606
ORBITAL_INCLINATION = 86.56
ORBITAL_SEMIMAJOR_AXIS = 9261.67
PERIAPSIS_ALTITUDE = 266.17
PERIAPSIS_ARGUMENT_ANGLE = 298.62
PERIAPSIS_TIME = 2004-05-02T21:06:37.000Z
SPACECRAFT_ORIENTATION = (0.0,-1.0,0.0)
^MEX_ORIENTATION_DESC = "MEX_ORIENTATION_DESC.TXT"
SPACECRAFT_POINTING_MODE = NADIR
^MEX_POINTING_DESC = "MEX_POINTING_DESC.TXT"
RIGHT_ASCENSION = -1e+32
DECLINATION = -1e+32
OFFSET_ANGLE = -1e+32
SPACECRAFT_SOLAR_DISTANCE = 2.42487e+08
TARGET_NAME = MARS
/* CAMERA DATA ELEMENTS */
DETECTOR_TEMPERATURE = 18.7783
FOCAL_PLANE_TEMPERATURE = 8.7872
INST_CMPRS_NAME = "DISCRETE COSINE TRANSFORMATION (DCT)"
INST_CMPRS_RATIO = 7.56572
INST_CMPRS_QUALITY = 0
INST_CMPRS_QUANTZ_TBL_ID = 0
INSTRUMENT_TEMPERATURE = 11.234
LENS_TEMPERATURE = 9.195
MACROPIXEL_SIZE = 2
MISSING_FRAMES = 0
PIXEL_SUBSAMPLING_FLAG = N
SIGNAL_CHAIN_ID = 3
/* RADIOMETRIC DATA ELEMENTS */
BANDWIDTH = 177.0
CENTER_FILTER_WAVELENGTH = 676.5
RADIANCE_OFFSET = 3.22636
RADIANCE_SCALING_FACTOR = 0.034254
REFLECTANCE_SCALING_FACTOR = 0.00106795
MEX:REFLECTANCE_OFFSET = 0.100589
/* IMAGE OBJECT DEFINITIONS */
OBJECT = IMAGE
  INTERCHANGE_FORMAT = BINARY
  LINES = 21942
  LINE_SAMPLES = 5291
  SAMPLE_TYPE = UNSIGNED_INTEGER
  SAMPLE_BITS = 8
  BANDS = 1
  BAND_STORAGE_TYPE = BAND_SEQUENTIAL
  MAXIMUM = 157
  MEAN = 99.9975
  MINIMUM = 33
  STANDARD_DEVIATION = 22.0141
END_OBJECT = IMAGE
/* MAP OBJECT DEFINITIONS */
OBJECT = IMAGE_MAP_PROJECTION
  ^DATA_SET_MAP_PROJECTION_CATALOG= "DSMAP.CAT"
  A_AXIS_RADIUS = 3396.0
  B_AXIS_RADIUS = 3396.0
  C_AXIS_RADIUS = 3396.0
  CENTER_LATITUDE = 0.0
  CENTER_LONGITUDE = 285.0
  COORDINATE_SYSTEM_NAME = PLANETOGRAPHIC
  COORDINATE_SYSTEM_TYPE = "BODY-FIXED ROTATING"
  EASTERNMOST_LONGITUDE = 287.703
  FIRST_STANDARD_PARALLEL = "N/A"
  LINE_FIRST_PIXEL = 1
  LINE_LAST_PIXEL = 21942
  LINE_PROJECTION_OFFSET = 3706.25
  MAP_PROJECTION_ROTATION = 0.0
  MAP_PROJECTION_TYPE = SINUSOIDAL
  MAP_RESOLUTION = 1185.42760773333
  MAP_SCALE = 0.05
  MAXIMUM_LATITUDE = 3.18011
  MINIMUM_LATITUDE = -15.3551
  POSITIVE_LONGITUDE_DIRECTION = EAST
  REFERENCE_LATITUDE = "N/A"
  REFERENCE_LONGITUDE = "N/A"
  SAMPLE_FIRST_PIXEL = 1
  SAMPLE_LAST_PIXEL = 5291
  SAMPLE_PROJECTION_OFFSET = 2535.25
  SECOND_STANDARD_PARALLEL = "N/A"
  WESTERNMOST_LONGITUDE = 282.494
END_OBJECT = IMAGE_MAP_PROJECTION
/* The JPEG2000 image data file associated with this label. */
OBJECT = COMPRESSED_FILE
  FILE_NAME = "H0360_0000_P23.JP2"
  RECORD_TYPE = UNDEFINED
  FILE_RECORDS = UNK
  ENCODING_TYPE = "JP2"
  INTERCHANGE_FORMAT = BINARY
  UNCOMPRESSED_FILE_NAME = "H0360_0000_P23.IMG"
  REQUIRED_STORAGE_BYTES = "116121577"
  ^DESCRIPTION = "JP2INFO.TXT"
END_OBJECT = COMPRESSED_FILE
END
