PDS_VERSION_ID = PDS3
/* FILE DATA ELEMENTS */
RECORD_TYPE = STREAM
/* POINTERS TO DATA OBJECTS */
^COMPRESSED_FILE = "H0363_0000_IR3.JP2"
/* IDENTIFICATION DATA ELEMENTS */
DATA_SET_ID = "MEX-M-HRSC-5-REFDR-MAPPROJECTED-V3.0"
DATA_SET_NAME = "MARS EXPRESS HRSC MAP PROJECTED REFDR V3.0"
DETECTOR_ID = MEX_HRSC_IR
EVENT_TYPE = "MARS-REGIONAL-STEREO-Fl-Gl-Mw"
INSTRUMENT_HOST_ID = MEX
INSTRUMENT_HOST_NAME = "MARS EXPRESS"
INSTRUMENT_ID = HRSC
INSTRUMENT_NAME = "HIGH RESOLUTION STEREO CAMERA"
MISSION_NAME = "MARS EXPRESS"
MISSION_PHASE_NAME = MC_Phase_6
PROCESSING_LEVEL_ID = 3
PRODUCT_CREATION_TIME = 2016-03-03T01:16:01.000Z
PRODUCT_ID = "H0363_0000_IR3.JP2"
RELEASE_ID = 0006
REVISION_ID = 0000
/* QUALITY DATA ELEMENTS */
DATA_QUALITY_ID = 1
DATA_QUALITY_DESC = "Data calculated based on original SPICE kernels"
/* TIME DATA ELEMENTS */
SPACECRAFT_CLOCK_START_COUNT = "1/0031693820.57993"
SPACECRAFT_CLOCK_STOP_COUNT = "1/0031694066.23642"
START_TIME = 2004-05-03T19:50:33.501Z
STOP_TIME = 2004-05-03T19:53:45.942Z
/* ORBITAL DATA ELEMENTS */
ASCENDING_NODE_LONGITUDE = 221.48
MAXIMUM_RESOLUTION = 87.6
FOOTPRINT_POINT_LATITUDE = (-62.818,-62.8488,-62.8924,-62.5827, -62.341,-62.0963,-61.8524,-61.4869, -61.121,-60.8805,-60.648,-60.4131, -60.1746,-59.9443,-59.7078,-59.472, -59.2325,-58.9976,-58.7617,-58.4094, -58.1655,-57.9265,-57.6742,-57.4273, -57.186,-56.8203,-56.5664,-56.3264, -56.0775,-55.8284,-55.5758,-54.9129, -54.6659,-54.4191,-54.1716,-53.9238, -53.6784,-53.4318,-53.0631,-52.6925, -52.4454,-52.1926,-51.807,-51.5497, -51.2925,-51.0354,-50.7777,-50.5207, -50.0994,-49.7133,-49.6746,-49.664, -49.6375,-50.0234,-50.4448,-50.7014, -51.0863,-51.3427,-51.5989,-51.8556, -52.1114,-52.3639,-52.6104,-52.8562, -53.1027,-53.3488,-53.5927,-53.839, -54.085,-54.3324,-54.5808,-54.8221, -55.4883,-55.864,-56.2279,-56.473, -56.7194,-56.9731,-57.2148,-57.5808, -57.8309,-58.091,-58.3353,-58.5608, -58.7987,-59.0302,-59.2657,-59.4957, -59.7291,-60.0784,-60.424,-60.6564, -61.016,-61.2577,-61.6207,-61.8622, -62.1046,-62.3466,-62.5883,-62.818)
FOOTPRINT_POINT_LONGITUDE = (309.554,310.141,311.087,311.322, 311.365,311.41,311.454,311.517,311.578, 311.616,311.652,311.69,311.73,311.763, 311.8,311.835,311.874,311.907,311.941, 311.989,312.022,312.049,312.087,312.119 ,312.146,312.189,312.225,312.25,312.281 ,312.311,312.344,312.418,312.444,312.47 ,312.496,312.522,312.546,312.57,312.604 ,312.639,312.662,312.685,312.72,312.742 ,312.764,312.786,312.808,312.829, 312.863,312.894,312.316,312.026,311.348 ,311.315,311.277,311.252,311.215, 311.189,311.163,311.136,311.108,311.081 ,311.053,311.025,310.997,310.967, 310.937,310.906,310.875,310.844,310.813 ,310.778,310.69,310.64,310.582,310.545, 310.507,310.471,310.43,310.367,310.328, 310.292,310.249,310.202,310.16,310.114, 310.069,310.021,309.973,309.9,309.823, 309.771,309.692,309.635,309.548,309.488 ,309.428,309.366,309.303,309.554)
ORBIT_NUMBER = 363
ORBITAL_ECCENTRICITY = 0.606
ORBITAL_INCLINATION = 86.58
ORBITAL_SEMIMAJOR_AXIS = 9258.67
PERIAPSIS_ALTITUDE = 265.7
PERIAPSIS_ARGUMENT_ANGLE = 298.1
PERIAPSIS_TIME = 2004-05-03T19:51:08.000Z
SPACECRAFT_ORIENTATION = (0.0,-1.0,0.0)
^MEX_ORIENTATION_DESC = "MEX_ORIENTATION_DESC.TXT"
SPACECRAFT_POINTING_MODE = NADIR
^MEX_POINTING_DESC = "MEX_POINTING_DESC.TXT"
RIGHT_ASCENSION = -1e+32
DECLINATION = -1e+32
OFFSET_ANGLE = -1e+32
SPACECRAFT_SOLAR_DISTANCE = 2.42614e+08
TARGET_NAME = MARS
/* CAMERA DATA ELEMENTS */
DETECTOR_TEMPERATURE = 17.1471
FOCAL_PLANE_TEMPERATURE = 8.1755
INST_CMPRS_NAME = "DISCRETE COSINE TRANSFORMATION (DCT)"
INST_CMPRS_RATIO = 14.1656
INST_CMPRS_QUALITY = 0
INST_CMPRS_QUANTZ_TBL_ID = 0
INSTRUMENT_TEMPERATURE = 11.234
LENS_TEMPERATURE = 8.3794
MACROPIXEL_SIZE = 8
MISSING_FRAMES = 73
PIXEL_SUBSAMPLING_FLAG = N
SIGNAL_CHAIN_ID = 2
/* RADIOMETRIC DATA ELEMENTS */
BANDWIDTH = 81.0
CENTER_FILTER_WAVELENGTH = 955.5
RADIANCE_OFFSET = 0.216488
RADIANCE_SCALING_FACTOR = 0.00300172
REFLECTANCE_SCALING_FACTOR = 0.000381179
MEX:REFLECTANCE_OFFSET = 0.0274911
/* IMAGE OBJECT DEFINITIONS */
OBJECT = IMAGE
  INTERCHANGE_FORMAT = BINARY
  LINES = 7803
  LINE_SAMPLES = 1197
  SAMPLE_TYPE = UNSIGNED_INTEGER
  SAMPLE_BITS = 8
  BANDS = 1
  BAND_STORAGE_TYPE = BAND_SEQUENTIAL
  MAXIMUM = 129
  MEAN = 81.6226
  MINIMUM = 28
  STANDARD_DEVIATION = 20.2179
END_OBJECT = IMAGE
/* MAP OBJECT DEFINITIONS */
OBJECT = IMAGE_MAP_PROJECTION
  ^DATA_SET_MAP_PROJECTION_CATALOG= "DSMAP.CAT"
  A_AXIS_RADIUS = 3396.0
  B_AXIS_RADIUS = 3396.0
  C_AXIS_RADIUS = 3396.0
  CENTER_LATITUDE = 0.0
  CENTER_LONGITUDE = 311.0
  COORDINATE_SYSTEM_NAME = PLANETOGRAPHIC
  COORDINATE_SYSTEM_TYPE = "BODY-FIXED ROTATING"
  EASTERNMOST_LONGITUDE = 312.894
  FIRST_STANDARD_PARALLEL = "N/A"
  LINE_FIRST_PIXEL = 1
  LINE_LAST_PIXEL = 7803
  LINE_PROJECTION_OFFSET = -29431.9375
  MAP_PROJECTION_ROTATION = 0.0
  MAP_PROJECTION_TYPE = SINUSOIDAL
  MAP_RESOLUTION = 592.713803866667
  MAP_SCALE = 0.1
  MAXIMUM_LATITUDE = -49.6375
  MINIMUM_LATITUDE = -62.8924
  POSITIVE_LONGITUDE_DIRECTION = EAST
  REFERENCE_LATITUDE = "N/A"
  REFERENCE_LONGITUDE = "N/A"
  SAMPLE_FIRST_PIXEL = 1
  SAMPLE_LAST_PIXEL = 1197
  SAMPLE_PROJECTION_OFFSET = 464.5625
  SECOND_STANDARD_PARALLEL = "N/A"
  WESTERNMOST_LONGITUDE = 309.303
END_OBJECT = IMAGE_MAP_PROJECTION
/* The JPEG2000 image data file associated with this label. */
OBJECT = COMPRESSED_FILE
  FILE_NAME = "H0363_0000_IR3.JP2"
  RECORD_TYPE = UNDEFINED
  FILE_RECORDS = UNK
  ENCODING_TYPE = "JP2"
  INTERCHANGE_FORMAT = BINARY
  UNCOMPRESSED_FILE_NAME = "H0363_0000_IR3.IMG"
  REQUIRED_STORAGE_BYTES = "9358146"
  ^DESCRIPTION = "JP2INFO.TXT"
END_OBJECT = COMPRESSED_FILE
END
