PDS_VERSION_ID = PDS3
/* FILE DATA ELEMENTS */
RECORD_TYPE = STREAM
/* POINTERS TO DATA OBJECTS */
^COMPRESSED_FILE = "H0363_0000_RE3.JP2"
/* IDENTIFICATION DATA ELEMENTS */
DATA_SET_ID = "MEX-M-HRSC-5-REFDR-MAPPROJECTED-V3.0"
DATA_SET_NAME = "MARS EXPRESS HRSC MAP PROJECTED REFDR V3.0"
DETECTOR_ID = MEX_HRSC_RED
EVENT_TYPE = "MARS-REGIONAL-STEREO-Fl-Gl-Mw"
INSTRUMENT_HOST_ID = MEX
INSTRUMENT_HOST_NAME = "MARS EXPRESS"
INSTRUMENT_ID = HRSC
INSTRUMENT_NAME = "HIGH RESOLUTION STEREO CAMERA"
MISSION_NAME = "MARS EXPRESS"
MISSION_PHASE_NAME = MC_Phase_6
PROCESSING_LEVEL_ID = 3
PRODUCT_CREATION_TIME = 2016-03-03T01:16:01.000Z
PRODUCT_ID = "H0363_0000_RE3.JP2"
RELEASE_ID = 0006
REVISION_ID = 0000
/* QUALITY DATA ELEMENTS */
DATA_QUALITY_ID = 1
DATA_QUALITY_DESC = "Data calculated based on original SPICE kernels"
/* TIME DATA ELEMENTS */
SPACECRAFT_CLOCK_START_COUNT = "1/0031693820.57993"
SPACECRAFT_CLOCK_STOP_COUNT = "1/0031694066.23642"
START_TIME = 2004-05-03T19:51:11.591Z
STOP_TIME = 2004-05-03T19:54:28.343Z
/* ORBITAL DATA ELEMENTS */
ASCENDING_NODE_LONGITUDE = 221.48
MAXIMUM_RESOLUTION = 88.5
FOOTPRINT_POINT_LATITUDE = (-62.6514,-62.6775,-62.6939,-62.7142, -62.5677,-62.3319,-62.0992,-61.866, -61.6318,-61.3987,-61.1634,-60.9269, -60.6814,-60.4382,-60.0769,-59.8306, -59.5897,-59.3526,-59.1096,-58.8668, -58.5053,-58.2627,-57.6144,-57.3732, -57.0089,-56.6499,-56.4041,-56.1638, -55.9297,-55.6953,-55.4547,-55.217, -54.8505,-54.6019,-54.2295,-53.9824, -53.6083,-53.2365,-52.8309,-52.4608, -52.2145,-51.9598,-51.7042,-51.4487, -51.1935,-50.8115,-50.5569,-50.3036, -50.0494,-49.7878,-49.7042,-49.6884, -49.6717,-49.7985,-50.0569,-50.3093, -50.5624,-50.8166,-51.0709,-51.4535, -51.7086,-51.9642,-52.2164,-52.4621, -52.8323,-53.236,-53.4847,-53.7333, -53.9804,-54.2278,-54.4737,-54.7214, -54.9732,-55.2048,-55.4438,-55.7967, -56.0417,-56.2805,-56.5204,-56.7597, -57.1159,-57.4758,-58.1033,-58.3458, -58.5954,-58.8333,-59.0772,-59.3182, -59.5642,-59.9275,-60.1705,-60.4167, -60.6603,-60.8996,-61.132,-61.3667, -61.7168,-62.0666,-62.4161,-62.6514)
FOOTPRINT_POINT_LONGITUDE = (309.601,310.131,310.485,310.945, 311.326,311.369,311.413,311.456,311.498 ,311.539,311.578,311.617,311.656, 311.696,311.756,311.792,311.83,311.87, 311.905,311.941,311.993,312.027,312.114 ,312.146,312.191,312.238,312.264, 312.294,312.325,312.356,312.384,312.412 ,312.452,312.48,312.52,312.547,312.584, 312.621,312.661,312.696,312.72,312.743, 312.767,312.79,312.812,312.846,312.868, 312.889,312.91,312.932,312.419,311.914, 311.471,311.296,311.274,311.252,311.23, 311.206,311.182,311.145,311.119,311.093 ,311.066,311.04,310.999,310.953,310.923 ,310.893,310.863,310.833,310.803, 310.771,310.736,310.709,310.676,310.631 ,310.591,310.557,310.521,310.484, 310.431,310.373,310.279,310.236,310.185 ,310.144,310.097,310.051,310.0,309.927, 309.876,309.822,309.768,309.717,309.664 ,309.609,309.526,309.44,309.353, 309.601)
ORBIT_NUMBER = 363
ORBITAL_ECCENTRICITY = 0.606
ORBITAL_INCLINATION = 86.58
ORBITAL_SEMIMAJOR_AXIS = 9258.67
PERIAPSIS_ALTITUDE = 265.7
PERIAPSIS_ARGUMENT_ANGLE = 298.1
PERIAPSIS_TIME = 2004-05-03T19:51:08.000Z
SPACECRAFT_ORIENTATION = (0.0,-1.0,0.0)
^MEX_ORIENTATION_DESC = "MEX_ORIENTATION_DESC.TXT"
SPACECRAFT_POINTING_MODE = NADIR
^MEX_POINTING_DESC = "MEX_POINTING_DESC.TXT"
RIGHT_ASCENSION = -1e+32
DECLINATION = -1e+32
OFFSET_ANGLE = -1e+32
SPACECRAFT_SOLAR_DISTANCE = 2.42614e+08
TARGET_NAME = MARS
/* CAMERA DATA ELEMENTS */
DETECTOR_TEMPERATURE = 18.1666
FOCAL_PLANE_TEMPERATURE = 8.1755
INST_CMPRS_NAME = "DISCRETE COSINE TRANSFORMATION (DCT)"
INST_CMPRS_RATIO = 35.3409
INST_CMPRS_QUALITY = 0
INST_CMPRS_QUANTZ_TBL_ID = 0
INSTRUMENT_TEMPERATURE = 11.234
LENS_TEMPERATURE = 8.3794
MACROPIXEL_SIZE = 8
MISSING_FRAMES = 73
PIXEL_SUBSAMPLING_FLAG = N
SIGNAL_CHAIN_ID = 2
/* RADIOMETRIC DATA ELEMENTS */
BANDWIDTH = 48.0
CENTER_FILTER_WAVELENGTH = 748.0
RADIANCE_OFFSET = 0.249331
RADIANCE_SCALING_FACTOR = 0.0032083
REFLECTANCE_SCALING_FACTOR = 0.000430957
MEX:REFLECTANCE_OFFSET = 0.0334915
/* IMAGE OBJECT DEFINITIONS */
OBJECT = IMAGE
  INTERCHANGE_FORMAT = BINARY
  LINES = 7803
  LINE_SAMPLES = 1197
  SAMPLE_TYPE = UNSIGNED_INTEGER
  SAMPLE_BITS = 8
  BANDS = 1
  BAND_STORAGE_TYPE = BAND_SEQUENTIAL
  MAXIMUM = 140
  MEAN = 87.2158
  MINIMUM = 31
  STANDARD_DEVIATION = 24.1406
END_OBJECT = IMAGE
/* MAP OBJECT DEFINITIONS */
OBJECT = IMAGE_MAP_PROJECTION
  ^DATA_SET_MAP_PROJECTION_CATALOG= "DSMAP.CAT"
  A_AXIS_RADIUS = 3396.0
  B_AXIS_RADIUS = 3396.0
  C_AXIS_RADIUS = 3396.0
  CENTER_LATITUDE = 0.0
  CENTER_LONGITUDE = 311.0
  COORDINATE_SYSTEM_NAME = PLANETOGRAPHIC
  COORDINATE_SYSTEM_TYPE = "BODY-FIXED ROTATING"
  EASTERNMOST_LONGITUDE = 312.932
  FIRST_STANDARD_PARALLEL = "N/A"
  LINE_FIRST_PIXEL = 1
  LINE_LAST_PIXEL = 7803
  LINE_PROJECTION_OFFSET = -29431.9375
  MAP_PROJECTION_ROTATION = 0.0
  MAP_PROJECTION_TYPE = SINUSOIDAL
  MAP_RESOLUTION = 592.713803866667
  MAP_SCALE = 0.1
  MAXIMUM_LATITUDE = -49.6717
  MINIMUM_LATITUDE = -62.7142
  POSITIVE_LONGITUDE_DIRECTION = EAST
  REFERENCE_LATITUDE = "N/A"
  REFERENCE_LONGITUDE = "N/A"
  SAMPLE_FIRST_PIXEL = 1
  SAMPLE_LAST_PIXEL = 1197
  SAMPLE_PROJECTION_OFFSET = 464.5625
  SECOND_STANDARD_PARALLEL = "N/A"
  WESTERNMOST_LONGITUDE = 309.353
END_OBJECT = IMAGE_MAP_PROJECTION
/* The JPEG2000 image data file associated with this label. */
OBJECT = COMPRESSED_FILE
  FILE_NAME = "H0363_0000_RE3.JP2"
  RECORD_TYPE = UNDEFINED
  FILE_RECORDS = UNK
  ENCODING_TYPE = "JP2"
  INTERCHANGE_FORMAT = BINARY
  UNCOMPRESSED_FILE_NAME = "H0363_0000_RE3.IMG"
  REQUIRED_STORAGE_BYTES = "9358146"
  ^DESCRIPTION = "JP2INFO.TXT"
END_OBJECT = COMPRESSED_FILE
END
