PDS_VERSION_ID = PDS3
/* FILE DATA ELEMENTS */
RECORD_TYPE = STREAM
/* POINTERS TO DATA OBJECTS */
^COMPRESSED_FILE = "H0363_0001_SR3.JP2"
/* IDENTIFICATION DATA ELEMENTS */
DATA_SET_ID = "MEX-M-HRSC-5-REFDR-MAPPROJECTED-V3.0"
DATA_SET_NAME = "MARS EXPRESS HRSC MAP PROJECTED REFDR V3.0"
DETECTOR_ID = MEX_HRSC_SRC
EVENT_TYPE = "MARS-REGIONAL-STEREO-Fl-Gl-Mw"
INSTRUMENT_HOST_ID = MEX
INSTRUMENT_HOST_NAME = "MARS EXPRESS"
INSTRUMENT_ID = HRSC
INSTRUMENT_NAME = "HIGH RESOLUTION STEREO CAMERA"
MISSION_NAME = "MARS EXPRESS"
MISSION_PHASE_NAME = MC_Phase_6
PROCESSING_LEVEL_ID = 3
PRODUCT_CREATION_TIME = 2016-03-03T01:16:01.000Z
PRODUCT_ID = "H0363_0001_SR3.JP2"
RELEASE_ID = 0006
REVISION_ID = 0000
/* QUALITY DATA ELEMENTS */
DATA_QUALITY_ID = 1
DATA_QUALITY_DESC = "Data calculated based on original SPICE kernels"
/* TIME DATA ELEMENTS */
SPACECRAFT_CLOCK_START_COUNT = "1/0031693820.57993"
SPACECRAFT_CLOCK_STOP_COUNT = "1/0031694066.23642"
IMAGE_TIME = 2004-05-03T19:53:05.065Z
START_TIME = 2004-05-03T19:53:04.807Z
STOP_TIME = 2004-05-03T19:53:05.323Z
/* ORBITAL DATA ELEMENTS */
ASCENDING_NODE_LONGITUDE = 221.48
MAXIMUM_RESOLUTION = 2.547
FOOTPRINT_POINT_LATITUDE = (-53.7703,-53.7716,-53.7732,-53.7745, -53.7761,-53.7783,-53.7795,-53.7812, -53.7825,-53.7844,-53.7862,-53.7875, -53.7892,-53.7914,-53.7928,-53.795, -53.7963,-53.7979,-53.7991,-53.8005, -53.8017,-53.8034,-53.8047,-53.8063, -53.8082,-53.8095,-53.8113,-53.8116, -53.8115,-53.8114,-53.8112,-53.8111, -53.811,-53.8109,-53.8108,-53.8107, -53.8106,-53.8104,-53.8103,-53.8102, -53.8101,-53.81,-53.8099,-53.8098, -53.8097,-53.8095,-53.8094,-53.8093, -53.8092,-53.8091,-53.8089,-53.8078, -53.8067,-53.8045,-53.803,-53.8011, -53.7982,-53.7955,-53.7942,-53.7926, -53.7907,-53.7879,-53.7854,-53.7842, -53.7828,-53.7808,-53.7794,-53.7775, -53.7763,-53.7746,-53.7724,-53.7711, -53.7693,-53.7672,-53.7659,-53.7656, -53.7658,-53.7659,-53.766,-53.7661, -53.7663,-53.7664,-53.7665,-53.7666, -53.7668,-53.7669,-53.767,-53.7671, -53.7672,-53.7673,-53.7674,-53.7675, -53.7677,-53.7678,-53.7679,-53.768, -53.7682,-53.7683,-53.7684,-53.7703)
FOOTPRINT_POINT_LONGITUDE = (311.764,311.764,311.764,311.764, 311.763,311.763,311.763,311.763,311.763 ,311.762,311.762,311.762,311.762, 311.762,311.762,311.761,311.761,311.761 ,311.761,311.761,311.761,311.76,311.76, 311.76,311.76,311.76,311.759,311.755, 311.752,311.749,311.746,311.741,311.738 ,311.736,311.734,311.731,311.728, 311.725,311.722,311.719,311.716,311.713 ,311.71,311.708,311.705,311.702,311.699 ,311.696,311.692,311.689,311.686, 311.685,311.686,311.686,311.686,311.686 ,311.686,311.687,311.687,311.687, 311.687,311.688,311.688,311.688,311.688 ,311.688,311.689,311.689,311.689, 311.689,311.689,311.689,311.69,311.69, 311.69,311.692,311.696,311.699,311.702, 311.705,311.709,311.712,311.714,311.717 ,311.721,311.726,311.728,311.731, 311.733,311.736,311.739,311.742,311.745 ,311.748,311.751,311.754,311.758, 311.761,311.764,311.764)
ORBIT_NUMBER = 363
ORBITAL_ECCENTRICITY = 0.606
ORBITAL_INCLINATION = 86.58
ORBITAL_SEMIMAJOR_AXIS = 9258.67
PERIAPSIS_ALTITUDE = 265.7
PERIAPSIS_ARGUMENT_ANGLE = 298.1
PERIAPSIS_TIME = 2004-05-03T19:51:08.000Z
SPACECRAFT_ORIENTATION = (0.0,-1.0,0.0)
^MEX_ORIENTATION_DESC = "MEX_ORIENTATION_DESC.TXT"
SPACECRAFT_POINTING_MODE = NADIR
^MEX_POINTING_DESC = "MEX_POINTING_DESC.TXT"
RIGHT_ASCENSION = -1e+32
DECLINATION = -1e+32
OFFSET_ANGLE = -1e+32
SPACECRAFT_SOLAR_DISTANCE = 2.42614e+08
TARGET_NAME = MARS
/* CAMERA DATA ELEMENTS */
BUFFER_MODE_ID = BUFFER_8
EXPOSURE_DURATION = 516.096
INST_CMPRS_NAME = NONE
INST_CMPRS_RATIO = 1.0
INST_CMPRS_QUALITY = -2147483648
INST_CMPRS_QUANTZ_TBL_ID = -2147483648
INSTRUMENT_TEMPERATURE = 8.18182
MISSING_FRAMES = 0
START_BIT = 0
/* RADIOMETRIC DATA ELEMENTS */
BANDWIDTH = 250.0
CENTER_FILTER_WAVELENGTH = 600.0
RADIANCE_OFFSET = -9.99e+31
RADIANCE_SCALING_FACTOR = -9.99e+31
REFLECTANCE_SCALING_FACTOR = -9.99e+31
MEX:REFLECTANCE_OFFSET = -9.99e+31
/* IMAGE OBJECT DEFINITIONS */
OBJECT = IMAGE
  INTERCHANGE_FORMAT = BINARY
  LINES = 1188
  LINE_SAMPLES = 1194
  SAMPLE_TYPE = UNSIGNED_INTEGER
  SAMPLE_BITS = 8
  BANDS = 1
  BAND_STORAGE_TYPE = BAND_SEQUENTIAL
  MAXIMUM = 13647
  MEAN = 12991.9
  MINIMUM = 12226
  STANDARD_DEVIATION = 223.36
END_OBJECT = IMAGE
/* MAP OBJECT DEFINITIONS */
OBJECT = IMAGE_MAP_PROJECTION
  ^DATA_SET_MAP_PROJECTION_CATALOG= "DSMAP.CAT"
  A_AXIS_RADIUS = 3396.19
  B_AXIS_RADIUS = 3396.19
  C_AXIS_RADIUS = 3396.19
  CENTER_LATITUDE = 0.0
  CENTER_LONGITUDE = 312.0
  COORDINATE_SYSTEM_NAME = PLANETOGRAPHIC
  COORDINATE_SYSTEM_TYPE = "BODY-FIXED ROTATING"
  EASTERNMOST_LONGITUDE = 311.764
  FIRST_STANDARD_PARALLEL = "N/A"
  LINE_FIRST_PIXEL = 1
  LINE_LAST_PIXEL = 1188
  LINE_PROJECTION_OFFSET = -1272881.0
  MAP_PROJECTION_ROTATION = 0.0
  MAP_PROJECTION_TYPE = SINUSOIDAL
  MAP_RESOLUTION = 23709.8786048756
  MAP_SCALE = 0.0025
  MAXIMUM_LATITUDE = -53.7656
  MINIMUM_LATITUDE = -53.8116
  POSITIVE_LONGITUDE_DIRECTION = EAST
  REFERENCE_LATITUDE = "N/A"
  REFERENCE_LONGITUDE = "N/A"
  SAMPLE_FIRST_PIXEL = 1
  SAMPLE_LAST_PIXEL = 1194
  SAMPLE_PROJECTION_OFFSET = 4440.0
  SECOND_STANDARD_PARALLEL = "N/A"
  WESTERNMOST_LONGITUDE = 311.685
END_OBJECT = IMAGE_MAP_PROJECTION
/* The JPEG2000 image data file associated with this label. */
OBJECT = COMPRESSED_FILE
  FILE_NAME = "H0363_0001_SR3.JP2"
  RECORD_TYPE = UNDEFINED
  FILE_RECORDS = UNK
  ENCODING_TYPE = "JP2"
  INTERCHANGE_FORMAT = BINARY
  UNCOMPRESSED_FILE_NAME = "H0363_0001_SR3.IMG"
  REQUIRED_STORAGE_BYTES = "1437576"
  ^DESCRIPTION = "JP2INFO.TXT"
END_OBJECT = COMPRESSED_FILE
END
