PDS_VERSION_ID = PDS3
/* FILE DATA ELEMENTS */
RECORD_TYPE = STREAM
/* POINTERS TO DATA OBJECTS */
^COMPRESSED_FILE = "H0365_0000_BL3.JP2"
/* IDENTIFICATION DATA ELEMENTS */
DATA_SET_ID = "MEX-M-HRSC-5-REFDR-MAPPROJECTED-V3.0"
DATA_SET_NAME = "MARS EXPRESS HRSC MAP PROJECTED REFDR V3.0"
DETECTOR_ID = MEX_HRSC_BLUE
EVENT_TYPE = "MARS-REGIONAL-STEREO-Fl-Gl-Mw"
INSTRUMENT_HOST_ID = MEX
INSTRUMENT_HOST_NAME = "MARS EXPRESS"
INSTRUMENT_ID = HRSC
INSTRUMENT_NAME = "HIGH RESOLUTION STEREO CAMERA"
MISSION_NAME = "MARS EXPRESS"
MISSION_PHASE_NAME = MC_Phase_6
PROCESSING_LEVEL_ID = 3
PRODUCT_CREATION_TIME = 2016-03-03T01:16:01.000Z
PRODUCT_ID = "H0365_0000_BL3.JP2"
RELEASE_ID = 0006
REVISION_ID = 0000
/* QUALITY DATA ELEMENTS */
DATA_QUALITY_ID = 1
DATA_QUALITY_DESC = "Data calculated based on original SPICE kernels"
/* TIME DATA ELEMENTS */
SPACECRAFT_CLOCK_START_COUNT = "1/0031748527.56188"
SPACECRAFT_CLOCK_STOP_COUNT = "1/0031748828.56977"
START_TIME = 2004-05-04T11:02:43.768Z
STOP_TIME = 2004-05-04T11:06:44.600Z
/* ORBITAL DATA ELEMENTS */
ASCENDING_NODE_LONGITUDE = 221.44
MAXIMUM_RESOLUTION = 44
FOOTPRINT_POINT_LATITUDE = (-54.3292,-54.3561,-54.3721,-54.2548, -53.9814,-53.6964,-53.2687,-52.8421, -52.4158,-52.1315,-51.8473,-51.5635, -51.2801,-50.9892,-50.6944,-50.253, -49.9591,-49.667,-49.3742,-49.0818, -48.7799,-48.3252,-48.0221,-47.7203, -47.418,-46.9562,-46.6437,-46.3314, -46.0194,-45.7082,-45.2285,-44.9073, -44.5865,-44.2659,-43.9385,-43.6077, -43.2778,-42.9482,-42.4412,-42.1021, -41.7636,-41.2448,-40.8968,-40.5494, -40.0153,-39.6588,-39.3952,-39.2114, -39.0285,-38.6635,-38.6175,-38.6073, -38.5981,-38.5911,-38.9551,-39.4997, -39.763,-40.1191,-40.4753,-40.9962, -41.343,-41.688,-42.1953,-42.5338, -42.8715,-43.2004,-43.5299,-43.86, -44.1881,-44.5081,-44.8286,-45.1493, -45.6289,-45.9397,-46.2509,-46.5625, -46.8747,-47.1863,-47.488,-47.7898, -48.0921,-48.3945,-48.6969,-49.1452, -49.4367,-49.7305,-50.0236,-50.4628, -50.9024,-51.1933,-51.4764,-51.7602, -52.1849,-52.4681,-52.7517,-53.0356, -53.3195,-53.6043,-54.0271,-54.3292)
FOOTPRINT_POINT_LONGITUDE = (89.4255,90.0807,90.518,90.7739,90.8047 ,90.8349,90.8779,90.9212,90.9631, 90.9894,91.0151,91.0407,91.0662,91.0927 ,91.1171,91.1534,91.1773,91.2042, 91.2283,91.2524,91.276,91.3114,91.3335, 91.3575,91.3791,91.4119,91.4333,91.4542 ,91.4743,91.495,91.5248,91.5454,91.5652 ,91.5844,91.6039,91.6226,91.6418, 91.6601,91.6875,91.7057,91.7237,91.7503 ,91.7677,91.7846,91.8108,91.8272, 91.8415,91.8485,91.8565,91.8731,91.3826 ,90.8731,90.4747,90.1662,90.1578, 90.1431,90.1357,90.1249,90.1138,90.0947 ,90.0842,90.0717,90.0516,90.0384, 90.0236,90.0093,89.9941,89.978,89.9618, 89.9453,89.9282,89.911,89.8841,89.8657, 89.847,89.8275,89.8071,89.7861,89.7651, 89.7441,89.7223,89.7003,89.6785,89.6444 ,89.6234,89.5954,89.5699,89.5329,89.495 ,89.47,89.4418,89.4115,89.3688,89.34, 89.3098,89.2786,89.2469,89.2125,89.1603 ,89.4255)
ORBIT_NUMBER = 365
ORBITAL_ECCENTRICITY = 0.606
ORBITAL_INCLINATION = 86.58
ORBITAL_SEMIMAJOR_AXIS = 9262.83
PERIAPSIS_ALTITUDE = 264.6
PERIAPSIS_ARGUMENT_ANGLE = 297.73
PERIAPSIS_TIME = 2004-05-04T11:00:46.000Z
SPACECRAFT_ORIENTATION = (0.0,-1.0,0.0)
^MEX_ORIENTATION_DESC = "MEX_ORIENTATION_DESC.TXT"
SPACECRAFT_POINTING_MODE = NADIR
^MEX_POINTING_DESC = "MEX_POINTING_DESC.TXT"
RIGHT_ASCENSION = -1e+32
DECLINATION = -1e+32
OFFSET_ANGLE = -1e+32
SPACECRAFT_SOLAR_DISTANCE = 2.42697e+08
TARGET_NAME = MARS
/* CAMERA DATA ELEMENTS */
DETECTOR_TEMPERATURE = 17.9627
FOCAL_PLANE_TEMPERATURE = 7.7677
INST_CMPRS_NAME = "DISCRETE COSINE TRANSFORMATION (DCT)"
INST_CMPRS_RATIO = 5.74236
INST_CMPRS_QUALITY = 0
INST_CMPRS_QUANTZ_TBL_ID = 0
INSTRUMENT_TEMPERATURE = 11.0301
LENS_TEMPERATURE = 7.9716
MACROPIXEL_SIZE = 4
MISSING_FRAMES = 12
PIXEL_SUBSAMPLING_FLAG = N
SIGNAL_CHAIN_ID = 2
/* RADIOMETRIC DATA ELEMENTS */
BANDWIDTH = 76.0
CENTER_FILTER_WAVELENGTH = 444.0
RADIANCE_OFFSET = 0.394411
RADIANCE_SCALING_FACTOR = 0.00170952
REFLECTANCE_SCALING_FACTOR = 0.000103457
MEX:REFLECTANCE_OFFSET = 0.0238691
/* IMAGE OBJECT DEFINITIONS */
OBJECT = IMAGE
  INTERCHANGE_FORMAT = BINARY
  LINES = 18740
  LINE_SAMPLES = 2104
  SAMPLE_TYPE = UNSIGNED_INTEGER
  SAMPLE_BITS = 8
  BANDS = 1
  BAND_STORAGE_TYPE = BAND_SEQUENTIAL
  MAXIMUM = 191
  MEAN = 126.157
  MINIMUM = 70
  STANDARD_DEVIATION = 17.1043
END_OBJECT = IMAGE
/* MAP OBJECT DEFINITIONS */
OBJECT = IMAGE_MAP_PROJECTION
  ^DATA_SET_MAP_PROJECTION_CATALOG= "DSMAP.CAT"
  A_AXIS_RADIUS = 3396.0
  B_AXIS_RADIUS = 3396.0
  C_AXIS_RADIUS = 3396.0
  CENTER_LATITUDE = 0.0
  CENTER_LONGITUDE = 91.0
  COORDINATE_SYSTEM_NAME = PLANETOGRAPHIC
  COORDINATE_SYSTEM_TYPE = "BODY-FIXED ROTATING"
  EASTERNMOST_LONGITUDE = 91.87309999999999
  FIRST_STANDARD_PARALLEL = "N/A"
  LINE_FIRST_PIXEL = 1
  LINE_LAST_PIXEL = 18740
  LINE_PROJECTION_OFFSET = -45751.875
  MAP_PROJECTION_ROTATION = 0.0
  MAP_PROJECTION_TYPE = SINUSOIDAL
  MAP_RESOLUTION = 1185.42760773333
  MAP_SCALE = 0.05
  MAXIMUM_LATITUDE = -38.5911
  MINIMUM_LATITUDE = -54.3721
  POSITIVE_LONGITUDE_DIRECTION = EAST
  REFERENCE_LATITUDE = "N/A"
  REFERENCE_LONGITUDE = "N/A"
  SAMPLE_FIRST_PIXEL = 1
  SAMPLE_LAST_PIXEL = 2104
  SAMPLE_PROJECTION_OFFSET = 1292.625
  SECOND_STANDARD_PARALLEL = "N/A"
  WESTERNMOST_LONGITUDE = 89.16030000000001
END_OBJECT = IMAGE_MAP_PROJECTION
/* The JPEG2000 image data file associated with this label. */
OBJECT = COMPRESSED_FILE
  FILE_NAME = "H0365_0000_BL3.JP2"
  RECORD_TYPE = UNDEFINED
  FILE_RECORDS = UNK
  ENCODING_TYPE = "JP2"
  INTERCHANGE_FORMAT = BINARY
  UNCOMPRESSED_FILE_NAME = "H0365_0000_BL3.IMG"
  REQUIRED_STORAGE_BYTES = "39450000"
  ^DESCRIPTION = "JP2INFO.TXT"
END_OBJECT = COMPRESSED_FILE
END
