PDS_VERSION_ID = PDS3
/* FILE DATA ELEMENTS */
RECORD_TYPE = STREAM
/* POINTERS TO DATA OBJECTS */
^COMPRESSED_FILE = "H0365_0000_IR3.JP2"
/* IDENTIFICATION DATA ELEMENTS */
DATA_SET_ID = "MEX-M-HRSC-5-REFDR-MAPPROJECTED-V3.0"
DATA_SET_NAME = "MARS EXPRESS HRSC MAP PROJECTED REFDR V3.0"
DETECTOR_ID = MEX_HRSC_IR
EVENT_TYPE = "MARS-REGIONAL-STEREO-Fl-Gl-Mw"
INSTRUMENT_HOST_ID = MEX
INSTRUMENT_HOST_NAME = "MARS EXPRESS"
INSTRUMENT_ID = HRSC
INSTRUMENT_NAME = "HIGH RESOLUTION STEREO CAMERA"
MISSION_NAME = "MARS EXPRESS"
MISSION_PHASE_NAME = MC_Phase_6
PROCESSING_LEVEL_ID = 3
PRODUCT_CREATION_TIME = 2016-03-03T01:16:01.000Z
PRODUCT_ID = "H0365_0000_IR3.JP2"
RELEASE_ID = 0006
REVISION_ID = 0000
/* QUALITY DATA ELEMENTS */
DATA_QUALITY_ID = 1
DATA_QUALITY_DESC = "Data calculated based on original SPICE kernels"
/* TIME DATA ELEMENTS */
SPACECRAFT_CLOCK_START_COUNT = "1/0031748527.56188"
SPACECRAFT_CLOCK_STOP_COUNT = "1/0031748828.56977"
START_TIME = 2004-05-04T11:02:20.254Z
STOP_TIME = 2004-05-04T11:06:11.777Z
/* ORBITAL DATA ELEMENTS */
ASCENDING_NODE_LONGITUDE = 221.44
MAXIMUM_RESOLUTION = 45.1
FOOTPRINT_POINT_LATITUDE = (-54.4333,-54.4518,-54.4115,-54.1307, -53.8461,-53.5666,-53.2849,-53.0028, -52.7196,-52.4379,-52.0018,-51.7099, -51.4168,-51.1231,-50.8301,-50.54, -50.2463,-49.8055,-49.5085,-49.2014, -48.8976,-48.591,-48.2864,-47.9833, -47.6751,-47.3712,-47.0553,-46.5849, -46.2707,-45.9562,-45.6389,-45.3239, -44.834,-44.5073,-44.1814,-43.6926, -43.1869,-42.8507,-42.3472,-42.0037, -41.6563,-41.3098,-40.9634,-40.4307, -40.0727,-39.5336,-39.1697,-38.9851, -38.6178,-38.5912,-38.5852,-38.5737, -38.5607,-38.7413,-38.9255,-39.2924, -39.6562,-40.012,-40.3687,-40.7261, -41.2474,-41.5941,-41.9402,-42.2831, -42.62,-43.1229,-43.4588,-43.7909, -44.1153,-44.4399,-44.7651,-45.0905, -45.4139,-45.7287,-46.2003,-46.5152, -46.8289,-47.2976,-47.6008,-47.9045, -48.2089,-48.6666,-48.9727,-49.2772, -49.7218,-50.0124,-50.4547,-50.748, -51.0489,-51.4876,-51.9208,-52.2156, -52.5019,-52.7835,-53.2055,-53.4874, -53.7656,-54.0447,-54.3243,-54.4333)
FOOTPRINT_POINT_LONGITUDE = (89.7998,90.2604,90.7527,90.7819, 90.8134,90.8406,90.8689,90.8968,90.9251 ,90.9519,90.9915,91.0171,91.0431,91.069 ,91.094,91.1166,91.1413,91.1776,91.2032 ,91.2284,91.2512,91.2753,91.2978, 91.3189,91.3429,91.364,91.3876,91.4174, 91.4374,91.4571,91.4783,91.4966,91.5264 ,91.546,91.5648,91.5922,91.6202,91.638, 91.664,91.6819,91.6994,91.7162,91.7329, 91.7579,91.7747,91.8002,91.8143,91.8226 ,91.8382,91.5074,91.1897,90.7659,90.342 ,90.2109,90.2061,90.1954,90.1845, 90.1729,90.161,90.1486,90.1293,90.116, 90.1018,90.0874,90.0734,90.0501,90.0339 ,90.0175,90.0007,89.9833,89.9655, 89.9472,89.9287,89.9102,89.8809,89.8608 ,89.8396,89.807,89.7854,89.7633,89.741, 89.7066,89.6833,89.6587,89.6207,89.5942 ,89.5563,89.5294,89.5054,89.4621, 89.4147,89.3849,89.3549,89.3242,89.2766 ,89.2442,89.2093,89.1741,89.1383, 89.7998)
ORBIT_NUMBER = 365
ORBITAL_ECCENTRICITY = 0.606
ORBITAL_INCLINATION = 86.58
ORBITAL_SEMIMAJOR_AXIS = 9262.83
PERIAPSIS_ALTITUDE = 264.6
PERIAPSIS_ARGUMENT_ANGLE = 297.73
PERIAPSIS_TIME = 2004-05-04T11:00:46.000Z
SPACECRAFT_ORIENTATION = (0.0,-1.0,0.0)
^MEX_ORIENTATION_DESC = "MEX_ORIENTATION_DESC.TXT"
SPACECRAFT_POINTING_MODE = NADIR
^MEX_POINTING_DESC = "MEX_POINTING_DESC.TXT"
RIGHT_ASCENSION = -1e+32
DECLINATION = -1e+32
OFFSET_ANGLE = -1e+32
SPACECRAFT_SOLAR_DISTANCE = 2.42697e+08
TARGET_NAME = MARS
/* CAMERA DATA ELEMENTS */
DETECTOR_TEMPERATURE = 16.5354
FOCAL_PLANE_TEMPERATURE = 7.7677
INST_CMPRS_NAME = "DISCRETE COSINE TRANSFORMATION (DCT)"
INST_CMPRS_RATIO = 6.41132
INST_CMPRS_QUALITY = 0
INST_CMPRS_QUANTZ_TBL_ID = 0
INSTRUMENT_TEMPERATURE = 11.0301
LENS_TEMPERATURE = 7.9716
MACROPIXEL_SIZE = 4
MISSING_FRAMES = 0
PIXEL_SUBSAMPLING_FLAG = N
SIGNAL_CHAIN_ID = 2
/* RADIOMETRIC DATA ELEMENTS */
BANDWIDTH = 81.0
CENTER_FILTER_WAVELENGTH = 955.5
RADIANCE_OFFSET = 0.476822
RADIANCE_SCALING_FACTOR = 0.0031292
REFLECTANCE_SCALING_FACTOR = 0.000397642
MEX:REFLECTANCE_OFFSET = 0.0605919
/* IMAGE OBJECT DEFINITIONS */
OBJECT = IMAGE
  INTERCHANGE_FORMAT = BINARY
  LINES = 18740
  LINE_SAMPLES = 2104
  SAMPLE_TYPE = UNSIGNED_INTEGER
  SAMPLE_BITS = 8
  BANDS = 1
  BAND_STORAGE_TYPE = BAND_SEQUENTIAL
  MAXIMUM = 152
  MEAN = 95.8861
  MINIMUM = 43
  STANDARD_DEVIATION = 14.9291
END_OBJECT = IMAGE
/* MAP OBJECT DEFINITIONS */
OBJECT = IMAGE_MAP_PROJECTION
  ^DATA_SET_MAP_PROJECTION_CATALOG= "DSMAP.CAT"
  A_AXIS_RADIUS = 3396.0
  B_AXIS_RADIUS = 3396.0
  C_AXIS_RADIUS = 3396.0
  CENTER_LATITUDE = 0.0
  CENTER_LONGITUDE = 91.0
  COORDINATE_SYSTEM_NAME = PLANETOGRAPHIC
  COORDINATE_SYSTEM_TYPE = "BODY-FIXED ROTATING"
  EASTERNMOST_LONGITUDE = 91.8382
  FIRST_STANDARD_PARALLEL = "N/A"
  LINE_FIRST_PIXEL = 1
  LINE_LAST_PIXEL = 18740
  LINE_PROJECTION_OFFSET = -45751.875
  MAP_PROJECTION_ROTATION = 0.0
  MAP_PROJECTION_TYPE = SINUSOIDAL
  MAP_RESOLUTION = 1185.42760773333
  MAP_SCALE = 0.05
  MAXIMUM_LATITUDE = -38.5607
  MINIMUM_LATITUDE = -54.4518
  POSITIVE_LONGITUDE_DIRECTION = EAST
  REFERENCE_LATITUDE = "N/A"
  REFERENCE_LONGITUDE = "N/A"
  SAMPLE_FIRST_PIXEL = 1
  SAMPLE_LAST_PIXEL = 2104
  SAMPLE_PROJECTION_OFFSET = 1292.625
  SECOND_STANDARD_PARALLEL = "N/A"
  WESTERNMOST_LONGITUDE = 89.1383
END_OBJECT = IMAGE_MAP_PROJECTION
/* The JPEG2000 image data file associated with this label. */
OBJECT = COMPRESSED_FILE
  FILE_NAME = "H0365_0000_IR3.JP2"
  RECORD_TYPE = UNDEFINED
  FILE_RECORDS = UNK
  ENCODING_TYPE = "JP2"
  INTERCHANGE_FORMAT = BINARY
  UNCOMPRESSED_FILE_NAME = "H0365_0000_IR3.IMG"
  REQUIRED_STORAGE_BYTES = "39450000"
  ^DESCRIPTION = "JP2INFO.TXT"
END_OBJECT = COMPRESSED_FILE
END
