PDS_VERSION_ID = PDS3
/* FILE DATA ELEMENTS */
RECORD_TYPE = STREAM
/* POINTERS TO DATA OBJECTS */
^COMPRESSED_FILE = "H0365_0000_P13.JP2"
/* IDENTIFICATION DATA ELEMENTS */
DATA_SET_ID = "MEX-M-HRSC-5-REFDR-MAPPROJECTED-V3.0"
DATA_SET_NAME = "MARS EXPRESS HRSC MAP PROJECTED REFDR V3.0"
DETECTOR_ID = MEX_HRSC_P1
EVENT_TYPE = "MARS-REGIONAL-STEREO-Fl-Gl-Mw"
INSTRUMENT_HOST_ID = MEX
INSTRUMENT_HOST_NAME = "MARS EXPRESS"
INSTRUMENT_ID = HRSC
INSTRUMENT_NAME = "HIGH RESOLUTION STEREO CAMERA"
MISSION_NAME = "MARS EXPRESS"
MISSION_PHASE_NAME = MC_Phase_6
PROCESSING_LEVEL_ID = 3
PRODUCT_CREATION_TIME = 2016-03-03T01:16:01.000Z
PRODUCT_ID = "H0365_0000_P13.JP2"
RELEASE_ID = 0006
REVISION_ID = 0000
/* QUALITY DATA ELEMENTS */
DATA_QUALITY_ID = 1
DATA_QUALITY_DESC = "Data calculated based on original SPICE kernels"
/* TIME DATA ELEMENTS */
SPACECRAFT_CLOCK_START_COUNT = "1/0031748527.56188"
SPACECRAFT_CLOCK_STOP_COUNT = "1/0031748828.56977"
START_TIME = 2004-05-04T11:02:24.187Z
STOP_TIME = 2004-05-04T11:06:17.081Z
/* ORBITAL DATA ELEMENTS */
ASCENDING_NODE_LONGITUDE = 221.44
MAXIMUM_RESOLUTION = 44.5
FOOTPRINT_POINT_LATITUDE = (-54.3998,-54.4148,-54.431,-54.4117, -54.1311,-53.8482,-53.4291,-53.1485, -52.8668,-52.437,-52.1455,-51.8546, -51.5629,-51.2703,-50.978,-50.689, -50.3976,-50.1072,-49.659,-49.355, -48.8994,-48.5951,-48.2922,-47.8375, -47.5319,-47.0584,-46.5905,-46.278, -45.9657,-45.4872,-45.1647,-44.8397, -44.5155,-44.192,-43.8625,-43.5281, -43.1939,-42.8601,-42.5255,-42.1816, -41.6643,-41.3205,-40.9694,-40.6152, -40.2604,-39.9063,-39.5398,-38.9949, -38.6273,-38.6002,-38.5918,-38.5843, -38.5774,-38.7543,-39.1176,-39.4818, -40.0236,-40.377,-40.906,-41.2593, -41.603,-41.9463,-42.2904,-42.6315, -43.1307,-43.4641,-43.7979,-44.127, -44.4495,-44.7722,-45.0954,-45.4194, -45.7403,-46.0523,-46.3651,-46.8338, -47.147,-47.459,-47.7634,-48.0653, -48.368,-48.6714,-48.9757,-49.2788, -49.7313,-50.0217,-50.4612,-50.7528, -51.0512,-51.3431,-51.6313,-51.9219, -52.2134,-52.5062,-52.7904,-53.2107, -53.4909,-53.7687,-54.0471,-54.3998)
FOOTPRINT_POINT_LONGITUDE = (89.3099,89.6409,90.03,90.7517,90.7815, 90.8127,90.8539,90.8819,90.9103,90.9516 ,90.9783,91.004,91.0301,91.0564,91.082, 91.1046,91.1288,91.1517,91.1916,91.2161 ,91.2519,91.2758,91.2983,91.3317, 91.3542,91.3887,91.4184,91.4384,91.4579 ,91.489,91.5077,91.528,91.5475,91.5663, 91.5851,91.6038,91.6221,91.64,91.6579, 91.6752,91.7019,91.7188,91.7359,91.7524 ,91.7694,91.7854,91.8028,91.8258, 91.8418,91.4934,91.0514,90.777,90.533, 90.2028,90.1926,90.1821,90.1651,90.1533 ,90.1336,90.1219,90.1089,90.0948, 90.0806,90.0665,90.0435,90.0275,90.0112 ,89.9942,89.9771,89.9594,89.9413, 89.9229,89.9041,89.8848,89.8652,89.8342 ,89.8131,89.7906,89.769,89.7467,89.7244 ,89.7016,89.6787,89.6545,89.6154, 89.5894,89.5518,89.525,89.5017,89.4737, 89.4426,89.4123,89.3817,89.3512,89.3206 ,89.2733,89.2409,89.206,89.1709, 89.3099)
ORBIT_NUMBER = 365
ORBITAL_ECCENTRICITY = 0.606
ORBITAL_INCLINATION = 86.58
ORBITAL_SEMIMAJOR_AXIS = 9262.83
PERIAPSIS_ALTITUDE = 264.6
PERIAPSIS_ARGUMENT_ANGLE = 297.73
PERIAPSIS_TIME = 2004-05-04T11:00:46.000Z
SPACECRAFT_ORIENTATION = (0.0,-1.0,0.0)
^MEX_ORIENTATION_DESC = "MEX_ORIENTATION_DESC.TXT"
SPACECRAFT_POINTING_MODE = NADIR
^MEX_POINTING_DESC = "MEX_POINTING_DESC.TXT"
RIGHT_ASCENSION = -1e+32
DECLINATION = -1e+32
OFFSET_ANGLE = -1e+32
SPACECRAFT_SOLAR_DISTANCE = 2.42697e+08
TARGET_NAME = MARS
/* CAMERA DATA ELEMENTS */
DETECTOR_TEMPERATURE = 16.5354
FOCAL_PLANE_TEMPERATURE = 7.7677
INST_CMPRS_NAME = "DISCRETE COSINE TRANSFORMATION (DCT)"
INST_CMPRS_RATIO = 20.9669
INST_CMPRS_QUALITY = 0
INST_CMPRS_QUANTZ_TBL_ID = 0
INSTRUMENT_TEMPERATURE = 11.0301
LENS_TEMPERATURE = 7.9716
MACROPIXEL_SIZE = 4
MISSING_FRAMES = 0
PIXEL_SUBSAMPLING_FLAG = N
SIGNAL_CHAIN_ID = 3
/* RADIOMETRIC DATA ELEMENTS */
BANDWIDTH = 174.0
CENTER_FILTER_WAVELENGTH = 675.0
RADIANCE_OFFSET = 2.14697
RADIANCE_SCALING_FACTOR = 0.0121894
REFLECTANCE_SCALING_FACTOR = 0.000386189
MEX:REFLECTANCE_OFFSET = 0.0680211
/* IMAGE OBJECT DEFINITIONS */
OBJECT = IMAGE
  INTERCHANGE_FORMAT = BINARY
  LINES = 18740
  LINE_SAMPLES = 2104
  SAMPLE_TYPE = UNSIGNED_INTEGER
  SAMPLE_BITS = 8
  BANDS = 1
  BAND_STORAGE_TYPE = BAND_SEQUENTIAL
  MAXIMUM = 170
  MEAN = 121.434
  MINIMUM = 64
  STANDARD_DEVIATION = 18.9893
END_OBJECT = IMAGE
/* MAP OBJECT DEFINITIONS */
OBJECT = IMAGE_MAP_PROJECTION
  ^DATA_SET_MAP_PROJECTION_CATALOG= "DSMAP.CAT"
  A_AXIS_RADIUS = 3396.0
  B_AXIS_RADIUS = 3396.0
  C_AXIS_RADIUS = 3396.0
  CENTER_LATITUDE = 0.0
  CENTER_LONGITUDE = 91.0
  COORDINATE_SYSTEM_NAME = PLANETOGRAPHIC
  COORDINATE_SYSTEM_TYPE = "BODY-FIXED ROTATING"
  EASTERNMOST_LONGITUDE = 91.84180000000001
  FIRST_STANDARD_PARALLEL = "N/A"
  LINE_FIRST_PIXEL = 1
  LINE_LAST_PIXEL = 18740
  LINE_PROJECTION_OFFSET = -45751.875
  MAP_PROJECTION_ROTATION = 0.0
  MAP_PROJECTION_TYPE = SINUSOIDAL
  MAP_RESOLUTION = 1185.42760773333
  MAP_SCALE = 0.05
  MAXIMUM_LATITUDE = -38.5774
  MINIMUM_LATITUDE = -54.431
  POSITIVE_LONGITUDE_DIRECTION = EAST
  REFERENCE_LATITUDE = "N/A"
  REFERENCE_LONGITUDE = "N/A"
  SAMPLE_FIRST_PIXEL = 1
  SAMPLE_LAST_PIXEL = 2104
  SAMPLE_PROJECTION_OFFSET = 1292.625
  SECOND_STANDARD_PARALLEL = "N/A"
  WESTERNMOST_LONGITUDE = 89.1709
END_OBJECT = IMAGE_MAP_PROJECTION
/* The JPEG2000 image data file associated with this label. */
OBJECT = COMPRESSED_FILE
  FILE_NAME = "H0365_0000_P13.JP2"
  RECORD_TYPE = UNDEFINED
  FILE_RECORDS = UNK
  ENCODING_TYPE = "JP2"
  INTERCHANGE_FORMAT = BINARY
  UNCOMPRESSED_FILE_NAME = "H0365_0000_P13.IMG"
  REQUIRED_STORAGE_BYTES = "39450000"
  ^DESCRIPTION = "JP2INFO.TXT"
END_OBJECT = COMPRESSED_FILE
END
