PDS_VERSION_ID = PDS3
/* FILE DATA ELEMENTS */
RECORD_TYPE = STREAM
/* POINTERS TO DATA OBJECTS */
^COMPRESSED_FILE = "H0368_0000_P13.JP2"
/* IDENTIFICATION DATA ELEMENTS */
DATA_SET_ID = "MEX-M-HRSC-5-REFDR-MAPPROJECTED-V3.0"
DATA_SET_NAME = "MARS EXPRESS HRSC MAP PROJECTED REFDR V3.0"
DETECTOR_ID = MEX_HRSC_P1
EVENT_TYPE = "MARS-LOCAL-STEREO-Im-Gl-Mw"
INSTRUMENT_HOST_ID = MEX
INSTRUMENT_HOST_NAME = "MARS EXPRESS"
INSTRUMENT_ID = HRSC
INSTRUMENT_NAME = "HIGH RESOLUTION STEREO CAMERA"
MISSION_NAME = "MARS EXPRESS"
MISSION_PHASE_NAME = MC_Phase_6
PROCESSING_LEVEL_ID = 3
PRODUCT_CREATION_TIME = 2016-03-03T01:16:01.000Z
PRODUCT_ID = "H0368_0000_P13.JP2"
RELEASE_ID = 0006
REVISION_ID = 0000
/* QUALITY DATA ELEMENTS */
DATA_QUALITY_ID = 1
DATA_QUALITY_DESC = "Data calculated based on original SPICE kernels"
/* TIME DATA ELEMENTS */
SPACECRAFT_CLOCK_START_COUNT = "1/0031830480.57948"
SPACECRAFT_CLOCK_STOP_COUNT = "1/0031830791.31732"
START_TIME = 2004-05-05T09:48:18.026Z
STOP_TIME = 2004-05-05T09:52:08.231Z
/* ORBITAL DATA ELEMENTS */
ASCENDING_NODE_LONGITUDE = 221.39
MAXIMUM_RESOLUTION = 47.4
FOOTPRINT_POINT_LATITUDE = (-49.62,-49.6332,-49.6473,-49.6625, -49.3661,-49.1024,-48.8391,-48.4437, -48.0346,-47.6236,-47.3486,-47.0743, -46.8002,-46.527,-46.1047,-45.8202, -45.5368,-45.2539,-44.9705,-44.6852, -44.3947,-44.0998,-43.8065,-43.5143, -43.2153,-42.9129,-42.6171,-42.3552, -42.0537,-41.7475,-41.4375,-41.125, -40.8161,-40.3432,-40.0232,-39.7041, -39.2202,-38.892,-38.3993,-37.8967, -37.5601,-37.2238,-36.881,-36.5322, -36.0094,-35.6555,-35.3015,-34.7596, -34.3972,-34.1933,-34.1895,-34.1845, -34.1797,-34.1711,-34.3485,-34.71, -35.2518,-35.605,-35.9584,-36.4795, -36.9982,-37.5075,-38.0118,-38.3477, -38.6776,-39.0065,-39.3289,-39.6484, -39.9702,-40.2873,-40.6053,-40.9143, -41.2241,-41.5342,-41.9964,-42.2977, -42.7075,-43.0088,-43.3116,-43.6015, -43.8944,-44.1868,-44.4797,-44.7676, -45.1919,-45.4751,-45.757,-46.0399, -46.4626,-46.7357,-47.009,-47.2826, -47.5571,-47.9682,-48.3763,-48.6382, -48.9021,-49.1667,-49.4306,-49.62)
FOOTPRINT_POINT_LONGITUDE = (117.17,117.493,117.872,118.335,118.586 ,118.606,118.625,118.654,118.685, 118.715,118.735,118.754,118.773,118.791 ,118.818,118.837,118.855,118.873,118.89 ,118.907,118.923,118.942,118.959, 118.976,118.996,119.013,119.025,119.04, 119.056,119.072,119.087,119.104,119.119 ,119.142,119.157,119.172,119.194, 119.209,119.231,119.253,119.267,119.281 ,119.293,119.309,119.329,119.343, 119.356,119.376,119.39,119.203,118.895, 118.571,118.312,117.907,117.657,117.653 ,117.646,117.642,117.636,117.627, 117.619,117.608,117.597,117.59,117.583, 117.575,117.563,117.553,117.545,117.534 ,117.524,117.513,117.501,117.49,117.472 ,117.46,117.442,117.428,117.417,117.402 ,117.388,117.373,117.358,117.341, 117.318,117.302,117.284,117.267,117.24, 117.222,117.204,117.185,117.166,117.136 ,117.106,117.084,117.063,117.042,117.02 ,117.17)
ORBIT_NUMBER = 368
ORBITAL_ECCENTRICITY = 0.606
ORBITAL_INCLINATION = 86.56
ORBITAL_SEMIMAJOR_AXIS = 9263.2
PERIAPSIS_ALTITUDE = 265.57
PERIAPSIS_ARGUMENT_ANGLE = 297.23
PERIAPSIS_TIME = 2004-05-05T09:45:22.000Z
SPACECRAFT_ORIENTATION = (0.0,-1.0,0.0)
^MEX_ORIENTATION_DESC = "MEX_ORIENTATION_DESC.TXT"
SPACECRAFT_POINTING_MODE = NADIR
^MEX_POINTING_DESC = "MEX_POINTING_DESC.TXT"
RIGHT_ASCENSION = -1e+32
DECLINATION = -1e+32
OFFSET_ANGLE = -1e+32
SPACECRAFT_SOLAR_DISTANCE = 2.42822e+08
TARGET_NAME = MARS
/* CAMERA DATA ELEMENTS */
DETECTOR_TEMPERATURE = 17.1471
FOCAL_PLANE_TEMPERATURE = 7.9716
INST_CMPRS_NAME = "DISCRETE COSINE TRANSFORMATION (DCT)"
INST_CMPRS_RATIO = 12.0394
INST_CMPRS_QUALITY = 0
INST_CMPRS_QUANTZ_TBL_ID = 0
INSTRUMENT_TEMPERATURE = 11.0301
LENS_TEMPERATURE = 8.3794
MACROPIXEL_SIZE = 4
MISSING_FRAMES = 16
PIXEL_SUBSAMPLING_FLAG = N
SIGNAL_CHAIN_ID = 3
/* RADIOMETRIC DATA ELEMENTS */
BANDWIDTH = 174.0
CENTER_FILTER_WAVELENGTH = 675.0
RADIANCE_OFFSET = 2.67645
RADIANCE_SCALING_FACTOR = 0.0156631
REFLECTANCE_SCALING_FACTOR = 0.000496754
MEX:REFLECTANCE_OFFSET = 0.0848835
/* IMAGE OBJECT DEFINITIONS */
OBJECT = IMAGE
  INTERCHANGE_FORMAT = BINARY
  LINES = 18335
  LINE_SAMPLES = 2227
  SAMPLE_TYPE = UNSIGNED_INTEGER
  SAMPLE_BITS = 8
  BANDS = 1
  BAND_STORAGE_TYPE = BAND_SEQUENTIAL
  MAXIMUM = 171
  MEAN = 101.977
  MINIMUM = 61
  STANDARD_DEVIATION = 11.5063
END_OBJECT = IMAGE
/* MAP OBJECT DEFINITIONS */
OBJECT = IMAGE_MAP_PROJECTION
  ^DATA_SET_MAP_PROJECTION_CATALOG= "DSMAP.CAT"
  A_AXIS_RADIUS = 3396.0
  B_AXIS_RADIUS = 3396.0
  C_AXIS_RADIUS = 3396.0
  CENTER_LATITUDE = 0.0
  CENTER_LONGITUDE = 118.0
  COORDINATE_SYSTEM_NAME = PLANETOGRAPHIC
  COORDINATE_SYSTEM_TYPE = "BODY-FIXED ROTATING"
  EASTERNMOST_LONGITUDE = 119.39
  FIRST_STANDARD_PARALLEL = "N/A"
  LINE_FIRST_PIXEL = 1
  LINE_LAST_PIXEL = 18335
  LINE_PROJECTION_OFFSET = -40509.625
  MAP_PROJECTION_ROTATION = 0.0
  MAP_PROJECTION_TYPE = SINUSOIDAL
  MAP_RESOLUTION = 1185.42760773333
  MAP_SCALE = 0.05
  MAXIMUM_LATITUDE = -34.1711
  MINIMUM_LATITUDE = -49.6625
  POSITIVE_LONGITUDE_DIRECTION = EAST
  REFERENCE_LATITUDE = "N/A"
  REFERENCE_LONGITUDE = "N/A"
  SAMPLE_FIRST_PIXEL = 1
  SAMPLE_LAST_PIXEL = 2227
  SAMPLE_PROJECTION_OFFSET = 795.125
  SECOND_STANDARD_PARALLEL = "N/A"
  WESTERNMOST_LONGITUDE = 117.02
END_OBJECT = IMAGE_MAP_PROJECTION
/* The JPEG2000 image data file associated with this label. */
OBJECT = COMPRESSED_FILE
  FILE_NAME = "H0368_0000_P13.JP2"
  RECORD_TYPE = UNDEFINED
  FILE_RECORDS = UNK
  ENCODING_TYPE = "JP2"
  INTERCHANGE_FORMAT = BINARY
  UNCOMPRESSED_FILE_NAME = "H0368_0000_P13.IMG"
  REQUIRED_STORAGE_BYTES = "40854315"
  ^DESCRIPTION = "JP2INFO.TXT"
END_OBJECT = COMPRESSED_FILE
END
