PDS_VERSION_ID = PDS3
/* FILE DATA ELEMENTS */
RECORD_TYPE = STREAM
/* POINTERS TO DATA OBJECTS */
^COMPRESSED_FILE = "H0368_0000_P23.JP2"
/* IDENTIFICATION DATA ELEMENTS */
DATA_SET_ID = "MEX-M-HRSC-5-REFDR-MAPPROJECTED-V3.0"
DATA_SET_NAME = "MARS EXPRESS HRSC MAP PROJECTED REFDR V3.0"
DETECTOR_ID = MEX_HRSC_P2
EVENT_TYPE = "MARS-LOCAL-STEREO-Im-Gl-Mw"
INSTRUMENT_HOST_ID = MEX
INSTRUMENT_HOST_NAME = "MARS EXPRESS"
INSTRUMENT_ID = HRSC
INSTRUMENT_NAME = "HIGH RESOLUTION STEREO CAMERA"
MISSION_NAME = "MARS EXPRESS"
MISSION_PHASE_NAME = MC_Phase_6
PROCESSING_LEVEL_ID = 3
PRODUCT_CREATION_TIME = 2016-03-03T01:16:01.000Z
PRODUCT_ID = "H0368_0000_P23.JP2"
RELEASE_ID = 0006
REVISION_ID = 0000
/* QUALITY DATA ELEMENTS */
DATA_QUALITY_ID = 1
DATA_QUALITY_DESC = "Data calculated based on original SPICE kernels"
/* TIME DATA ELEMENTS */
SPACECRAFT_CLOCK_START_COUNT = "1/0031830480.57948"
SPACECRAFT_CLOCK_STOP_COUNT = "1/0031830791.31732"
START_TIME = 2004-05-05T09:48:52.039Z
STOP_TIME = 2004-05-05T09:53:01.942Z
/* ORBITAL DATA ELEMENTS */
ASCENDING_NODE_LONGITUDE = 221.39
MAXIMUM_RESOLUTION = 49.6
FOOTPRINT_POINT_LATITUDE = (-49.5562,-49.5711,-49.6308,-49.2353, -48.9717,-48.7045,-48.4318,-48.0262, -47.7548,-47.4859,-47.2165,-46.9382, -46.659,-46.3779,-46.1027,-45.8256, -45.54,-45.2536,-45.008,-44.7222, -44.4331,-44.1425,-43.8503,-43.5578, -43.2704,-42.9703,-42.6642,-42.3656, -41.9108,-41.6041,-41.1462,-40.8306, -40.5165,-40.2038,-39.8841,-39.5636, -39.2433,-38.9163,-38.4265,-38.0947, -37.7603,-37.4265,-37.0824,-36.7448, -36.2258,-35.8791,-35.5247,-35.1719, -34.8122,-34.453,-34.188,-34.1843, -34.1814,-34.1772,-34.1697,-34.3492, -34.7082,-35.0678,-35.4203,-35.9483, -36.2943,-36.6408,-36.9801,-37.4891, -37.822,-38.3201,-38.6424,-38.9685, -39.2981,-39.6186,-39.9347,-40.4105, -40.7228,-41.1919,-41.6507,-42.1101, -42.5587,-42.8583,-43.1577,-43.5949, -43.8863,-44.1787,-44.47,-44.7564, -45.1457,-45.4299,-45.7163,-45.995, -46.272,-46.5499,-46.8282,-47.2431, -47.5121,-47.9165,-48.1858,-48.457, -48.8622,-49.124,-49.3866,-49.5562)
FOOTPRINT_POINT_LONGITUDE = (117.459,117.899,118.603,118.635, 118.655,118.675,118.696,118.728,118.748 ,118.768,118.788,118.808,118.828, 118.846,118.866,118.885,118.904,118.923 ,118.939,118.957,118.973,118.993, 119.011,119.029,119.049,119.067,119.081 ,119.098,119.125,119.142,119.167, 119.183,119.2,119.216,119.232,119.249, 119.264,119.28,119.305,119.32,119.336, 119.351,119.365,119.382,119.405,119.42, 119.435,119.451,119.465,119.481,119.313 ,118.937,118.686,118.364,117.863, 117.569,117.567,117.565,117.562,117.556 ,117.552,117.548,117.543,117.535, 117.529,117.521,117.516,117.509,117.498 ,117.489,117.484,117.468,117.459, 117.444,117.428,117.412,117.394,117.382 ,117.37,117.352,117.339,117.325,117.311 ,117.295,117.274,117.259,117.243, 117.226,117.21,117.193,117.175,117.148, 117.13,117.102,117.084,117.064,117.031, 117.011,116.99,117.459)
ORBIT_NUMBER = 368
ORBITAL_ECCENTRICITY = 0.606
ORBITAL_INCLINATION = 86.56
ORBITAL_SEMIMAJOR_AXIS = 9263.2
PERIAPSIS_ALTITUDE = 265.57
PERIAPSIS_ARGUMENT_ANGLE = 297.23
PERIAPSIS_TIME = 2004-05-05T09:45:22.000Z
SPACECRAFT_ORIENTATION = (0.0,-1.0,0.0)
^MEX_ORIENTATION_DESC = "MEX_ORIENTATION_DESC.TXT"
SPACECRAFT_POINTING_MODE = NADIR
^MEX_POINTING_DESC = "MEX_POINTING_DESC.TXT"
RIGHT_ASCENSION = -1e+32
DECLINATION = -1e+32
OFFSET_ANGLE = -1e+32
SPACECRAFT_SOLAR_DISTANCE = 2.42822e+08
TARGET_NAME = MARS
/* CAMERA DATA ELEMENTS */
DETECTOR_TEMPERATURE = 18.1666
FOCAL_PLANE_TEMPERATURE = 7.9716
INST_CMPRS_NAME = "DISCRETE COSINE TRANSFORMATION (DCT)"
INST_CMPRS_RATIO = 9.80479
INST_CMPRS_QUALITY = 0
INST_CMPRS_QUANTZ_TBL_ID = 0
INSTRUMENT_TEMPERATURE = 11.0301
LENS_TEMPERATURE = 8.3794
MACROPIXEL_SIZE = 4
MISSING_FRAMES = 16
PIXEL_SUBSAMPLING_FLAG = N
SIGNAL_CHAIN_ID = 3
/* RADIOMETRIC DATA ELEMENTS */
BANDWIDTH = 177.0
CENTER_FILTER_WAVELENGTH = 676.5
RADIANCE_OFFSET = 2.82773
RADIANCE_SCALING_FACTOR = 0.0150495
REFLECTANCE_SCALING_FACTOR = 0.000470496
MEX:REFLECTANCE_OFFSET = 0.0884037
/* IMAGE OBJECT DEFINITIONS */
OBJECT = IMAGE
  INTERCHANGE_FORMAT = BINARY
  LINES = 18335
  LINE_SAMPLES = 2227
  SAMPLE_TYPE = UNSIGNED_INTEGER
  SAMPLE_BITS = 8
  BANDS = 1
  BAND_STORAGE_TYPE = BAND_SEQUENTIAL
  MAXIMUM = 172
  MEAN = 107.965
  MINIMUM = 63
  STANDARD_DEVIATION = 12.8546
END_OBJECT = IMAGE
/* MAP OBJECT DEFINITIONS */
OBJECT = IMAGE_MAP_PROJECTION
  ^DATA_SET_MAP_PROJECTION_CATALOG= "DSMAP.CAT"
  A_AXIS_RADIUS = 3396.0
  B_AXIS_RADIUS = 3396.0
  C_AXIS_RADIUS = 3396.0
  CENTER_LATITUDE = 0.0
  CENTER_LONGITUDE = 118.0
  COORDINATE_SYSTEM_NAME = PLANETOGRAPHIC
  COORDINATE_SYSTEM_TYPE = "BODY-FIXED ROTATING"
  EASTERNMOST_LONGITUDE = 119.481
  FIRST_STANDARD_PARALLEL = "N/A"
  LINE_FIRST_PIXEL = 1
  LINE_LAST_PIXEL = 18335
  LINE_PROJECTION_OFFSET = -40509.625
  MAP_PROJECTION_ROTATION = 0.0
  MAP_PROJECTION_TYPE = SINUSOIDAL
  MAP_RESOLUTION = 1185.42760773333
  MAP_SCALE = 0.05
  MAXIMUM_LATITUDE = -34.1697
  MINIMUM_LATITUDE = -49.6308
  POSITIVE_LONGITUDE_DIRECTION = EAST
  REFERENCE_LATITUDE = "N/A"
  REFERENCE_LONGITUDE = "N/A"
  SAMPLE_FIRST_PIXEL = 1
  SAMPLE_LAST_PIXEL = 2227
  SAMPLE_PROJECTION_OFFSET = 795.125
  SECOND_STANDARD_PARALLEL = "N/A"
  WESTERNMOST_LONGITUDE = 116.99
END_OBJECT = IMAGE_MAP_PROJECTION
/* The JPEG2000 image data file associated with this label. */
OBJECT = COMPRESSED_FILE
  FILE_NAME = "H0368_0000_P23.JP2"
  RECORD_TYPE = UNDEFINED
  FILE_RECORDS = UNK
  ENCODING_TYPE = "JP2"
  INTERCHANGE_FORMAT = BINARY
  UNCOMPRESSED_FILE_NAME = "H0368_0000_P23.IMG"
  REQUIRED_STORAGE_BYTES = "40854315"
  ^DESCRIPTION = "JP2INFO.TXT"
END_OBJECT = COMPRESSED_FILE
END
