PDS_VERSION_ID = PDS3
/* FILE DATA ELEMENTS */
RECORD_TYPE = STREAM
/* POINTERS TO DATA OBJECTS */
^COMPRESSED_FILE = "H0376_0000_IR3.JP2"
/* IDENTIFICATION DATA ELEMENTS */
DATA_SET_ID = "MEX-M-HRSC-5-REFDR-MAPPROJECTED-V3.0"
DATA_SET_NAME = "MARS EXPRESS HRSC MAP PROJECTED REFDR V3.0"
DETECTOR_ID = MEX_HRSC_IR
EVENT_TYPE = "MARS-REGIONAL-STEREO-Im-Fl-Mw"
INSTRUMENT_HOST_ID = MEX
INSTRUMENT_HOST_NAME = "MARS EXPRESS"
INSTRUMENT_ID = HRSC
INSTRUMENT_NAME = "HIGH RESOLUTION STEREO CAMERA"
MISSION_NAME = "MARS EXPRESS"
MISSION_PHASE_NAME = MC_Phase_6
PROCESSING_LEVEL_ID = 3
PRODUCT_CREATION_TIME = 2016-03-03T01:16:01.000Z
PRODUCT_ID = "H0376_0000_IR3.JP2"
RELEASE_ID = 0006
REVISION_ID = 0000
/* QUALITY DATA ELEMENTS */
DATA_QUALITY_ID = 1
DATA_QUALITY_DESC = "Data calculated based on original SPICE kernels"
/* TIME DATA ELEMENTS */
SPACECRAFT_CLOCK_START_COUNT = "1/0032043779.56197"
SPACECRAFT_CLOCK_STOP_COUNT = "1/0032044061.21183"
START_TIME = 2004-05-07T21:03:12.173Z
STOP_TIME = 2004-05-07T21:06:46.816Z
/* ORBITAL DATA ELEMENTS */
ASCENDING_NODE_LONGITUDE = 221.23
MAXIMUM_RESOLUTION = 44.6
FOOTPRINT_POINT_LATITUDE = (-57.8019,-57.8257,-57.8041,-57.4136, -57.1532,-56.8932,-56.6326,-56.3667, -55.959,-55.6863,-55.4152,-55.146, -54.8869,-54.6123,-54.3411,-54.0699, -53.8026,-53.5233,-53.1064,-52.8248, -52.5492,-52.123,-51.8381,-51.547, -51.1162,-50.6858,-50.3938,-49.9663, -49.6803,-49.3847,-49.0944,-48.7991, -48.4921,-48.1879,-47.8822,-47.4265, -47.1216,-46.8123,-46.4963,-46.1852, -45.8668,-45.5551,-45.2308,-44.9082, -44.5851,-44.2628,-43.9331,-43.7665, -43.435,-43.2365,-43.2249,-43.2127, -43.1942,-43.5231,-43.8552,-44.1861, -44.5082,-44.9922,-45.3149,-45.6366, -45.9492,-46.2622,-46.5763,-46.8874, -47.3504,-47.806,-48.1089,-48.4197, -48.7259,-49.0206,-49.2975,-49.5842, -49.876,-50.3148,-50.6073,-50.8965, -51.1786,-51.4574,-51.8798,-52.1614, -52.4555,-52.7423,-53.0215,-53.2997, -53.5758,-53.8441,-54.2441,-54.6489, -54.9187,-55.1894,-55.4613,-55.7347, -56.1509,-56.4176,-56.6755,-56.9379, -57.1923,-57.4489,-57.7091,-57.8019)
FOOTPRINT_POINT_LONGITUDE = (329.352,329.847,330.834,330.886,330.92 ,330.952,330.985,331.019,331.068, 331.101,331.132,331.161,331.181,331.213 ,331.242,331.27,331.295,331.328,331.372 ,331.398,331.42,331.462,331.49,331.521, 331.564,331.6,331.624,331.652,331.671, 331.696,331.717,331.739,331.764,331.787 ,331.81,331.843,331.864,331.883,331.906 ,331.925,331.948,331.966,331.987, 332.006,332.026,332.044,332.062,332.072 ,332.09,331.726,331.291,330.975,330.488 ,330.471,330.455,330.438,330.422, 330.396,330.378,330.36,330.342,330.323, 330.304,330.283,330.252,330.221,330.2, 330.181,330.159,330.135,330.103,330.076 ,330.051,330.013,329.986,329.959, 329.932,329.903,329.86,329.83,329.806, 329.778,329.745,329.713,329.683,329.649 ,329.596,329.543,329.506,329.47,329.433 ,329.396,329.342,329.301,329.26,329.221 ,329.176,329.132,329.089,329.352)
ORBIT_NUMBER = 376
ORBITAL_ECCENTRICITY = 0.589
ORBITAL_INCLINATION = 86.56
ORBITAL_SEMIMAJOR_AXIS = 8880.27
PERIAPSIS_ALTITUDE = 266.27
PERIAPSIS_ARGUMENT_ANGLE = 295.73
PERIAPSIS_TIME = 2004-05-07T21:01:57.000Z
SPACECRAFT_ORIENTATION = (0.0,-1.0,0.0)
^MEX_ORIENTATION_DESC = "MEX_ORIENTATION_DESC.TXT"
SPACECRAFT_POINTING_MODE = NADIR
^MEX_POINTING_DESC = "MEX_POINTING_DESC.TXT"
RIGHT_ASCENSION = -1e+32
DECLINATION = -1e+32
OFFSET_ANGLE = -1e+32
SPACECRAFT_SOLAR_DISTANCE = 2.43142e+08
TARGET_NAME = MARS
/* CAMERA DATA ELEMENTS */
DETECTOR_TEMPERATURE = 17.1471
FOCAL_PLANE_TEMPERATURE = 8.3794
INST_CMPRS_NAME = "DISCRETE COSINE TRANSFORMATION (DCT)"
INST_CMPRS_RATIO = 4.45719
INST_CMPRS_QUALITY = 0
INST_CMPRS_QUANTZ_TBL_ID = 0
INSTRUMENT_TEMPERATURE = 11.0301
LENS_TEMPERATURE = 9.195
MACROPIXEL_SIZE = 4
MISSING_FRAMES = 0
PIXEL_SUBSAMPLING_FLAG = N
SIGNAL_CHAIN_ID = 2
/* RADIOMETRIC DATA ELEMENTS */
BANDWIDTH = 81.0
CENTER_FILTER_WAVELENGTH = 955.5
RADIANCE_OFFSET = 0.261188
RADIANCE_SCALING_FACTOR = 0.0036658
REFLECTANCE_SCALING_FACTOR = 0.000467538
MEX:REFLECTANCE_OFFSET = 0.0333121
/* IMAGE OBJECT DEFINITIONS */
OBJECT = IMAGE
  INTERCHANGE_FORMAT = BINARY
  LINES = 17335
  LINE_SAMPLES = 2220
  SAMPLE_TYPE = UNSIGNED_INTEGER
  SAMPLE_BITS = 8
  BANDS = 1
  BAND_STORAGE_TYPE = BAND_SEQUENTIAL
  MAXIMUM = 188
  MEAN = 98.9388
  MINIMUM = 33
  STANDARD_DEVIATION = 18.132
END_OBJECT = IMAGE
/* MAP OBJECT DEFINITIONS */
OBJECT = IMAGE_MAP_PROJECTION
  ^DATA_SET_MAP_PROJECTION_CATALOG= "DSMAP.CAT"
  A_AXIS_RADIUS = 3396.0
  B_AXIS_RADIUS = 3396.0
  C_AXIS_RADIUS = 3396.0
  CENTER_LATITUDE = 0.0
  CENTER_LONGITUDE = 331.0
  COORDINATE_SYSTEM_NAME = PLANETOGRAPHIC
  COORDINATE_SYSTEM_TYPE = "BODY-FIXED ROTATING"
  EASTERNMOST_LONGITUDE = 332.09
  FIRST_STANDARD_PARALLEL = "N/A"
  LINE_FIRST_PIXEL = 1
  LINE_LAST_PIXEL = 17335
  LINE_PROJECTION_OFFSET = -51145.375
  MAP_PROJECTION_ROTATION = 0.0
  MAP_PROJECTION_TYPE = SINUSOIDAL
  MAP_RESOLUTION = 1185.42760773333
  MAP_SCALE = 0.05
  MAXIMUM_LATITUDE = -43.1942
  MINIMUM_LATITUDE = -57.8257
  POSITIVE_LONGITUDE_DIRECTION = EAST
  REFERENCE_LATITUDE = "N/A"
  REFERENCE_LONGITUDE = "N/A"
  SAMPLE_FIRST_PIXEL = 1
  SAMPLE_LAST_PIXEL = 2220
  SAMPLE_PROJECTION_OFFSET = 1221.875
  SECOND_STANDARD_PARALLEL = "N/A"
  WESTERNMOST_LONGITUDE = 329.089
END_OBJECT = IMAGE_MAP_PROJECTION
/* The JPEG2000 image data file associated with this label. */
OBJECT = COMPRESSED_FILE
  FILE_NAME = "H0376_0000_IR3.JP2"
  RECORD_TYPE = UNDEFINED
  FILE_RECORDS = UNK
  ENCODING_TYPE = "JP2"
  INTERCHANGE_FORMAT = BINARY
  UNCOMPRESSED_FILE_NAME = "H0376_0000_IR3.IMG"
  REQUIRED_STORAGE_BYTES = "38505900"
  ^DESCRIPTION = "JP2INFO.TXT"
END_OBJECT = COMPRESSED_FILE
END
