PDS_VERSION_ID = PDS3
/* FILE DATA ELEMENTS */
RECORD_TYPE = STREAM
/* POINTERS TO DATA OBJECTS */
^COMPRESSED_FILE = "H0376_0000_P23.JP2"
/* IDENTIFICATION DATA ELEMENTS */
DATA_SET_ID = "MEX-M-HRSC-5-REFDR-MAPPROJECTED-V3.0"
DATA_SET_NAME = "MARS EXPRESS HRSC MAP PROJECTED REFDR V3.0"
DETECTOR_ID = MEX_HRSC_P2
EVENT_TYPE = "MARS-REGIONAL-STEREO-Im-Fl-Mw"
INSTRUMENT_HOST_ID = MEX
INSTRUMENT_HOST_NAME = "MARS EXPRESS"
INSTRUMENT_ID = HRSC
INSTRUMENT_NAME = "HIGH RESOLUTION STEREO CAMERA"
MISSION_NAME = "MARS EXPRESS"
MISSION_PHASE_NAME = MC_Phase_6
PROCESSING_LEVEL_ID = 3
PRODUCT_CREATION_TIME = 2016-03-03T01:16:01.000Z
PRODUCT_ID = "H0376_0000_P23.JP2"
RELEASE_ID = 0006
REVISION_ID = 0000
/* QUALITY DATA ELEMENTS */
DATA_QUALITY_ID = 1
DATA_QUALITY_DESC = "Data calculated based on original SPICE kernels"
/* TIME DATA ELEMENTS */
SPACECRAFT_CLOCK_START_COUNT = "1/0032043779.56197"
SPACECRAFT_CLOCK_STOP_COUNT = "1/0032044061.21183"
START_TIME = 2004-05-07T21:03:47.689Z
STOP_TIME = 2004-05-07T21:07:35.269Z
/* ORBITAL DATA ELEMENTS */
ASCENDING_NODE_LONGITUDE = 221.23
MAXIMUM_RESOLUTION = 45.4
FOOTPRINT_POINT_LATITUDE = (-57.6398,-57.6703,-57.6892,-57.6332, -57.3674,-56.9692,-56.5708,-56.3092, -56.0426,-55.7818,-55.5097,-55.2351, -54.8096,-54.4013,-53.9908,-53.7162, -53.4505,-53.1711,-52.8895,-52.6051, -52.3168,-51.9021,-51.6246,-51.3437, -51.0602,-50.626,-50.1861,-49.8907, -49.5883,-49.2926,-48.9929,-48.6947, -48.25,-47.9461,-47.4911,-47.1871, -46.872,-46.5619,-46.2462,-45.939, -45.6184,-45.1373,-44.8181,-44.326, -43.9973,-43.6695,-43.3343,-43.1664, -43.1557,-43.1496,-43.1423,-43.1344, -43.1283,-43.1213,-43.2922,-43.6278, -44.1207,-44.4482,-44.7739,-45.0926, -45.4121,-45.8899,-46.2009,-46.5109, -46.8256,-47.1357,-47.4385,-47.8916, -48.3452,-48.6374,-48.9329,-49.2446, -49.5465,-49.8441,-50.132,-50.5637, -50.8531,-51.1416,-51.5758,-51.8555, -52.2717,-52.5415,-52.8218,-53.1069, -53.3851,-53.6562,-54.0657,-54.3429, -54.616,-54.8908,-55.1642,-55.437, -55.7051,-55.9617,-56.3583,-56.6238, -56.8862,-57.1549,-57.4227,-57.6398)
FOOTPRINT_POINT_LONGITUDE = (329.184,329.87,330.333,330.888,330.924 ,330.976,331.026,331.061,331.092, 331.126,331.158,331.19,331.228,331.274, 331.318,331.346,331.378,331.408,331.436 ,331.462,331.486,331.53,331.557,331.587 ,331.617,331.655,331.689,331.709, 331.731,331.757,331.779,331.801,331.839 ,331.863,331.898,331.92,331.94,331.964, 331.984,332.008,332.028,332.059,332.08, 332.11,332.13,332.149,332.17,332.179, 331.918,331.623,331.296,330.902,330.656 ,330.421,330.412,330.397,330.373, 330.358,330.342,330.326,330.309,330.283 ,330.266,330.249,330.228,330.209, 330.189,330.161,330.132,330.113,330.091 ,330.057,330.029,330.005,329.98,329.943 ,329.916,329.89,329.846,329.819,329.779 ,329.759,329.729,329.695,329.666, 329.635,329.585,329.547,329.512,329.475 ,329.439,329.403,329.368,329.338, 329.279,329.239,329.2,329.155,329.109, 329.184)
ORBIT_NUMBER = 376
ORBITAL_ECCENTRICITY = 0.589
ORBITAL_INCLINATION = 86.56
ORBITAL_SEMIMAJOR_AXIS = 8880.27
PERIAPSIS_ALTITUDE = 266.27
PERIAPSIS_ARGUMENT_ANGLE = 295.73
PERIAPSIS_TIME = 2004-05-07T21:01:57.000Z
SPACECRAFT_ORIENTATION = (0.0,-1.0,0.0)
^MEX_ORIENTATION_DESC = "MEX_ORIENTATION_DESC.TXT"
SPACECRAFT_POINTING_MODE = NADIR
^MEX_POINTING_DESC = "MEX_POINTING_DESC.TXT"
RIGHT_ASCENSION = -1e+32
DECLINATION = -1e+32
OFFSET_ANGLE = -1e+32
SPACECRAFT_SOLAR_DISTANCE = 2.43142e+08
TARGET_NAME = MARS
/* CAMERA DATA ELEMENTS */
DETECTOR_TEMPERATURE = 18.1666
FOCAL_PLANE_TEMPERATURE = 8.3794
INST_CMPRS_NAME = "DISCRETE COSINE TRANSFORMATION (DCT)"
INST_CMPRS_RATIO = 10.8109
INST_CMPRS_QUALITY = 0
INST_CMPRS_QUANTZ_TBL_ID = 0
INSTRUMENT_TEMPERATURE = 11.0301
LENS_TEMPERATURE = 9.195
MACROPIXEL_SIZE = 4
MISSING_FRAMES = 0
PIXEL_SUBSAMPLING_FLAG = N
SIGNAL_CHAIN_ID = 3
/* RADIOMETRIC DATA ELEMENTS */
BANDWIDTH = 177.0
CENTER_FILTER_WAVELENGTH = 676.5
RADIANCE_OFFSET = 1.28542
RADIANCE_SCALING_FACTOR = 0.0134713
REFLECTANCE_SCALING_FACTOR = 0.000422266
MEX:REFLECTANCE_OFFSET = 0.0402924
/* IMAGE OBJECT DEFINITIONS */
OBJECT = IMAGE
  INTERCHANGE_FORMAT = BINARY
  LINES = 17335
  LINE_SAMPLES = 2220
  SAMPLE_TYPE = UNSIGNED_INTEGER
  SAMPLE_BITS = 8
  BANDS = 1
  BAND_STORAGE_TYPE = BAND_SEQUENTIAL
  MAXIMUM = 222
  MEAN = 129.694
  MINIMUM = 57
  STANDARD_DEVIATION = 23.4862
END_OBJECT = IMAGE
/* MAP OBJECT DEFINITIONS */
OBJECT = IMAGE_MAP_PROJECTION
  ^DATA_SET_MAP_PROJECTION_CATALOG= "DSMAP.CAT"
  A_AXIS_RADIUS = 3396.0
  B_AXIS_RADIUS = 3396.0
  C_AXIS_RADIUS = 3396.0
  CENTER_LATITUDE = 0.0
  CENTER_LONGITUDE = 331.0
  COORDINATE_SYSTEM_NAME = PLANETOGRAPHIC
  COORDINATE_SYSTEM_TYPE = "BODY-FIXED ROTATING"
  EASTERNMOST_LONGITUDE = 332.179
  FIRST_STANDARD_PARALLEL = "N/A"
  LINE_FIRST_PIXEL = 1
  LINE_LAST_PIXEL = 17335
  LINE_PROJECTION_OFFSET = -51145.375
  MAP_PROJECTION_ROTATION = 0.0
  MAP_PROJECTION_TYPE = SINUSOIDAL
  MAP_RESOLUTION = 1185.42760773333
  MAP_SCALE = 0.05
  MAXIMUM_LATITUDE = -43.1213
  MINIMUM_LATITUDE = -57.6892
  POSITIVE_LONGITUDE_DIRECTION = EAST
  REFERENCE_LATITUDE = "N/A"
  REFERENCE_LONGITUDE = "N/A"
  SAMPLE_FIRST_PIXEL = 1
  SAMPLE_LAST_PIXEL = 2220
  SAMPLE_PROJECTION_OFFSET = 1221.875
  SECOND_STANDARD_PARALLEL = "N/A"
  WESTERNMOST_LONGITUDE = 329.109
END_OBJECT = IMAGE_MAP_PROJECTION
/* The JPEG2000 image data file associated with this label. */
OBJECT = COMPRESSED_FILE
  FILE_NAME = "H0376_0000_P23.JP2"
  RECORD_TYPE = UNDEFINED
  FILE_RECORDS = UNK
  ENCODING_TYPE = "JP2"
  INTERCHANGE_FORMAT = BINARY
  UNCOMPRESSED_FILE_NAME = "H0376_0000_P23.IMG"
  REQUIRED_STORAGE_BYTES = "38505900"
  ^DESCRIPTION = "JP2INFO.TXT"
END_OBJECT = COMPRESSED_FILE
END
