PDS_VERSION_ID = PDS3
/* FILE DATA ELEMENTS */
RECORD_TYPE = STREAM
/* POINTERS TO DATA OBJECTS */
^COMPRESSED_FILE = "H0376_0000_RE3.JP2"
/* IDENTIFICATION DATA ELEMENTS */
DATA_SET_ID = "MEX-M-HRSC-5-REFDR-MAPPROJECTED-V3.0"
DATA_SET_NAME = "MARS EXPRESS HRSC MAP PROJECTED REFDR V3.0"
DETECTOR_ID = MEX_HRSC_RED
EVENT_TYPE = "MARS-REGIONAL-STEREO-Im-Fl-Mw"
INSTRUMENT_HOST_ID = MEX
INSTRUMENT_HOST_NAME = "MARS EXPRESS"
INSTRUMENT_ID = HRSC
INSTRUMENT_NAME = "HIGH RESOLUTION STEREO CAMERA"
MISSION_NAME = "MARS EXPRESS"
MISSION_PHASE_NAME = MC_Phase_6
PROCESSING_LEVEL_ID = 3
PRODUCT_CREATION_TIME = 2016-03-03T01:16:01.000Z
PRODUCT_ID = "H0376_0000_RE3.JP2"
RELEASE_ID = 0006
REVISION_ID = 0000
/* QUALITY DATA ELEMENTS */
DATA_QUALITY_ID = 1
DATA_QUALITY_DESC = "Data calculated based on original SPICE kernels"
/* TIME DATA ELEMENTS */
SPACECRAFT_CLOCK_START_COUNT = "1/0032043779.56197"
SPACECRAFT_CLOCK_STOP_COUNT = "1/0032044061.21183"
START_TIME = 2004-05-07T21:03:51.870Z
STOP_TIME = 2004-05-07T21:07:41.421Z
/* ORBITAL DATA ELEMENTS */
ASCENDING_NODE_LONGITUDE = 221.23
MAXIMUM_RESOLUTION = 46.3
FOOTPRINT_POINT_LATITUDE = (-57.6379,-57.652,-57.6789,-57.6348, -57.3702,-57.1059,-56.8413,-56.5773, -56.1836,-55.9204,-55.5114,-55.098, -54.8116,-54.5424,-54.1358,-53.863, -53.4525,-53.1744,-52.8944,-52.6113, -52.3234,-52.0508,-51.7718,-51.3504, -51.0709,-50.64,-50.3523,-50.0437, -49.7459,-49.3036,-49.0062,-48.5576, -48.2597,-47.9582,-47.6597,-47.355, -47.0449,-46.7292,-46.4212,-46.1084, -45.7975,-45.4771,-44.9973,-44.6736, -44.3464,-43.855,-43.5226,-43.1912, -43.1497,-43.1387,-43.1301,-43.1235, -43.4562,-43.7876,-44.1175,-44.4411, -44.7655,-45.0889,-45.4047,-45.8792, -46.1956,-46.6576,-46.9688,-47.2765, -47.5814,-47.8781,-48.1811,-48.6247, -48.9201,-49.2308,-49.5327,-49.8278, -50.2676,-50.5513,-50.8402,-51.1262, -51.4165,-51.7054,-51.986,-52.262, -52.5246,-52.9464,-53.226,-53.5014, -53.7801,-54.1897,-54.4639,-54.7352, -55.0083,-55.2802,-55.5492,-55.8168, -56.0766,-56.3412,-56.6059,-56.8666, -57.1335,-57.4016,-57.6656,-57.6379)
FOOTPRINT_POINT_LONGITUDE = (329.425,329.745,330.403,330.896, 330.931,330.966,331.0,331.034,331.083, 331.117,331.167,331.212,331.236,331.268 ,331.313,331.341,331.387,331.417, 331.445,331.471,331.495,331.524,331.552 ,331.597,331.626,331.665,331.689, 331.706,331.73,331.767,331.789,331.824, 331.85,331.873,331.898,331.92,331.942, 331.962,331.985,332.006,332.031,332.051 ,332.081,332.103,332.123,332.152, 332.173,332.193,331.83,331.266,330.833, 330.583,330.395,330.381,330.365,330.35, 330.334,330.318,330.302,330.277,330.259 ,330.232,330.212,330.194,330.174, 330.156,330.135,330.108,330.086,330.053 ,330.025,330.001,329.963,329.94,329.913 ,329.887,329.858,329.829,329.801, 329.774,329.756,329.709,329.678,329.65, 329.615,329.564,329.527,329.493,329.457 ,329.42,329.386,329.352,329.319,329.279 ,329.238,329.2,329.156,329.111,329.067, 329.425)
ORBIT_NUMBER = 376
ORBITAL_ECCENTRICITY = 0.589
ORBITAL_INCLINATION = 86.56
ORBITAL_SEMIMAJOR_AXIS = 8880.27
PERIAPSIS_ALTITUDE = 266.27
PERIAPSIS_ARGUMENT_ANGLE = 295.73
PERIAPSIS_TIME = 2004-05-07T21:01:57.000Z
SPACECRAFT_ORIENTATION = (0.0,-1.0,0.0)
^MEX_ORIENTATION_DESC = "MEX_ORIENTATION_DESC.TXT"
SPACECRAFT_POINTING_MODE = NADIR
^MEX_POINTING_DESC = "MEX_POINTING_DESC.TXT"
RIGHT_ASCENSION = -1e+32
DECLINATION = -1e+32
OFFSET_ANGLE = -1e+32
SPACECRAFT_SOLAR_DISTANCE = 2.43142e+08
TARGET_NAME = MARS
/* CAMERA DATA ELEMENTS */
DETECTOR_TEMPERATURE = 18.1666
FOCAL_PLANE_TEMPERATURE = 8.3794
INST_CMPRS_NAME = "DISCRETE COSINE TRANSFORMATION (DCT)"
INST_CMPRS_RATIO = 17.3039
INST_CMPRS_QUALITY = 0
INST_CMPRS_QUANTZ_TBL_ID = 0
INSTRUMENT_TEMPERATURE = 11.0301
LENS_TEMPERATURE = 9.195
MACROPIXEL_SIZE = 4
MISSING_FRAMES = 0
PIXEL_SUBSAMPLING_FLAG = N
SIGNAL_CHAIN_ID = 2
/* RADIOMETRIC DATA ELEMENTS */
BANDWIDTH = 48.0
CENTER_FILTER_WAVELENGTH = 748.0
RADIANCE_OFFSET = 0.340915
RADIANCE_SCALING_FACTOR = 0.00389451
REFLECTANCE_SCALING_FACTOR = 0.000525412
MEX:REFLECTANCE_OFFSET = 0.0459931
/* IMAGE OBJECT DEFINITIONS */
OBJECT = IMAGE
  INTERCHANGE_FORMAT = BINARY
  LINES = 17335
  LINE_SAMPLES = 2220
  SAMPLE_TYPE = UNSIGNED_INTEGER
  SAMPLE_BITS = 8
  BANDS = 1
  BAND_STORAGE_TYPE = BAND_SEQUENTIAL
  MAXIMUM = 187
  MEAN = 104.197
  MINIMUM = 45
  STANDARD_DEVIATION = 19.9109
END_OBJECT = IMAGE
/* MAP OBJECT DEFINITIONS */
OBJECT = IMAGE_MAP_PROJECTION
  ^DATA_SET_MAP_PROJECTION_CATALOG= "DSMAP.CAT"
  A_AXIS_RADIUS = 3396.0
  B_AXIS_RADIUS = 3396.0
  C_AXIS_RADIUS = 3396.0
  CENTER_LATITUDE = 0.0
  CENTER_LONGITUDE = 331.0
  COORDINATE_SYSTEM_NAME = PLANETOGRAPHIC
  COORDINATE_SYSTEM_TYPE = "BODY-FIXED ROTATING"
  EASTERNMOST_LONGITUDE = 332.193
  FIRST_STANDARD_PARALLEL = "N/A"
  LINE_FIRST_PIXEL = 1
  LINE_LAST_PIXEL = 17335
  LINE_PROJECTION_OFFSET = -51145.375
  MAP_PROJECTION_ROTATION = 0.0
  MAP_PROJECTION_TYPE = SINUSOIDAL
  MAP_RESOLUTION = 1185.42760773333
  MAP_SCALE = 0.05
  MAXIMUM_LATITUDE = -43.1235
  MINIMUM_LATITUDE = -57.6789
  POSITIVE_LONGITUDE_DIRECTION = EAST
  REFERENCE_LATITUDE = "N/A"
  REFERENCE_LONGITUDE = "N/A"
  SAMPLE_FIRST_PIXEL = 1
  SAMPLE_LAST_PIXEL = 2220
  SAMPLE_PROJECTION_OFFSET = 1221.875
  SECOND_STANDARD_PARALLEL = "N/A"
  WESTERNMOST_LONGITUDE = 329.067
END_OBJECT = IMAGE_MAP_PROJECTION
/* The JPEG2000 image data file associated with this label. */
OBJECT = COMPRESSED_FILE
  FILE_NAME = "H0376_0000_RE3.JP2"
  RECORD_TYPE = UNDEFINED
  FILE_RECORDS = UNK
  ENCODING_TYPE = "JP2"
  INTERCHANGE_FORMAT = BINARY
  UNCOMPRESSED_FILE_NAME = "H0376_0000_RE3.IMG"
  REQUIRED_STORAGE_BYTES = "38505900"
  ^DESCRIPTION = "JP2INFO.TXT"
END_OBJECT = COMPRESSED_FILE
END
