PDS_VERSION_ID = PDS3
/* FILE DATA ELEMENTS */
RECORD_TYPE = STREAM
/* POINTERS TO DATA OBJECTS */
^COMPRESSED_FILE = "H0380_0000_IR3.JP2"
/* IDENTIFICATION DATA ELEMENTS */
DATA_SET_ID = "MEX-M-HRSC-5-REFDR-MAPPROJECTED-V3.0"
DATA_SET_NAME = "MARS EXPRESS HRSC MAP PROJECTED REFDR V3.0"
DETECTOR_ID = MEX_HRSC_IR
EVENT_TYPE = "MARS-REGIONAL-STEREO-Vo-Te-Fl"
INSTRUMENT_HOST_ID = MEX
INSTRUMENT_HOST_NAME = "MARS EXPRESS"
INSTRUMENT_ID = HRSC
INSTRUMENT_NAME = "HIGH RESOLUTION STEREO CAMERA"
MISSION_NAME = "MARS EXPRESS"
MISSION_PHASE_NAME = MC_Phase_6
PROCESSING_LEVEL_ID = 3
PRODUCT_CREATION_TIME = 2016-03-03T01:16:01.000Z
PRODUCT_ID = "H0380_0000_IR3.JP2"
RELEASE_ID = 0006
REVISION_ID = 0000
/* QUALITY DATA ELEMENTS */
DATA_QUALITY_ID = 1
DATA_QUALITY_DESC = "Data calculated based on original SPICE kernels"
/* TIME DATA ELEMENTS */
SPACECRAFT_CLOCK_START_COUNT = "1/0032146503.56188"
SPACECRAFT_CLOCK_STOP_COUNT = "1/0032146791.07287"
START_TIME = 2004-05-09T01:35:17.378Z
STOP_TIME = 2004-05-09T01:38:29.660Z
/* ORBITAL DATA ELEMENTS */
ASCENDING_NODE_LONGITUDE = 221.15
MAXIMUM_RESOLUTION = 51.3
FOOTPRINT_POINT_LATITUDE = (-47.6941,-47.7118,-47.7279,-47.7405, -47.601,-47.3815,-47.162,-46.9425, -46.7232,-46.3964,-46.0577,-45.83, -45.6037,-45.378,-45.1518,-44.9205, -44.6874,-44.4546,-44.1053,-43.8734, -43.5149,-43.2757,-43.0365,-42.7976, -42.4314,-42.1857,-41.8175,-41.5728, -41.3214,-41.0713,-40.8205,-40.5687, -40.3108,-40.0521,-39.7942,-39.5345, -39.2013,-38.817,-38.5496,-38.2769, -38.0051,-37.7332,-37.4561,-37.1779, -36.9001,-36.6186,-36.3337,-36.0494, -35.7607,-35.4703,-35.1803,-34.9277, -34.9252,-34.9219,-34.9182,-34.9079, -34.8968,-35.3325,-35.6269,-36.0604, -36.3428,-36.6263,-37.0454,-37.4618, -37.7373,-38.1441,-38.4158,-38.6843, -38.9347,-39.1996,-39.5319,-39.7908, -40.0508,-40.3099,-40.5672,-40.8174, -41.1921,-41.442,-41.8113,-42.0566, -42.4237,-42.6691,-42.9075,-43.2646, -43.5032,-43.8596,-44.2078,-44.4405, -44.6731,-44.9059,-45.1356,-45.3613, -45.6999,-45.9258,-46.1517,-46.3765, -46.5957,-47.0333,-47.4713,-47.6941)
FOOTPRINT_POINT_LONGITUDE = (273.557,274.005,274.468,274.887,275.14 ,275.155,275.17,275.186,275.2,275.221, 275.243,275.258,275.273,275.287,275.301 ,275.315,275.33,275.344,275.364,275.377 ,275.398,275.411,275.424,275.437, 275.457,275.47,275.488,275.5,275.512, 275.523,275.535,275.547,275.559,275.571 ,275.583,275.595,275.61,275.629,275.641 ,275.653,275.665,275.676,275.688,275.7, 275.711,275.722,275.733,275.744,275.756 ,275.766,275.777,275.787,275.473, 275.092,274.811,274.397,274.01,274.004, 274.003,273.998,273.994,273.99,273.983, 273.975,273.97,273.962,273.956,273.95, 273.944,273.938,273.929,273.922,273.915 ,273.908,273.9,273.891,273.876,273.866, 273.852,273.842,273.827,273.817,273.806 ,273.79,273.779,273.762,273.745,273.733 ,273.721,273.709,273.696,273.684, 273.664,273.651,273.637,273.623,273.61, 273.581,273.551,273.557)
ORBIT_NUMBER = 380
ORBITAL_ECCENTRICITY = 0.589
ORBITAL_INCLINATION = 86.55
ORBITAL_SEMIMAJOR_AXIS = 8880.98
PERIAPSIS_ALTITUDE = 265.86
PERIAPSIS_ARGUMENT_ANGLE = 295.04
PERIAPSIS_TIME = 2004-05-09T01:31:21.000Z
SPACECRAFT_ORIENTATION = (0.0,-1.0,0.0)
^MEX_ORIENTATION_DESC = "MEX_ORIENTATION_DESC.TXT"
SPACECRAFT_POINTING_MODE = NADIR
^MEX_POINTING_DESC = "MEX_POINTING_DESC.TXT"
RIGHT_ASCENSION = -1e+32
DECLINATION = -1e+32
OFFSET_ANGLE = -1e+32
SPACECRAFT_SOLAR_DISTANCE = 2.43293e+08
TARGET_NAME = MARS
/* CAMERA DATA ELEMENTS */
DETECTOR_TEMPERATURE = 17.351
FOCAL_PLANE_TEMPERATURE = 8.5833
INST_CMPRS_NAME = "DISCRETE COSINE TRANSFORMATION (DCT)"
INST_CMPRS_RATIO = 8.66
INST_CMPRS_QUALITY = 0
INST_CMPRS_QUANTZ_TBL_ID = 0
INSTRUMENT_TEMPERATURE = 11.0301
LENS_TEMPERATURE = 8.9911
MACROPIXEL_SIZE = 4
MISSING_FRAMES = 22
PIXEL_SUBSAMPLING_FLAG = N
SIGNAL_CHAIN_ID = 2
/* RADIOMETRIC DATA ELEMENTS */
BANDWIDTH = 81.0
CENTER_FILTER_WAVELENGTH = 955.5
RADIANCE_OFFSET = 0.265099
RADIANCE_SCALING_FACTOR = 0.00350867
REFLECTANCE_SCALING_FACTOR = 0.000448054
MEX:REFLECTANCE_OFFSET = 0.033853
/* IMAGE OBJECT DEFINITIONS */
OBJECT = IMAGE
  INTERCHANGE_FORMAT = BINARY
  LINES = 15281
  LINE_SAMPLES = 2088
  SAMPLE_TYPE = UNSIGNED_INTEGER
  SAMPLE_BITS = 8
  BANDS = 1
  BAND_STORAGE_TYPE = BAND_SEQUENTIAL
  MAXIMUM = 114
  MEAN = 57.5905
  MINIMUM = 21
  STANDARD_DEVIATION = 10.3058
END_OBJECT = IMAGE
/* MAP OBJECT DEFINITIONS */
OBJECT = IMAGE_MAP_PROJECTION
  ^DATA_SET_MAP_PROJECTION_CATALOG= "DSMAP.CAT"
  A_AXIS_RADIUS = 3396.0
  B_AXIS_RADIUS = 3396.0
  C_AXIS_RADIUS = 3396.0
  CENTER_LATITUDE = 0.0
  CENTER_LONGITUDE = 275.0
  COORDINATE_SYSTEM_NAME = PLANETOGRAPHIC
  COORDINATE_SYSTEM_TYPE = "BODY-FIXED ROTATING"
  EASTERNMOST_LONGITUDE = 275.787
  FIRST_STANDARD_PARALLEL = "N/A"
  LINE_FIRST_PIXEL = 1
  LINE_LAST_PIXEL = 15281
  LINE_PROJECTION_OFFSET = -41148.625
  MAP_PROJECTION_ROTATION = 0.0
  MAP_PROJECTION_TYPE = SINUSOIDAL
  MAP_RESOLUTION = 1185.42760773333
  MAP_SCALE = 0.05
  MAXIMUM_LATITUDE = -34.8968
  MINIMUM_LATITUDE = -47.7405
  POSITIVE_LONGITUDE_DIRECTION = EAST
  REFERENCE_LATITUDE = "N/A"
  REFERENCE_LONGITUDE = "N/A"
  SAMPLE_FIRST_PIXEL = 1
  SAMPLE_LAST_PIXEL = 2088
  SAMPLE_PROJECTION_OFFSET = 1218.875
  SECOND_STANDARD_PARALLEL = "N/A"
  WESTERNMOST_LONGITUDE = 273.551
END_OBJECT = IMAGE_MAP_PROJECTION
/* The JPEG2000 image data file associated with this label. */
OBJECT = COMPRESSED_FILE
  FILE_NAME = "H0380_0000_IR3.JP2"
  RECORD_TYPE = UNDEFINED
  FILE_RECORDS = UNK
  ENCODING_TYPE = "JP2"
  INTERCHANGE_FORMAT = BINARY
  UNCOMPRESSED_FILE_NAME = "H0380_0000_IR3.IMG"
  REQUIRED_STORAGE_BYTES = "31927608"
  ^DESCRIPTION = "JP2INFO.TXT"
END_OBJECT = COMPRESSED_FILE
END
