PDS_VERSION_ID = PDS3
/* FILE DATA ELEMENTS */
RECORD_TYPE = STREAM
/* POINTERS TO DATA OBJECTS */
^COMPRESSED_FILE = "H0380_0001_IR3.JP2"
/* IDENTIFICATION DATA ELEMENTS */
DATA_SET_ID = "MEX-M-HRSC-5-REFDR-MAPPROJECTED-V3.0"
DATA_SET_NAME = "MARS EXPRESS HRSC MAP PROJECTED REFDR V3.0"
DETECTOR_ID = MEX_HRSC_IR
EVENT_TYPE = "MARS-GLOBAL-MAPPING-Te-Fl"
INSTRUMENT_HOST_ID = MEX
INSTRUMENT_HOST_NAME = "MARS EXPRESS"
INSTRUMENT_ID = HRSC
INSTRUMENT_NAME = "HIGH RESOLUTION STEREO CAMERA"
MISSION_NAME = "MARS EXPRESS"
MISSION_PHASE_NAME = MC_Phase_6
PROCESSING_LEVEL_ID = 3
PRODUCT_CREATION_TIME = 2016-03-03T01:16:01.000Z
PRODUCT_ID = "H0380_0001_IR3.JP2"
RELEASE_ID = 0006
REVISION_ID = 0000
/* QUALITY DATA ELEMENTS */
DATA_QUALITY_ID = 1
DATA_QUALITY_DESC = "Data calculated based on original SPICE kernels"
/* TIME DATA ELEMENTS */
SPACECRAFT_CLOCK_START_COUNT = "1/0032147051.56210"
SPACECRAFT_CLOCK_STOP_COUNT = "1/0032147556.07872"
START_TIME = 2004-05-09T01:44:35.141Z
STOP_TIME = 2004-05-09T01:47:04.666Z
/* ORBITAL DATA ELEMENTS */
ASCENDING_NODE_LONGITUDE = 221.15
MAXIMUM_RESOLUTION = 130.4
FOOTPRINT_POINT_LATITUDE = (-12.5196,-12.519,-12.5181,-12.517, -12.515,-12.513,-12.5105,-12.5077, -12.5045,-12.5009,-12.497,-12.4926, -12.5031,-12.3353,-12.0837,-11.9165, -11.6655,-11.4986,-11.3318,-11.1652, -10.9157,-10.7499,-10.584,-10.4183, -10.253,-10.0052,-9.84053,-9.5936, -9.42922,-9.26502,-9.10099,-8.93758, -8.77113,-8.60368,-8.36314,-8.1963, -8.01929,-7.84425,-7.52275,-7.35512, -7.1157,-6.89023,-6.50635,-6.10799, -5.86857,-5.54973,-5.23243,-4.91543, -4.74739,-4.52032,-4.24616,-4.24027, -4.2436,-4.25205,-4.26927,-4.28845, -4.29332,-4.29872,-4.29709,-4.30262, -4.29803,-4.60275,-4.85071,-5.01669, -5.18743,-5.50157,-5.82113,-6.13903, -6.43252,-6.75365,-7.07799,-7.24676, -7.41422,-7.65307,-7.81759,-8.1395, -8.38167,-8.70541,-9.03052,-9.19326, -9.35622,-9.51966,-9.76488,-9.92856, -10.0926,-10.2569,-10.4213,-10.5859, -10.7507,-10.9158,-11.0812,-11.2467, -11.4124,-11.5786,-11.7448,-11.9113, -12.0778,-12.2447,-12.4116,-12.5196)
FOOTPRINT_POINT_LONGITUDE = (273.617,273.827,274.036,274.219, 274.481,274.69,274.899,275.108,275.317, 275.526,275.735,275.944,276.284,276.286 ,276.289,276.291,276.294,276.296, 276.299,276.301,276.304,276.306,276.308 ,276.31,276.312,276.315,276.317,276.32, 276.322,276.324,276.326,276.328,276.331 ,276.334,276.336,276.339,276.346, 276.353,276.356,276.36,276.361,276.358, 276.356,276.36,276.363,276.366,276.369, 276.373,276.378,276.377,276.192,275.815 ,275.593,275.275,275.019,274.702,274.48 ,274.226,273.843,273.493,273.074, 272.986,273.008,273.024,273.041,273.063 ,273.086,273.109,273.12,273.142,273.166 ,273.18,273.194,273.209,273.221,273.241 ,273.256,273.276,273.297,273.306, 273.316,273.326,273.341,273.351,273.36, 273.37,273.379,273.389,273.398,273.408, 273.417,273.426,273.435,273.444,273.453 ,273.463,273.471,273.48,273.489, 273.617)
ORBIT_NUMBER = 380
ORBITAL_ECCENTRICITY = 0.589
ORBITAL_INCLINATION = 86.55
ORBITAL_SEMIMAJOR_AXIS = 8880.98
PERIAPSIS_ALTITUDE = 265.86
PERIAPSIS_ARGUMENT_ANGLE = 295.04
PERIAPSIS_TIME = 2004-05-09T01:31:21.000Z
SPACECRAFT_ORIENTATION = (0.0,-1.0,0.0)
^MEX_ORIENTATION_DESC = "MEX_ORIENTATION_DESC.TXT"
SPACECRAFT_POINTING_MODE = NADIR
^MEX_POINTING_DESC = "MEX_POINTING_DESC.TXT"
RIGHT_ASCENSION = -1e+32
DECLINATION = -1e+32
OFFSET_ANGLE = -1e+32
SPACECRAFT_SOLAR_DISTANCE = 2.43293e+08
TARGET_NAME = MARS
/* CAMERA DATA ELEMENTS */
DETECTOR_TEMPERATURE = 18.7783
FOCAL_PLANE_TEMPERATURE = 8.7872
INST_CMPRS_NAME = "DISCRETE COSINE TRANSFORMATION (DCT)"
INST_CMPRS_RATIO = 14.7417
INST_CMPRS_QUALITY = 0
INST_CMPRS_QUANTZ_TBL_ID = 0
INSTRUMENT_TEMPERATURE = 13.273
LENS_TEMPERATURE = 9.195
MACROPIXEL_SIZE = 4
MISSING_FRAMES = 0
PIXEL_SUBSAMPLING_FLAG = N
SIGNAL_CHAIN_ID = 2
/* RADIOMETRIC DATA ELEMENTS */
BANDWIDTH = 81.0
CENTER_FILTER_WAVELENGTH = 955.5
RADIANCE_OFFSET = 0.760129
RADIANCE_SCALING_FACTOR = 0.00975566
REFLECTANCE_SCALING_FACTOR = 0.0012458
MEX:REFLECTANCE_OFFSET = 0.0970685
/* IMAGE OBJECT DEFINITIONS */
OBJECT = IMAGE
  INTERCHANGE_FORMAT = BINARY
  LINES = 4979
  LINE_SAMPLES = 2402
  SAMPLE_TYPE = UNSIGNED_INTEGER
  SAMPLE_BITS = 8
  BANDS = 1
  BAND_STORAGE_TYPE = BAND_SEQUENTIAL
  MAXIMUM = 145
  MEAN = 84.8494
  MINIMUM = 31
  STANDARD_DEVIATION = 14.6321
END_OBJECT = IMAGE
/* MAP OBJECT DEFINITIONS */
OBJECT = IMAGE_MAP_PROJECTION
  ^DATA_SET_MAP_PROJECTION_CATALOG= "DSMAP.CAT"
  A_AXIS_RADIUS = 3396.0
  B_AXIS_RADIUS = 3396.0
  C_AXIS_RADIUS = 3396.0
  CENTER_LATITUDE = 0.0
  CENTER_LONGITUDE = 275.0
  COORDINATE_SYSTEM_NAME = PLANETOGRAPHIC
  COORDINATE_SYSTEM_TYPE = "BODY-FIXED ROTATING"
  EASTERNMOST_LONGITUDE = 276.378
  FIRST_STANDARD_PARALLEL = "N/A"
  LINE_FIRST_PIXEL = 1
  LINE_LAST_PIXEL = 4979
  LINE_PROJECTION_OFFSET = -2292.375
  MAP_PROJECTION_ROTATION = 0.0
  MAP_PROJECTION_TYPE = SINUSOIDAL
  MAP_RESOLUTION = 592.713803866667
  MAP_SCALE = 0.1
  MAXIMUM_LATITUDE = -4.24027
  MINIMUM_LATITUDE = -12.5196
  POSITIVE_LONGITUDE_DIRECTION = EAST
  REFERENCE_LATITUDE = "N/A"
  REFERENCE_LONGITUDE = "N/A"
  SAMPLE_FIRST_PIXEL = 1
  SAMPLE_LAST_PIXEL = 2402
  SAMPLE_PROJECTION_OFFSET = 1400.875
  SECOND_STANDARD_PARALLEL = "N/A"
  WESTERNMOST_LONGITUDE = 272.986
END_OBJECT = IMAGE_MAP_PROJECTION
/* The JPEG2000 image data file associated with this label. */
OBJECT = COMPRESSED_FILE
  FILE_NAME = "H0380_0001_IR3.JP2"
  RECORD_TYPE = UNDEFINED
  FILE_RECORDS = UNK
  ENCODING_TYPE = "JP2"
  INTERCHANGE_FORMAT = BINARY
  UNCOMPRESSED_FILE_NAME = "H0380_0001_IR3.IMG"
  REQUIRED_STORAGE_BYTES = "11978774"
  ^DESCRIPTION = "JP2INFO.TXT"
END_OBJECT = COMPRESSED_FILE
END
