PDS_VERSION_ID = PDS3
/* FILE DATA ELEMENTS */
RECORD_TYPE = STREAM
/* POINTERS TO DATA OBJECTS */
^COMPRESSED_FILE = "H0380_0001_S23.JP2"
/* IDENTIFICATION DATA ELEMENTS */
DATA_SET_ID = "MEX-M-HRSC-5-REFDR-MAPPROJECTED-V3.0"
DATA_SET_NAME = "MARS EXPRESS HRSC MAP PROJECTED REFDR V3.0"
DETECTOR_ID = MEX_HRSC_S2
EVENT_TYPE = "MARS-GLOBAL-MAPPING-Te-Fl"
INSTRUMENT_HOST_ID = MEX
INSTRUMENT_HOST_NAME = "MARS EXPRESS"
INSTRUMENT_ID = HRSC
INSTRUMENT_NAME = "HIGH RESOLUTION STEREO CAMERA"
MISSION_NAME = "MARS EXPRESS"
MISSION_PHASE_NAME = MC_Phase_6
PROCESSING_LEVEL_ID = 3
PRODUCT_CREATION_TIME = 2016-03-03T01:16:01.000Z
PRODUCT_ID = "H0380_0001_S23.JP2"
RELEASE_ID = 0006
REVISION_ID = 0000
/* QUALITY DATA ELEMENTS */
DATA_QUALITY_ID = 1
DATA_QUALITY_DESC = "Data calculated based on original SPICE kernels"
/* TIME DATA ELEMENTS */
SPACECRAFT_CLOCK_START_COUNT = "1/0032147051.56210"
SPACECRAFT_CLOCK_STOP_COUNT = "1/0032147556.07872"
START_TIME = 2004-05-09T01:48:22.305Z
STOP_TIME = 2004-05-09T01:52:42.655Z
/* ORBITAL DATA ELEMENTS */
ASCENDING_NODE_LONGITUDE = 221.15
MAXIMUM_RESOLUTION = 94.5
FOOTPRINT_POINT_LATITUDE = (-12.0258,-12.0129,-12.0004,-11.9885, -11.977,-11.9661,-11.9557,-11.9459, -11.9366,-11.9278,-11.9195,-11.9117, -11.9043,-11.8636,-11.6765,-11.4901, -11.3045,-11.1197,-10.9371,-10.7529, -10.5712,-10.3903,-10.2099,-10.0303, -9.85151,-9.67363,-9.49676,-9.32065, -9.14515,-8.79708,-8.45226,-8.13589, -7.90897,-7.66583,-7.33746,-7.07095, -6.87425,-6.69433,-6.36755,-6.04472, -5.72597,-5.40819,-5.09551,-4.63331, -4.32536,-4.0235,-3.72494,-3.46815, -3.4738,-3.48015,-3.487,-3.49769, -3.50521,-3.51225,-3.5259,-3.53419, -3.54287,-3.55203,-3.56139,-3.57124, -3.58161,-3.59749,-3.60852,-3.62519, -3.649,-3.66406,-3.67965,-3.69623, -3.95155,-4.29521,-4.59318,-4.85837, -5.15454,-5.36128,-5.67646,-5.97054, -6.28464,-6.64313,-6.95062,-7.33562, -7.73723,-8.0692,-8.40546,-8.74474, -9.08743,-9.43227,-9.60587,-9.77991, -9.95559,-10.1318,-10.309,-10.4868, -10.6655,-10.8454,-11.0258,-11.2069, -11.3891,-11.5722,-11.7562,-12.0258)
FOOTPRINT_POINT_LONGITUDE = (272.912,273.223,273.533,273.844, 274.154,274.463,274.773,275.082,275.392 ,275.701,276.011,276.321,276.631, 276.905,276.914,276.923,276.931,276.94, 276.949,276.957,276.966,276.975,276.984 ,276.992,277.001,277.01,277.019,277.028 ,277.037,277.055,277.073,277.099, 277.121,277.138,277.158,277.166,277.165 ,277.169,277.187,277.205,277.224, 277.243,277.262,277.291,277.31,277.329, 277.349,277.317,277.11,276.904,276.697, 276.388,276.182,275.977,275.617,275.412 ,275.207,275.002,274.797,274.591, 274.386,274.078,273.872,273.564,273.153 ,272.896,272.638,272.381,272.077, 272.102,272.139,272.184,272.222,272.255 ,272.289,272.329,272.365,272.39,272.429 ,272.478,272.523,272.557,272.591, 272.625,272.659,272.692,272.709,272.725 ,272.742,272.758,272.774,272.791, 272.807,272.823,272.839,272.855,272.871 ,272.887,272.903,272.912)
ORBIT_NUMBER = 380
ORBITAL_ECCENTRICITY = 0.589
ORBITAL_INCLINATION = 86.55
ORBITAL_SEMIMAJOR_AXIS = 8880.98
PERIAPSIS_ALTITUDE = 265.86
PERIAPSIS_ARGUMENT_ANGLE = 295.04
PERIAPSIS_TIME = 2004-05-09T01:31:21.000Z
SPACECRAFT_ORIENTATION = (0.0,-1.0,0.0)
^MEX_ORIENTATION_DESC = "MEX_ORIENTATION_DESC.TXT"
SPACECRAFT_POINTING_MODE = NADIR
^MEX_POINTING_DESC = "MEX_POINTING_DESC.TXT"
RIGHT_ASCENSION = -1e+32
DECLINATION = -1e+32
OFFSET_ANGLE = -1e+32
SPACECRAFT_SOLAR_DISTANCE = 2.43293e+08
TARGET_NAME = MARS
/* CAMERA DATA ELEMENTS */
DETECTOR_TEMPERATURE = 20.6134
FOCAL_PLANE_TEMPERATURE = 8.7872
INST_CMPRS_NAME = "DISCRETE COSINE TRANSFORMATION (DCT)"
INST_CMPRS_RATIO = 12.5909
INST_CMPRS_QUALITY = 0
INST_CMPRS_QUANTZ_TBL_ID = 0
INSTRUMENT_TEMPERATURE = 13.273
LENS_TEMPERATURE = 9.195
MACROPIXEL_SIZE = 2
MISSING_FRAMES = 0
PIXEL_SUBSAMPLING_FLAG = N
SIGNAL_CHAIN_ID = 1
/* RADIOMETRIC DATA ELEMENTS */
BANDWIDTH = 178.0
CENTER_FILTER_WAVELENGTH = 679.0
RADIANCE_OFFSET = 4.04146
RADIANCE_SCALING_FACTOR = 0.0320423
REFLECTANCE_SCALING_FACTOR = 0.00100442
MEX:REFLECTANCE_OFFSET = 0.126687
/* IMAGE OBJECT DEFINITIONS */
OBJECT = IMAGE
  INTERCHANGE_FORMAT = BINARY
  LINES = 9958
  LINE_SAMPLES = 4804
  SAMPLE_TYPE = UNSIGNED_INTEGER
  SAMPLE_BITS = 8
  BANDS = 1
  BAND_STORAGE_TYPE = BAND_SEQUENTIAL
  MAXIMUM = 147
  MEAN = 98.9863
  MINIMUM = 44
  STANDARD_DEVIATION = 11.9323
END_OBJECT = IMAGE
/* MAP OBJECT DEFINITIONS */
OBJECT = IMAGE_MAP_PROJECTION
  ^DATA_SET_MAP_PROJECTION_CATALOG= "DSMAP.CAT"
  A_AXIS_RADIUS = 3396.0
  B_AXIS_RADIUS = 3396.0
  C_AXIS_RADIUS = 3396.0
  CENTER_LATITUDE = 0.0
  CENTER_LONGITUDE = 275.0
  COORDINATE_SYSTEM_NAME = PLANETOGRAPHIC
  COORDINATE_SYSTEM_TYPE = "BODY-FIXED ROTATING"
  EASTERNMOST_LONGITUDE = 277.349
  FIRST_STANDARD_PARALLEL = "N/A"
  LINE_FIRST_PIXEL = 1
  LINE_LAST_PIXEL = 9958
  LINE_PROJECTION_OFFSET = -4584.25
  MAP_PROJECTION_ROTATION = 0.0
  MAP_PROJECTION_TYPE = SINUSOIDAL
  MAP_RESOLUTION = 1185.42760773333
  MAP_SCALE = 0.05
  MAXIMUM_LATITUDE = -3.46815
  MINIMUM_LATITUDE = -12.0258
  POSITIVE_LONGITUDE_DIRECTION = EAST
  REFERENCE_LATITUDE = "N/A"
  REFERENCE_LONGITUDE = "N/A"
  SAMPLE_FIRST_PIXEL = 1
  SAMPLE_LAST_PIXEL = 4804
  SAMPLE_PROJECTION_OFFSET = 2802.25
  SECOND_STANDARD_PARALLEL = "N/A"
  WESTERNMOST_LONGITUDE = 272.077
END_OBJECT = IMAGE_MAP_PROJECTION
/* The JPEG2000 image data file associated with this label. */
OBJECT = COMPRESSED_FILE
  FILE_NAME = "H0380_0001_S23.JP2"
  RECORD_TYPE = UNDEFINED
  FILE_RECORDS = UNK
  ENCODING_TYPE = "JP2"
  INTERCHANGE_FORMAT = BINARY
  UNCOMPRESSED_FILE_NAME = "H0380_0001_S23.IMG"
  REQUIRED_STORAGE_BYTES = "47862252"
  ^DESCRIPTION = "JP2INFO.TXT"
END_OBJECT = COMPRESSED_FILE
END
