PDS_VERSION_ID = PDS3
/* FILE DATA ELEMENTS */
RECORD_TYPE = STREAM
/* POINTERS TO DATA OBJECTS */
^COMPRESSED_FILE = "H0383_0000_GR3.JP2"
/* IDENTIFICATION DATA ELEMENTS */
DATA_SET_ID = "MEX-M-HRSC-5-REFDR-MAPPROJECTED-V3.0"
DATA_SET_NAME = "MARS EXPRESS HRSC MAP PROJECTED REFDR V3.0"
DETECTOR_ID = MEX_HRSC_GREEN
EVENT_TYPE = "MARS-REGIONAL-MAPPING-Fl-Mw-Tc"
INSTRUMENT_HOST_ID = MEX
INSTRUMENT_HOST_NAME = "MARS EXPRESS"
INSTRUMENT_ID = HRSC
INSTRUMENT_NAME = "HIGH RESOLUTION STEREO CAMERA"
MISSION_NAME = "MARS EXPRESS"
MISSION_PHASE_NAME = MC_Phase_6
PROCESSING_LEVEL_ID = 3
PRODUCT_CREATION_TIME = 2016-03-03T01:16:01.000Z
PRODUCT_ID = "H0383_0000_GR3.JP2"
RELEASE_ID = 0006
REVISION_ID = 0000
/* QUALITY DATA ELEMENTS */
DATA_QUALITY_ID = 1
DATA_QUALITY_DESC = "Data calculated based on original SPICE kernels"
/* TIME DATA ELEMENTS */
SPACECRAFT_CLOCK_START_COUNT = "1/0032223348.57958"
SPACECRAFT_CLOCK_STOP_COUNT = "1/0032223591.07661"
START_TIME = 2004-05-09T22:56:19.407Z
STOP_TIME = 2004-05-09T22:59:09.558Z
/* ORBITAL DATA ELEMENTS */
ASCENDING_NODE_LONGITUDE = 221.08
MAXIMUM_RESOLUTION = 47.2
FOOTPRINT_POINT_LATITUDE = (-52.9984,-53.0163,-53.0395,-53.0512, -52.7673,-52.3891,-52.0113,-51.8172, -51.6217,-51.4264,-51.2313,-51.0362, -50.8412,-50.6464,-50.4516,-50.1502, -49.9491,-49.748,-49.5472,-49.3464, -49.1458,-48.838,-48.6311,-48.4243, -48.2177,-48.0112,-47.8049,-47.4865, -47.274,-47.0616,-46.4308,-46.1034, -45.8854,-45.6676,-45.3379,-45.114, -44.8903,-44.6594,-44.4362,-44.2081, -43.9788,-43.6352,-43.4065,-43.1726, -42.9379,-42.7034,-42.4692,-42.2305, -41.9904,-41.9231,-41.9167,-41.9029, -41.8928,-42.1302,-42.37,-42.6037, -42.8376,-43.0719,-43.4209,-43.6492, -43.8778,-44.1065,-44.3356,-44.5584, -44.9005,-45.1238,-45.4575,-45.6748, -45.8922,-46.1099,-46.3277,-46.9589, -47.1708,-47.383,-47.5952,-47.8051, -48.0111,-48.2173,-48.4236,-48.63, -48.8365,-49.0419,-49.2421,-49.4424, -49.6428,-49.8434,-50.0441,-50.245, -50.4437,-50.6381,-50.8325,-51.0271, -51.2218,-51.4167,-51.6116,-51.8066, -51.9985,-52.3756,-52.753,-52.9984)
FOOTPRINT_POINT_LONGITUDE = (320.789,321.226,321.859,322.269, 322.296,322.333,322.368,322.386,322.404 ,322.422,322.44,322.458,322.476,322.493 ,322.51,322.534,322.551,322.567,322.583 ,322.599,322.614,322.638,322.654,322.67 ,322.685,322.701,322.716,322.739, 322.754,322.769,322.812,322.834,322.849 ,322.863,322.884,322.898,322.912, 322.926,322.939,322.953,322.966,322.986 ,322.998,323.011,323.023,323.038, 323.048,323.061,323.074,322.604,322.311 ,321.772,321.429,321.317,321.308, 321.299,321.289,321.28,321.264,321.253, 321.244,321.231,321.22,321.209,321.192, 321.181,321.163,321.151,321.139,321.126 ,321.114,321.076,321.062,321.048, 321.033,321.019,321.005,320.992,320.976 ,320.961,320.945,320.929,320.914, 320.897,320.881,320.864,320.848,320.831 ,320.813,320.796,320.779,320.761, 320.743,320.724,320.705,320.686,320.666 ,320.628,320.587,320.789)
ORBIT_NUMBER = 383
ORBITAL_ECCENTRICITY = 0.589
ORBITAL_INCLINATION = 86.56
ORBITAL_SEMIMAJOR_AXIS = 8878.35
PERIAPSIS_ALTITUDE = 265.79
PERIAPSIS_ARGUMENT_ANGLE = 294.53
PERIAPSIS_TIME = 2004-05-09T22:53:17.000Z
SPACECRAFT_ORIENTATION = (0.0,-1.0,0.0)
^MEX_ORIENTATION_DESC = "MEX_ORIENTATION_DESC.TXT"
SPACECRAFT_POINTING_MODE = NADIR
^MEX_POINTING_DESC = "MEX_POINTING_DESC.TXT"
RIGHT_ASCENSION = -1e+32
DECLINATION = -1e+32
OFFSET_ANGLE = -1e+32
SPACECRAFT_SOLAR_DISTANCE = 2.43405e+08
TARGET_NAME = MARS
/* CAMERA DATA ELEMENTS */
DETECTOR_TEMPERATURE = 17.7588
FOCAL_PLANE_TEMPERATURE = 7.5638
INST_CMPRS_NAME = "DISCRETE COSINE TRANSFORMATION (DCT)"
INST_CMPRS_RATIO = 24.1877
INST_CMPRS_QUALITY = 0
INST_CMPRS_QUANTZ_TBL_ID = 0
INSTRUMENT_TEMPERATURE = 10.8262
LENS_TEMPERATURE = 7.9716
MACROPIXEL_SIZE = 4
MISSING_FRAMES = 74
PIXEL_SUBSAMPLING_FLAG = N
SIGNAL_CHAIN_ID = 2
/* RADIOMETRIC DATA ELEMENTS */
BANDWIDTH = 88.0
CENTER_FILTER_WAVELENGTH = 538.0
RADIANCE_OFFSET = 0.94746
RADIANCE_SCALING_FACTOR = 0.00293915
REFLECTANCE_SCALING_FACTOR = 0.000149924
MEX:REFLECTANCE_OFFSET = 0.0483293
/* IMAGE OBJECT DEFINITIONS */
OBJECT = IMAGE
  INTERCHANGE_FORMAT = BINARY
  LINES = 13265
  LINE_SAMPLES = 2011
  SAMPLE_TYPE = UNSIGNED_INTEGER
  SAMPLE_BITS = 8
  BANDS = 1
  BAND_STORAGE_TYPE = BAND_SEQUENTIAL
  MAXIMUM = 124
  MEAN = 99.0787
  MINIMUM = 66
  STANDARD_DEVIATION = 8.29935
END_OBJECT = IMAGE
/* MAP OBJECT DEFINITIONS */
OBJECT = IMAGE_MAP_PROJECTION
  ^DATA_SET_MAP_PROJECTION_CATALOG= "DSMAP.CAT"
  A_AXIS_RADIUS = 3396.0
  B_AXIS_RADIUS = 3396.0
  C_AXIS_RADIUS = 3396.0
  CENTER_LATITUDE = 0.0
  CENTER_LONGITUDE = 322.0
  COORDINATE_SYSTEM_NAME = PLANETOGRAPHIC
  COORDINATE_SYSTEM_TYPE = "BODY-FIXED ROTATING"
  EASTERNMOST_LONGITUDE = 323.074
  FIRST_STANDARD_PARALLEL = "N/A"
  LINE_FIRST_PIXEL = 1
  LINE_LAST_PIXEL = 13265
  LINE_PROJECTION_OFFSET = -49599.625
  MAP_PROJECTION_ROTATION = 0.0
  MAP_PROJECTION_TYPE = SINUSOIDAL
  MAP_RESOLUTION = 1185.42760773333
  MAP_SCALE = 0.05
  MAXIMUM_LATITUDE = -41.8928
  MINIMUM_LATITUDE = -53.0512
  POSITIVE_LONGITUDE_DIRECTION = EAST
  REFERENCE_LATITUDE = "N/A"
  REFERENCE_LONGITUDE = "N/A"
  SAMPLE_FIRST_PIXEL = 1
  SAMPLE_LAST_PIXEL = 2011
  SAMPLE_PROJECTION_OFFSET = 1019.125
  SECOND_STANDARD_PARALLEL = "N/A"
  WESTERNMOST_LONGITUDE = 320.587
END_OBJECT = IMAGE_MAP_PROJECTION
/* The JPEG2000 image data file associated with this label. */
OBJECT = COMPRESSED_FILE
  FILE_NAME = "H0383_0000_GR3.JP2"
  RECORD_TYPE = UNDEFINED
  FILE_RECORDS = UNK
  ENCODING_TYPE = "JP2"
  INTERCHANGE_FORMAT = BINARY
  UNCOMPRESSED_FILE_NAME = "H0383_0000_GR3.IMG"
  REQUIRED_STORAGE_BYTES = "26696025"
  ^DESCRIPTION = "JP2INFO.TXT"
END_OBJECT = COMPRESSED_FILE
END
