PDS_VERSION_ID = PDS3
/* FILE DATA ELEMENTS */
RECORD_TYPE = STREAM
/* POINTERS TO DATA OBJECTS */
^COMPRESSED_FILE = "H0383_0008_SR3.JP2"
/* IDENTIFICATION DATA ELEMENTS */
DATA_SET_ID = "MEX-M-HRSC-5-REFDR-MAPPROJECTED-V3.0"
DATA_SET_NAME = "MARS EXPRESS HRSC MAP PROJECTED REFDR V3.0"
DETECTOR_ID = MEX_HRSC_SRC
EVENT_TYPE = "MARS-REGIONAL-MAPPING-Fl-Mw-Tc"
INSTRUMENT_HOST_ID = MEX
INSTRUMENT_HOST_NAME = "MARS EXPRESS"
INSTRUMENT_ID = HRSC
INSTRUMENT_NAME = "HIGH RESOLUTION STEREO CAMERA"
MISSION_NAME = "MARS EXPRESS"
MISSION_PHASE_NAME = MC_Phase_6
PROCESSING_LEVEL_ID = 3
PRODUCT_CREATION_TIME = 2016-03-03T01:16:01.000Z
PRODUCT_ID = "H0383_0008_SR3.JP2"
RELEASE_ID = 0006
REVISION_ID = 0000
/* QUALITY DATA ELEMENTS */
DATA_QUALITY_ID = 1
DATA_QUALITY_DESC = "Data calculated based on original SPICE kernels"
/* TIME DATA ELEMENTS */
SPACECRAFT_CLOCK_START_COUNT = "1/0032223348.57958"
SPACECRAFT_CLOCK_STOP_COUNT = "1/0032223591.07661"
IMAGE_TIME = 2004-05-09T22:57:17.276Z
START_TIME = 2004-05-09T22:57:17.274Z
STOP_TIME = 2004-05-09T22:57:17.279Z
/* ORBITAL DATA ELEMENTS */
ASCENDING_NODE_LONGITUDE = 221.08
MAXIMUM_RESOLUTION = 2.903
FOOTPRINT_POINT_LATITUDE = (-49.4631,-49.4647,-49.4672,-49.4689, -49.4714,-49.4737,-49.4759,-49.4785, -49.4802,-49.4816,-49.4834,-49.4859, -49.4879,-49.4894,-49.4922,-49.4941, -49.4958,-49.4975,-49.4995,-49.501, -49.5028,-49.5049,-49.5076,-49.5097, -49.5105,-49.5104,-49.5103,-49.5103, -49.5102,-49.5101,-49.51,-49.5099, -49.5098,-49.5097,-49.5096,-49.5095, -49.5094,-49.5093,-49.5092,-49.5091, -49.509,-49.5089,-49.5088,-49.5087, -49.5086,-49.5085,-49.5084,-49.5083, -49.5074,-49.505,-49.5029,-49.5015, -49.4994,-49.4962,-49.4945,-49.4924, -49.4911,-49.4886,-49.4858,-49.4838, -49.4815,-49.48,-49.4778,-49.4759, -49.474,-49.4726,-49.4708,-49.4684, -49.4663,-49.4646,-49.4627,-49.4614, -49.4587,-49.4588,-49.4589,-49.459, -49.4591,-49.4592,-49.4593,-49.4594, -49.4595,-49.4596,-49.4597,-49.4598, -49.4599,-49.46,-49.4601,-49.4602, -49.4603,-49.4603,-49.4604,-49.4605, -49.4606,-49.4607,-49.4608,-49.4608, -49.4609,-49.461,-49.4611,-49.4631)
FOOTPRINT_POINT_LONGITUDE = (321.782,321.781,321.781,321.781, 321.781,321.781,321.781,321.78,321.78, 321.78,321.78,321.78,321.78,321.78, 321.779,321.779,321.779,321.779,321.779 ,321.779,321.779,321.778,321.778, 321.778,321.774,321.771,321.768,321.765 ,321.762,321.76,321.757,321.753,321.75, 321.747,321.744,321.741,321.738,321.735 ,321.732,321.729,321.726,321.723,321.72 ,321.717,321.714,321.711,321.707, 321.704,321.701,321.701,321.701,321.702 ,321.702,321.702,321.702,321.702, 321.702,321.703,321.703,321.703,321.703 ,321.703,321.703,321.704,321.704, 321.704,321.704,321.704,321.704,321.704 ,321.705,321.705,321.706,321.71,321.713 ,321.716,321.719,321.722,321.725, 321.728,321.731,321.733,321.737,321.74, 321.743,321.746,321.75,321.753,321.755, 321.757,321.76,321.763,321.766,321.768, 321.771,321.773,321.775,321.777,321.78, 321.782)
ORBIT_NUMBER = 383
ORBITAL_ECCENTRICITY = 0.589
ORBITAL_INCLINATION = 86.56
ORBITAL_SEMIMAJOR_AXIS = 8878.35
PERIAPSIS_ALTITUDE = 265.79
PERIAPSIS_ARGUMENT_ANGLE = 294.53
PERIAPSIS_TIME = 2004-05-09T22:53:17.000Z
SPACECRAFT_ORIENTATION = (0.0,-1.0,0.0)
^MEX_ORIENTATION_DESC = "MEX_ORIENTATION_DESC.TXT"
SPACECRAFT_POINTING_MODE = NADIR
^MEX_POINTING_DESC = "MEX_POINTING_DESC.TXT"
RIGHT_ASCENSION = -1e+32
DECLINATION = -1e+32
OFFSET_ANGLE = -1e+32
SPACECRAFT_SOLAR_DISTANCE = 2.43405e+08
TARGET_NAME = MARS
/* CAMERA DATA ELEMENTS */
BUFFER_MODE_ID = BUFFER_8
EXPOSURE_DURATION = 5.04
INST_CMPRS_NAME = NONE
INST_CMPRS_RATIO = 1.0
INST_CMPRS_QUALITY = -2147483648
INST_CMPRS_QUANTZ_TBL_ID = -2147483648
INSTRUMENT_TEMPERATURE = 5.15152
MISSING_FRAMES = 0
START_BIT = 0
/* RADIOMETRIC DATA ELEMENTS */
BANDWIDTH = 250.0
CENTER_FILTER_WAVELENGTH = 600.0
RADIANCE_OFFSET = -9.99e+31
RADIANCE_SCALING_FACTOR = -9.99e+31
REFLECTANCE_SCALING_FACTOR = -9.99e+31
MEX:REFLECTANCE_OFFSET = -9.99e+31
/* IMAGE OBJECT DEFINITIONS */
OBJECT = IMAGE
  INTERCHANGE_FORMAT = BINARY
  LINES = 1319
  LINE_SAMPLES = 1325
  SAMPLE_TYPE = UNSIGNED_INTEGER
  SAMPLE_BITS = 8
  BANDS = 1
  BAND_STORAGE_TYPE = BAND_SEQUENTIAL
  MAXIMUM = 3436
  MEAN = 3137.52
  MINIMUM = 2613
  STANDARD_DEVIATION = 66.1943
END_OBJECT = IMAGE
/* MAP OBJECT DEFINITIONS */
OBJECT = IMAGE_MAP_PROJECTION
  ^DATA_SET_MAP_PROJECTION_CATALOG= "DSMAP.CAT"
  A_AXIS_RADIUS = 3396.19
  B_AXIS_RADIUS = 3396.19
  C_AXIS_RADIUS = 3396.19
  CENTER_LATITUDE = 0.0
  CENTER_LONGITUDE = 322.0
  COORDINATE_SYSTEM_NAME = PLANETOGRAPHIC
  COORDINATE_SYSTEM_TYPE = "BODY-FIXED ROTATING"
  EASTERNMOST_LONGITUDE = 321.782
  FIRST_STANDARD_PARALLEL = "N/A"
  LINE_FIRST_PIXEL = 1
  LINE_LAST_PIXEL = 1319
  LINE_PROJECTION_OFFSET = -1171391.0
  MAP_PROJECTION_ROTATION = 0.0
  MAP_PROJECTION_TYPE = SINUSOIDAL
  MAP_RESOLUTION = 23709.8786048756
  MAP_SCALE = 0.0025
  MAXIMUM_LATITUDE = -49.4587
  MINIMUM_LATITUDE = -49.5105
  POSITIVE_LONGITUDE_DIRECTION = EAST
  REFERENCE_LATITUDE = "N/A"
  REFERENCE_LONGITUDE = "N/A"
  SAMPLE_FIRST_PIXEL = 1
  SAMPLE_LAST_PIXEL = 1325
  SAMPLE_PROJECTION_OFFSET = 4660.0
  SECOND_STANDARD_PARALLEL = "N/A"
  WESTERNMOST_LONGITUDE = 321.701
END_OBJECT = IMAGE_MAP_PROJECTION
/* The JPEG2000 image data file associated with this label. */
OBJECT = COMPRESSED_FILE
  FILE_NAME = "H0383_0008_SR3.JP2"
  RECORD_TYPE = UNDEFINED
  FILE_RECORDS = UNK
  ENCODING_TYPE = "JP2"
  INTERCHANGE_FORMAT = BINARY
  UNCOMPRESSED_FILE_NAME = "H0383_0008_SR3.IMG"
  REQUIRED_STORAGE_BYTES = "1767550"
  ^DESCRIPTION = "JP2INFO.TXT"
END_OBJECT = COMPRESSED_FILE
END
