PDS_VERSION_ID = PDS3
/* FILE DATA ELEMENTS */
RECORD_TYPE = STREAM
/* POINTERS TO DATA OBJECTS */
^COMPRESSED_FILE = "H0389_0008_SR3.JP2"
/* IDENTIFICATION DATA ELEMENTS */
DATA_SET_ID = "MEX-M-HRSC-5-REFDR-MAPPROJECTED-V3.0"
DATA_SET_NAME = "MARS EXPRESS HRSC MAP PROJECTED REFDR V3.0"
DETECTOR_ID = MEX_HRSC_SRC
EVENT_TYPE = "MARS-REGIONAL-MAPPING-Fl-Gl-Mw"
INSTRUMENT_HOST_ID = MEX
INSTRUMENT_HOST_NAME = "MARS EXPRESS"
INSTRUMENT_ID = HRSC
INSTRUMENT_NAME = "HIGH RESOLUTION STEREO CAMERA"
MISSION_NAME = "MARS EXPRESS"
MISSION_PHASE_NAME = MC_Phase_6
PROCESSING_LEVEL_ID = 3
PRODUCT_CREATION_TIME = 2016-03-03T01:16:01.000Z
PRODUCT_ID = "H0389_0008_SR3.JP2"
RELEASE_ID = 0006
REVISION_ID = 0000
/* QUALITY DATA ELEMENTS */
DATA_QUALITY_ID = 1
DATA_QUALITY_DESC = "Data calculated based on original SPICE kernels"
/* TIME DATA ELEMENTS */
SPACECRAFT_CLOCK_START_COUNT = "1/0032371625.57313"
SPACECRAFT_CLOCK_STOP_COUNT = "1/0032372224.03121"
IMAGE_TIME = 2004-05-11T16:09:09.179Z
START_TIME = 2004-05-11T16:09:09.176Z
STOP_TIME = 2004-05-11T16:09:09.181Z
/* ORBITAL DATA ELEMENTS */
ASCENDING_NODE_LONGITUDE = 220.94
MAXIMUM_RESOLUTION = 3.431
FOOTPRINT_POINT_LATITUDE = (-43.4283,-43.4301,-43.4327,-43.4348, -43.4378,-43.4413,-43.4436,-43.4454, -43.4477,-43.4495,-43.4514,-43.4535, -43.4563,-43.4583,-43.4611,-43.4639, -43.4674,-43.4699,-43.4719,-43.475, -43.4775,-43.4808,-43.4829,-43.4845, -43.4844,-43.4843,-43.4843,-43.4842, -43.4841,-43.484,-43.484,-43.4839, -43.4838,-43.4837,-43.4837,-43.4836, -43.4835,-43.4834,-43.4834,-43.4833, -43.4832,-43.4831,-43.4831,-43.483, -43.4829,-43.4828,-43.4828,-43.4827, -43.4822,-43.4799,-43.4768,-43.4745, -43.4722,-43.4687,-43.467,-43.4652, -43.4617,-43.4593,-43.4572,-43.4551, -43.4534,-43.4514,-43.4494,-43.4475, -43.4445,-43.442,-43.4402,-43.4379, -43.4359,-43.4334,-43.4298,-43.4278, -43.4245,-43.424,-43.424,-43.4241, -43.4242,-43.4243,-43.4243,-43.4244, -43.4245,-43.4245,-43.4246,-43.4247, -43.4248,-43.4248,-43.4249,-43.425, -43.4251,-43.4251,-43.4252,-43.4253, -43.4254,-43.4254,-43.4255,-43.4256, -43.4256,-43.4257,-43.4258,-43.4283)
FOOTPRINT_POINT_LONGITUDE = (80.0812,80.0811,80.081,80.0809,80.0807 ,80.0806,80.0805,80.0804,80.0803, 80.0802,80.0801,80.0801,80.0799,80.0798 ,80.0797,80.0796,80.0794,80.0793, 80.0792,80.0791,80.079,80.0789,80.0788, 80.0786,80.0754,80.0722,80.069,80.0658, 80.0626,80.0594,80.0562,80.053,80.0498, 80.0466,80.0434,80.0402,80.0369,80.0337 ,80.0305,80.0273,80.0241,80.0209, 80.0177,80.0145,80.0113,80.0081,80.0049 ,80.0017,79.9972,79.9973,79.9975, 79.9976,79.9977,79.9978,79.9979,79.998, 79.9982,79.9983,79.9984,79.9985,79.9986 ,79.9986,79.9987,79.9988,79.999,79.9991 ,79.9992,79.9993,79.9994,79.9995, 79.9996,79.9997,79.9999,80.0024,80.0048 ,80.008,80.0112,80.0144,80.0168,80.02, 80.0232,80.0264,80.0296,80.0328,80.036, 80.0392,80.0424,80.0456,80.0488,80.052, 80.0552,80.0584,80.0616,80.0648,80.068, 80.0704,80.0736,80.0768,80.08,80.0812)
ORBIT_NUMBER = 389
ORBITAL_ECCENTRICITY = 0.574
ORBITAL_INCLINATION = 86.57
ORBITAL_SEMIMAJOR_AXIS = 8553.87
PERIAPSIS_ALTITUDE = 264.78
PERIAPSIS_ARGUMENT_ANGLE = 293.57
PERIAPSIS_TIME = 2004-05-11T16:03:18.000Z
SPACECRAFT_ORIENTATION = (0.0,-1.0,0.0)
^MEX_ORIENTATION_DESC = "MEX_ORIENTATION_DESC.TXT"
SPACECRAFT_POINTING_MODE = NADIR
^MEX_POINTING_DESC = "MEX_POINTING_DESC.TXT"
RIGHT_ASCENSION = -1e+32
DECLINATION = -1e+32
OFFSET_ANGLE = -1e+32
SPACECRAFT_SOLAR_DISTANCE = 2.43619e+08
TARGET_NAME = MARS
/* CAMERA DATA ELEMENTS */
BUFFER_MODE_ID = BUFFER_8
EXPOSURE_DURATION = 5.04
INST_CMPRS_NAME = NONE
INST_CMPRS_RATIO = 1.0
INST_CMPRS_QUALITY = -2147483648
INST_CMPRS_QUANTZ_TBL_ID = -2147483648
INSTRUMENT_TEMPERATURE = 8.18182
MISSING_FRAMES = 0
START_BIT = 0
/* RADIOMETRIC DATA ELEMENTS */
BANDWIDTH = 250.0
CENTER_FILTER_WAVELENGTH = 600.0
RADIANCE_OFFSET = -9.99e+31
RADIANCE_SCALING_FACTOR = -9.99e+31
REFLECTANCE_SCALING_FACTOR = -9.99e+31
MEX:REFLECTANCE_OFFSET = -9.99e+31
/* IMAGE OBJECT DEFINITIONS */
OBJECT = IMAGE
  INTERCHANGE_FORMAT = BINARY
  LINES = 1513
  LINE_SAMPLES = 1524
  SAMPLE_TYPE = UNSIGNED_INTEGER
  SAMPLE_BITS = 8
  BANDS = 1
  BAND_STORAGE_TYPE = BAND_SEQUENTIAL
  MAXIMUM = 4133
  MEAN = 3797.48
  MINIMUM = 3227
  STANDARD_DEVIATION = 71.2449
END_OBJECT = IMAGE
/* MAP OBJECT DEFINITIONS */
OBJECT = IMAGE_MAP_PROJECTION
  ^DATA_SET_MAP_PROJECTION_CATALOG= "DSMAP.CAT"
  A_AXIS_RADIUS = 3396.19
  B_AXIS_RADIUS = 3396.19
  C_AXIS_RADIUS = 3396.19
  CENTER_LATITUDE = 0.0
  CENTER_LONGITUDE = 80.0
  COORDINATE_SYSTEM_NAME = PLANETOGRAPHIC
  COORDINATE_SYSTEM_TYPE = "BODY-FIXED ROTATING"
  EASTERNMOST_LONGITUDE = 80.0812
  FIRST_STANDARD_PARALLEL = "N/A"
  LINE_FIRST_PIXEL = 1
  LINE_LAST_PIXEL = 1513
  LINE_PROJECTION_OFFSET = -1028754.0
  MAP_PROJECTION_ROTATION = 0.0
  MAP_PROJECTION_TYPE = SINUSOIDAL
  MAP_RESOLUTION = 23709.8786048756
  MAP_SCALE = 0.0025
  MAXIMUM_LATITUDE = -43.424
  MINIMUM_LATITUDE = -43.4845
  POSITIVE_LONGITUDE_DIRECTION = EAST
  REFERENCE_LATITUDE = "N/A"
  REFERENCE_LONGITUDE = "N/A"
  SAMPLE_FIRST_PIXEL = 1
  SAMPLE_LAST_PIXEL = 1524
  SAMPLE_PROJECTION_OFFSET = 114.0
  SECOND_STANDARD_PARALLEL = "N/A"
  WESTERNMOST_LONGITUDE = 79.99720000000001
END_OBJECT = IMAGE_MAP_PROJECTION
/* The JPEG2000 image data file associated with this label. */
OBJECT = COMPRESSED_FILE
  FILE_NAME = "H0389_0008_SR3.JP2"
  RECORD_TYPE = UNDEFINED
  FILE_RECORDS = UNK
  ENCODING_TYPE = "JP2"
  INTERCHANGE_FORMAT = BINARY
  UNCOMPRESSED_FILE_NAME = "H0389_0008_SR3.IMG"
  REQUIRED_STORAGE_BYTES = "2325624"
  ^DESCRIPTION = "JP2INFO.TXT"
END_OBJECT = COMPRESSED_FILE
END
