PDS_VERSION_ID = PDS3
/* FILE DATA ELEMENTS */
RECORD_TYPE = STREAM
/* POINTERS TO DATA OBJECTS */
^COMPRESSED_FILE = "H0394_0000_RE3.JP2"
/* IDENTIFICATION DATA ELEMENTS */
DATA_SET_ID = "MEX-M-HRSC-5-REFDR-MAPPROJECTED-V3.0"
DATA_SET_NAME = "MARS EXPRESS HRSC MAP PROJECTED REFDR V3.0"
DETECTOR_ID = MEX_HRSC_RED
EVENT_TYPE = "MARS-REGIONAL-MAPPING-Im-Fl-Mw"
INSTRUMENT_HOST_ID = MEX
INSTRUMENT_HOST_NAME = "MARS EXPRESS"
INSTRUMENT_ID = HRSC
INSTRUMENT_NAME = "HIGH RESOLUTION STEREO CAMERA"
MISSION_NAME = "MARS EXPRESS"
MISSION_PHASE_NAME = MC_Phase_6
PROCESSING_LEVEL_ID = 3
PRODUCT_CREATION_TIME = 2016-03-03T01:16:01.000Z
PRODUCT_ID = "H0394_0000_RE3.JP2"
RELEASE_ID = 0006
REVISION_ID = 0000
/* QUALITY DATA ELEMENTS */
DATA_QUALITY_ID = 1
DATA_QUALITY_DESC = "Data calculated based on original SPICE kernels"
/* TIME DATA ELEMENTS */
SPACECRAFT_CLOCK_START_COUNT = "1/0032492558.57140"
SPACECRAFT_CLOCK_STOP_COUNT = "1/0032493015.59342"
START_TIME = 2004-05-13T01:43:31.131Z
STOP_TIME = 2004-05-13T01:50:44.721Z
/* ORBITAL DATA ELEMENTS */
ASCENDING_NODE_LONGITUDE = 220.84
MAXIMUM_RESOLUTION = 44.6
FOOTPRINT_POINT_LATITUDE = (-63.8157,-63.8738,-63.3073,-62.8735, -62.4393,-61.7678,-61.3201,-60.8688, -60.421,-59.7396,-59.2767,-58.8231, -58.3632,-57.8887,-57.4122,-56.6995, -55.9671,-55.489,-54.7601,-54.2629, -53.5175,-53.0063,-52.2208,-51.6935, -51.1655,-50.6286,-50.0872,-49.5368, -48.9842,-48.1306,-47.548,-46.9785, -46.3708,-45.7891,-45.1986,-44.5752, -43.9642,-43.3331,-42.6785,-42.0217, -41.3739,-41.0385,-40.3802,-40.0396, -39.7065,-39.3763,-39.0427,-38.714, -38.3858,-37.7346,-37.0991,-37.0818, -37.074,-37.064,-37.3802,-38.0264, -38.6784,-39.3303,-39.6595,-39.99, -40.3296,-40.6615,-41.0009,-41.6673, -42.3131,-42.9515,-43.9025,-44.52, -45.4355,-46.0412,-46.6283,-47.5043, -48.3563,-48.9206,-49.4681,-50.0215, -50.5613,-51.0993,-51.6209,-52.1498, -52.928,-53.4408,-53.9403,-54.6952, -55.4271,-55.9151,-56.3872,-57.0971, -57.5735,-58.0451,-58.5072,-59.2047, -59.6558,-60.3306,-60.7822,-61.452, -61.9002,-62.5592,-63.2073,-63.8157)
FOOTPRINT_POINT_LONGITUDE = (304.9,306.127,306.577,306.667,306.753, 306.88,306.964,307.041,307.118,307.227, 307.3,307.376,307.444,307.505,307.571, 307.666,307.752,307.817,307.905,307.965 ,308.05,308.104,308.183,308.234,308.283 ,308.331,308.378,308.424,308.47,308.533 ,308.572,308.618,308.652,308.7,308.745, 308.781,308.825,308.864,308.895,308.929 ,308.971,308.99,309.031,309.045,309.061 ,309.078,309.093,309.11,309.125,309.157 ,309.193,308.507,308.0,307.434,307.092, 307.085,307.076,307.067,307.061,307.054 ,307.042,307.035,307.023,307.003, 306.986,306.967,306.927,306.902,306.857 ,306.822,306.79,306.734,306.679,306.638 ,306.599,306.552,306.506,306.458, 306.413,306.36,306.283,306.227,306.171, 306.078,305.983,305.917,305.858,305.752 ,305.676,305.598,305.517,305.387,305.31 ,305.176,305.077,304.931,304.827, 304.667,304.499,304.9)
ORBIT_NUMBER = 394
ORBITAL_ECCENTRICITY = 0.574
ORBITAL_INCLINATION = 86.56
ORBITAL_SEMIMAJOR_AXIS = 8550.09
PERIAPSIS_ALTITUDE = 265.78
PERIAPSIS_ARGUMENT_ANGLE = 292.72
PERIAPSIS_TIME = 2004-05-13T01:42:25.000Z
SPACECRAFT_ORIENTATION = (0.0,-1.0,0.0)
^MEX_ORIENTATION_DESC = "MEX_ORIENTATION_DESC.TXT"
SPACECRAFT_POINTING_MODE = NADIR
^MEX_POINTING_DESC = "MEX_POINTING_DESC.TXT"
RIGHT_ASCENSION = -1e+32
DECLINATION = -1e+32
OFFSET_ANGLE = -1e+32
SPACECRAFT_SOLAR_DISTANCE = 2.43791e+08
TARGET_NAME = MARS
/* CAMERA DATA ELEMENTS */
DETECTOR_TEMPERATURE = 18.3705
FOCAL_PLANE_TEMPERATURE = 8.3794
INST_CMPRS_NAME = "DISCRETE COSINE TRANSFORMATION (DCT)"
INST_CMPRS_RATIO = 28.8817
INST_CMPRS_QUALITY = 0
INST_CMPRS_QUANTZ_TBL_ID = 0
INSTRUMENT_TEMPERATURE = 9.6028
LENS_TEMPERATURE = 8.7872
MACROPIXEL_SIZE = 4
MISSING_FRAMES = 2
PIXEL_SUBSAMPLING_FLAG = N
SIGNAL_CHAIN_ID = 2
/* RADIOMETRIC DATA ELEMENTS */
BANDWIDTH = 48.0
CENTER_FILTER_WAVELENGTH = 748.0
RADIANCE_OFFSET = 0.136748
RADIANCE_SCALING_FACTOR = 0.00445515
REFLECTANCE_SCALING_FACTOR = 0.000604262
MEX:REFLECTANCE_OFFSET = 0.0185475
/* IMAGE OBJECT DEFINITIONS */
OBJECT = IMAGE
  INTERCHANGE_FORMAT = BINARY
  LINES = 31569
  LINE_SAMPLES = 3380
  SAMPLE_TYPE = UNSIGNED_INTEGER
  SAMPLE_BITS = 8
  BANDS = 1
  BAND_STORAGE_TYPE = BAND_SEQUENTIAL
  MAXIMUM = 133
  MEAN = 58.3733
  MINIMUM = 12
  STANDARD_DEVIATION = 20.2661
END_OBJECT = IMAGE
/* MAP OBJECT DEFINITIONS */
OBJECT = IMAGE_MAP_PROJECTION
  ^DATA_SET_MAP_PROJECTION_CATALOG= "DSMAP.CAT"
  A_AXIS_RADIUS = 3396.0
  B_AXIS_RADIUS = 3396.0
  C_AXIS_RADIUS = 3396.0
  CENTER_LATITUDE = 0.0
  CENTER_LONGITUDE = 307.0
  COORDINATE_SYSTEM_NAME = PLANETOGRAPHIC
  COORDINATE_SYSTEM_TYPE = "BODY-FIXED ROTATING"
  EASTERNMOST_LONGITUDE = 309.193
  FIRST_STANDARD_PARALLEL = "N/A"
  LINE_FIRST_PIXEL = 1
  LINE_LAST_PIXEL = 31569
  LINE_PROJECTION_OFFSET = -44338.375
  MAP_PROJECTION_ROTATION = 0.0
  MAP_PROJECTION_TYPE = SINUSOIDAL
  MAP_RESOLUTION = 1185.42760773333
  MAP_SCALE = 0.05
  MAXIMUM_LATITUDE = -37.064
  MINIMUM_LATITUDE = -63.8738
  POSITIVE_LONGITUDE_DIRECTION = EAST
  REFERENCE_LATITUDE = "N/A"
  REFERENCE_LONGITUDE = "N/A"
  SAMPLE_FIRST_PIXEL = 1
  SAMPLE_LAST_PIXEL = 3380
  SAMPLE_PROJECTION_OFFSET = 1374.375
  SECOND_STANDARD_PARALLEL = "N/A"
  WESTERNMOST_LONGITUDE = 304.499
END_OBJECT = IMAGE_MAP_PROJECTION
/* The JPEG2000 image data file associated with this label. */
OBJECT = COMPRESSED_FILE
  FILE_NAME = "H0394_0000_RE3.JP2"
  RECORD_TYPE = UNDEFINED
  FILE_RECORDS = UNK
  ENCODING_TYPE = "JP2"
  INTERCHANGE_FORMAT = BINARY
  UNCOMPRESSED_FILE_NAME = "H0394_0000_RE3.IMG"
  REQUIRED_STORAGE_BYTES = "106726880"
  ^DESCRIPTION = "JP2INFO.TXT"
END_OBJECT = COMPRESSED_FILE
END
