PDS_VERSION_ID = PDS3
/* FILE DATA ELEMENTS */
RECORD_TYPE = STREAM
/* POINTERS TO DATA OBJECTS */
^COMPRESSED_FILE = "H0394_0000_S23.JP2"
/* IDENTIFICATION DATA ELEMENTS */
DATA_SET_ID = "MEX-M-HRSC-5-REFDR-MAPPROJECTED-V3.0"
DATA_SET_NAME = "MARS EXPRESS HRSC MAP PROJECTED REFDR V3.0"
DETECTOR_ID = MEX_HRSC_S2
EVENT_TYPE = "MARS-REGIONAL-MAPPING-Im-Fl-Mw"
INSTRUMENT_HOST_ID = MEX
INSTRUMENT_HOST_NAME = "MARS EXPRESS"
INSTRUMENT_ID = HRSC
INSTRUMENT_NAME = "HIGH RESOLUTION STEREO CAMERA"
MISSION_NAME = "MARS EXPRESS"
MISSION_PHASE_NAME = MC_Phase_6
PROCESSING_LEVEL_ID = 3
PRODUCT_CREATION_TIME = 2016-03-03T01:16:01.000Z
PRODUCT_ID = "H0394_0000_S23.JP2"
RELEASE_ID = 0006
REVISION_ID = 0000
/* QUALITY DATA ELEMENTS */
DATA_QUALITY_ID = 1
DATA_QUALITY_DESC = "Data calculated based on original SPICE kernels"
/* TIME DATA ELEMENTS */
SPACECRAFT_CLOCK_START_COUNT = "1/0032492558.57140"
SPACECRAFT_CLOCK_STOP_COUNT = "1/0032493015.59342"
START_TIME = 2004-05-13T01:43:35.316Z
STOP_TIME = 2004-05-13T01:50:55.098Z
/* ORBITAL DATA ELEMENTS */
ASCENDING_NODE_LONGITUDE = 220.84
MAXIMUM_RESOLUTION = 22.8
FOOTPRINT_POINT_LATITUDE = (-63.8275,-63.7329,-63.2967,-62.8622, -62.4196,-61.7421,-61.0686,-60.6203, -60.1705,-59.7014,-59.2397,-58.788, -58.3282,-57.8351,-57.3628,-56.6526, -56.1571,-55.4342,-54.6943,-54.1954, -53.4475,-52.9381,-52.4227,-51.8955, -51.3699,-50.8305,-50.2919,-49.7404, -48.9003,-48.342,-47.7375,-47.1778, -46.5834,-45.6898,-45.0951,-44.4741, -43.862,-43.2258,-42.8904,-42.2323, -41.898,-41.255,-40.9187,-40.2713, -39.9338,-39.2807,-38.6292,-37.9838, -37.3617,-37.0058,-36.9904,-36.9799, -36.9729,-37.6066,-38.2448,-38.887, -39.5313,-40.1918,-40.5208,-40.8497, -41.1887,-41.5216,-42.1705,-43.1307, -43.7704,-44.3836,-45.0116,-45.6176, -46.5121,-47.1042,-47.6805,-48.2501, -48.8122,-49.6453,-50.2001,-50.7387, -51.5302,-52.0627,-52.5808,-53.0901, -53.602,-54.1026,-54.6072,-55.1066, -55.5949,-56.3166,-57.0271,-57.5042, -57.9806,-58.4499,-59.1491,-59.5973, -60.0589,-60.7367,-61.4074,-61.8556, -62.5275,-63.177,-63.6104,-63.8275)
FOOTPRINT_POINT_LONGITUDE = (305.662,306.497,306.59,306.68,306.767, 306.895,307.018,307.096,307.171,307.245 ,307.318,307.393,307.461,307.522, 307.589,307.684,307.743,307.837,307.926 ,307.983,308.07,308.125,308.177,308.229 ,308.279,308.328,308.376,308.423,308.49 ,308.537,308.57,308.62,308.66,308.724, 308.77,308.808,308.853,308.89,308.905, 308.94,308.956,309.002,309.018,309.059, 309.073,309.107,309.139,309.171,309.208 ,308.932,308.143,307.5,307.077,307.072, 307.065,307.056,307.047,307.03,307.022, 307.014,307.002,306.992,306.976,306.947 ,306.919,306.897,306.863,306.834, 306.785,306.748,306.712,306.677,306.637 ,306.574,306.528,306.481,306.415,306.36 ,306.31,306.258,306.203,306.145,306.082 ,306.019,305.954,305.859,305.757, 305.681,305.603,305.522,305.391,305.315 ,305.226,305.082,304.936,304.833,304.67 ,304.503,304.385,305.662)
ORBIT_NUMBER = 394
ORBITAL_ECCENTRICITY = 0.574
ORBITAL_INCLINATION = 86.56
ORBITAL_SEMIMAJOR_AXIS = 8550.09
PERIAPSIS_ALTITUDE = 265.78
PERIAPSIS_ARGUMENT_ANGLE = 292.72
PERIAPSIS_TIME = 2004-05-13T01:42:25.000Z
SPACECRAFT_ORIENTATION = (0.0,-1.0,0.0)
^MEX_ORIENTATION_DESC = "MEX_ORIENTATION_DESC.TXT"
SPACECRAFT_POINTING_MODE = NADIR
^MEX_POINTING_DESC = "MEX_POINTING_DESC.TXT"
RIGHT_ASCENSION = -1e+32
DECLINATION = -1e+32
OFFSET_ANGLE = -1e+32
SPACECRAFT_SOLAR_DISTANCE = 2.43791e+08
TARGET_NAME = MARS
/* CAMERA DATA ELEMENTS */
DETECTOR_TEMPERATURE = 18.3705
FOCAL_PLANE_TEMPERATURE = 8.3794
INST_CMPRS_NAME = "DISCRETE COSINE TRANSFORMATION (DCT)"
INST_CMPRS_RATIO = 15.6913
INST_CMPRS_QUALITY = 0
INST_CMPRS_QUANTZ_TBL_ID = 0
INSTRUMENT_TEMPERATURE = 9.6028
LENS_TEMPERATURE = 8.7872
MACROPIXEL_SIZE = 2
MISSING_FRAMES = 0
PIXEL_SUBSAMPLING_FLAG = N
SIGNAL_CHAIN_ID = 1
/* RADIOMETRIC DATA ELEMENTS */
BANDWIDTH = 178.0
CENTER_FILTER_WAVELENGTH = 679.0
RADIANCE_OFFSET = 0.602091
RADIANCE_SCALING_FACTOR = 0.016528
REFLECTANCE_SCALING_FACTOR = 0.000520216
MEX:REFLECTANCE_OFFSET = 0.0189507
/* IMAGE OBJECT DEFINITIONS */
OBJECT = IMAGE
  INTERCHANGE_FORMAT = BINARY
  LINES = 63137
  LINE_SAMPLES = 6760
  SAMPLE_TYPE = UNSIGNED_INTEGER
  SAMPLE_BITS = 8
  BANDS = 1
  BAND_STORAGE_TYPE = BAND_SEQUENTIAL
  MAXIMUM = 136
  MEAN = 65.1309
  MINIMUM = 13
  STANDARD_DEVIATION = 22.1488
END_OBJECT = IMAGE
/* MAP OBJECT DEFINITIONS */
OBJECT = IMAGE_MAP_PROJECTION
  ^DATA_SET_MAP_PROJECTION_CATALOG= "DSMAP.CAT"
  A_AXIS_RADIUS = 3396.0
  B_AXIS_RADIUS = 3396.0
  C_AXIS_RADIUS = 3396.0
  CENTER_LATITUDE = 0.0
  CENTER_LONGITUDE = 307.0
  COORDINATE_SYSTEM_NAME = PLANETOGRAPHIC
  COORDINATE_SYSTEM_TYPE = "BODY-FIXED ROTATING"
  EASTERNMOST_LONGITUDE = 309.208
  FIRST_STANDARD_PARALLEL = "N/A"
  LINE_FIRST_PIXEL = 1
  LINE_LAST_PIXEL = 63137
  LINE_PROJECTION_OFFSET = -88676.25
  MAP_PROJECTION_ROTATION = 0.0
  MAP_PROJECTION_TYPE = SINUSOIDAL
  MAP_RESOLUTION = 2370.85521546667
  MAP_SCALE = 0.025
  MAXIMUM_LATITUDE = -36.9729
  MINIMUM_LATITUDE = -63.8275
  POSITIVE_LONGITUDE_DIRECTION = EAST
  REFERENCE_LATITUDE = "N/A"
  REFERENCE_LONGITUDE = "N/A"
  SAMPLE_FIRST_PIXEL = 1
  SAMPLE_LAST_PIXEL = 6760
  SAMPLE_PROJECTION_OFFSET = 2749.25
  SECOND_STANDARD_PARALLEL = "N/A"
  WESTERNMOST_LONGITUDE = 304.385
END_OBJECT = IMAGE_MAP_PROJECTION
/* The JPEG2000 image data file associated with this label. */
OBJECT = COMPRESSED_FILE
  FILE_NAME = "H0394_0000_S23.JP2"
  RECORD_TYPE = UNDEFINED
  FILE_RECORDS = UNK
  ENCODING_TYPE = "JP2"
  INTERCHANGE_FORMAT = BINARY
  UNCOMPRESSED_FILE_NAME = "H0394_0000_S23.IMG"
  REQUIRED_STORAGE_BYTES = "426839920"
  ^DESCRIPTION = "JP2INFO.TXT"
END_OBJECT = COMPRESSED_FILE
END
