PDS_VERSION_ID = PDS3
/* FILE DATA ELEMENTS */
RECORD_TYPE = STREAM
/* POINTERS TO DATA OBJECTS */
^COMPRESSED_FILE = "H0397_0000_S23.JP2"
/* IDENTIFICATION DATA ELEMENTS */
DATA_SET_ID = "MEX-M-HRSC-5-REFDR-MAPPROJECTED-V3.0"
DATA_SET_NAME = "MARS EXPRESS HRSC MAP PROJECTED REFDR V3.0"
DETECTOR_ID = MEX_HRSC_S2
EVENT_TYPE = "MARS-LOCAL-STEREO-Im-Fl-Eo"
INSTRUMENT_HOST_ID = MEX
INSTRUMENT_HOST_NAME = "MARS EXPRESS"
INSTRUMENT_ID = HRSC
INSTRUMENT_NAME = "HIGH RESOLUTION STEREO CAMERA"
MISSION_NAME = "MARS EXPRESS"
MISSION_PHASE_NAME = MC_Phase_6
PROCESSING_LEVEL_ID = 3
PRODUCT_CREATION_TIME = 2016-03-03T01:16:01.000Z
PRODUCT_ID = "H0397_0000_S23.JP2"
RELEASE_ID = 0006
REVISION_ID = 0000
/* QUALITY DATA ELEMENTS */
DATA_QUALITY_ID = 1
DATA_QUALITY_DESC = "Data calculated based on original SPICE kernels"
/* TIME DATA ELEMENTS */
SPACECRAFT_CLOCK_START_COUNT = "1/0032565367.56192"
SPACECRAFT_CLOCK_STOP_COUNT = "1/0032565996.23925"
START_TIME = 2004-05-13T21:57:12.310Z
STOP_TIME = 2004-05-13T22:07:04.579Z
/* ORBITAL DATA ELEMENTS */
ASCENDING_NODE_LONGITUDE = 220.78
MAXIMUM_RESOLUTION = 26.4
FOOTPRINT_POINT_LATITUDE = (-53.8131,-53.4119,-52.9121,-52.416, -51.9062,-51.1425,-50.6171,-50.0946, -49.562,-49.0305,-48.4881,-47.9439, -47.3867,-46.8273,-46.2621,-45.6834, -45.1029,-44.5125,-43.9108,-43.3039, -42.6909,-42.0659,-41.4302,-40.7875, -40.1348,-39.4731,-38.8001,-38.116, -37.4222,-36.7145,-35.9955,-35.2661, -34.5204,-33.38,-32.6125,-31.8551, -31.1055,-30.3647,-29.6293,-28.9017, -28.1828,-27.4716,-26.7683,-26.0773, -25.3904,-24.3712,-23.7037,-23.0567, -22.4015,-22.035,-22.0457,-22.0612, -22.0649,-22.7146,-23.3655,-24.3618, -25.0268,-25.7032,-26.3903,-27.0866, -27.7886,-28.4987,-29.2236,-29.9395, -30.6762,-31.4183,-32.1698,-32.9253, -33.6928,-34.4465,-35.1901,-35.923, -36.6404,-37.3447,-38.0397,-38.7231, -39.3917,-40.3955,-41.3545,-41.9848, -42.6059,-43.2187,-43.824,-44.423, -45.0147,-45.5948,-46.1707,-46.7349, -47.2949,-47.8504,-48.3932,-48.9359, -49.4793,-50.0113,-50.7818,-51.3, -51.8073,-52.8125,-53.8056,-53.8131)
FOOTPRINT_POINT_LONGITUDE = (12.0361,12.912,12.9632,13.0136,13.0639 ,13.1364,13.1832,13.229,13.2748,13.3202 ,13.3648,13.4082,13.4511,13.4928, 13.5356,13.5752,13.6151,13.6551,13.693, 13.7309,13.7691,13.8061,13.8425,13.8791 ,13.915,13.951,13.9864,14.0212,14.0566, 14.0912,14.1255,14.1599,14.1937,14.2448 ,14.2769,14.3088,14.3398,14.3703, 14.3993,14.4275,14.4555,14.4827,14.5096 ,14.5374,14.5636,14.6008,14.626,14.6553 ,14.6789,14.0582,13.3074,12.7658, 12.0136,11.6109,11.6402,11.68,11.708, 11.7336,11.7568,11.7782,11.7988,11.8179 ,11.8329,11.8522,11.8652,11.8773, 11.8868,11.8958,11.9011,11.9056,11.9073 ,11.9053,11.9027,11.8988,11.8921, 11.8831,11.874,11.8479,11.828,11.8116, 11.7928,11.772,11.7492,11.7244,11.6974, 11.6698,11.64,11.6106,11.5773,11.5435, 11.5081,11.4705,11.4249,11.3835,11.3245 ,11.2776,11.231,11.1309,11.0211, 12.0361)
ORBIT_NUMBER = 397
ORBITAL_ECCENTRICITY = 0.573
ORBITAL_INCLINATION = 86.56
ORBITAL_SEMIMAJOR_AXIS = 8543.6
PERIAPSIS_ALTITUDE = 265.38
PERIAPSIS_ARGUMENT_ANGLE = 292.2
PERIAPSIS_TIME = 2004-05-13T21:53:19.000Z
SPACECRAFT_ORIENTATION = (0.0,-1.0,0.0)
^MEX_ORIENTATION_DESC = "MEX_ORIENTATION_DESC.TXT"
SPACECRAFT_POINTING_MODE = NADIR
^MEX_POINTING_DESC = "MEX_POINTING_DESC.TXT"
RIGHT_ASCENSION = -1e+32
DECLINATION = -1e+32
OFFSET_ANGLE = -1e+32
SPACECRAFT_SOLAR_DISTANCE = 2.43893e+08
TARGET_NAME = MARS
/* CAMERA DATA ELEMENTS */
DETECTOR_TEMPERATURE = 17.7588
FOCAL_PLANE_TEMPERATURE = 8.3794
INST_CMPRS_NAME = "DISCRETE COSINE TRANSFORMATION (DCT)"
INST_CMPRS_RATIO = 11.7894
INST_CMPRS_QUALITY = 0
INST_CMPRS_QUANTZ_TBL_ID = 0
INSTRUMENT_TEMPERATURE = 11.234
LENS_TEMPERATURE = 8.7872
MACROPIXEL_SIZE = 2
MISSING_FRAMES = 0
PIXEL_SUBSAMPLING_FLAG = N
SIGNAL_CHAIN_ID = 1
/* RADIOMETRIC DATA ELEMENTS */
BANDWIDTH = 178.0
CENTER_FILTER_WAVELENGTH = 679.0
RADIANCE_OFFSET = 1.48239
RADIANCE_SCALING_FACTOR = 0.0236166
REFLECTANCE_SCALING_FACTOR = 0.000743952
MEX:REFLECTANCE_OFFSET = 0.0466973
/* IMAGE OBJECT DEFINITIONS */
OBJECT = IMAGE
  INTERCHANGE_FORMAT = BINARY
  LINES = 75015
  LINE_SAMPLES = 5965
  SAMPLE_TYPE = UNSIGNED_INTEGER
  SAMPLE_BITS = 8
  BANDS = 1
  BAND_STORAGE_TYPE = BAND_SEQUENTIAL
  MAXIMUM = 175
  MEAN = 72.1455
  MINIMUM = 29
  STANDARD_DEVIATION = 18.2017
END_OBJECT = IMAGE
/* MAP OBJECT DEFINITIONS */
OBJECT = IMAGE_MAP_PROJECTION
  ^DATA_SET_MAP_PROJECTION_CATALOG= "DSMAP.CAT"
  A_AXIS_RADIUS = 3396.0
  B_AXIS_RADIUS = 3396.0
  C_AXIS_RADIUS = 3396.0
  CENTER_LATITUDE = 0.0
  CENTER_LONGITUDE = 13.0
  COORDINATE_SYSTEM_NAME = PLANETOGRAPHIC
  COORDINATE_SYSTEM_TYPE = "BODY-FIXED ROTATING"
  EASTERNMOST_LONGITUDE = 14.6789
  FIRST_STANDARD_PARALLEL = "N/A"
  LINE_FIRST_PIXEL = 1
  LINE_LAST_PIXEL = 75015
  LINE_PROJECTION_OFFSET = -53077.25
  MAP_PROJECTION_ROTATION = 0.0
  MAP_PROJECTION_TYPE = SINUSOIDAL
  MAP_RESOLUTION = 2370.85521546667
  MAP_SCALE = 0.025
  MAXIMUM_LATITUDE = -22.035
  MINIMUM_LATITUDE = -53.8131
  POSITIVE_LONGITUDE_DIRECTION = EAST
  REFERENCE_LATITUDE = "N/A"
  REFERENCE_LONGITUDE = "N/A"
  SAMPLE_FIRST_PIXEL = 1
  SAMPLE_LAST_PIXEL = 5965
  SAMPLE_PROJECTION_OFFSET = 2736.25
  SECOND_STANDARD_PARALLEL = "N/A"
  WESTERNMOST_LONGITUDE = 11.0211
END_OBJECT = IMAGE_MAP_PROJECTION
/* The JPEG2000 image data file associated with this label. */
OBJECT = COMPRESSED_FILE
  FILE_NAME = "H0397_0000_S23.JP2"
  RECORD_TYPE = UNDEFINED
  FILE_RECORDS = UNK
  ENCODING_TYPE = "JP2"
  INTERCHANGE_FORMAT = BINARY
  UNCOMPRESSED_FILE_NAME = "H0397_0000_S23.IMG"
  REQUIRED_STORAGE_BYTES = "447494300"
  ^DESCRIPTION = "JP2INFO.TXT"
END_OBJECT = COMPRESSED_FILE
END
