PDS_VERSION_ID = PDS3
/* FILE DATA ELEMENTS */
RECORD_TYPE = STREAM
/* POINTERS TO DATA OBJECTS */
^COMPRESSED_FILE = "H0405_0000_BL3.JP2"
/* IDENTIFICATION DATA ELEMENTS */
DATA_SET_ID = "MEX-M-HRSC-5-REFDR-MAPPROJECTED-V3.0"
DATA_SET_NAME = "MARS EXPRESS HRSC MAP PROJECTED REFDR V3.0"
DETECTOR_ID = MEX_HRSC_BLUE
EVENT_TYPE = "MARS-REGIONAL-STEREO-Fl-Gl-Mw"
INSTRUMENT_HOST_ID = MEX
INSTRUMENT_HOST_NAME = "MARS EXPRESS"
INSTRUMENT_ID = HRSC
INSTRUMENT_NAME = "HIGH RESOLUTION STEREO CAMERA"
MISSION_NAME = "MARS EXPRESS"
MISSION_PHASE_NAME = MC_Phase_6
PROCESSING_LEVEL_ID = 3
PRODUCT_CREATION_TIME = 2016-03-03T04:31:40.000Z
PRODUCT_ID = "H0405_0000_BL3.JP2"
RELEASE_ID = 0007
REVISION_ID = 0000
/* QUALITY DATA ELEMENTS */
DATA_QUALITY_ID = 1
DATA_QUALITY_DESC = "Data calculated based on original SPICE kernels"
/* TIME DATA ELEMENTS */
SPACECRAFT_CLOCK_START_COUNT = "1/0032758886.57148"
SPACECRAFT_CLOCK_STOP_COUNT = "1/0032759367.01616"
START_TIME = 2004-05-16T03:42:03.750Z
STOP_TIME = 2004-05-16T03:52:07.939Z
/* ORBITAL DATA ELEMENTS */
ASCENDING_NODE_LONGITUDE = 220.61
MAXIMUM_RESOLUTION = 44.9
FOOTPRINT_POINT_LATITUDE = (-59.0921,-58.2663,-57.713,-57.161, -56.6131,-55.7611,-55.1916,-54.6236, -54.0362,-53.4516,-52.5646,-51.9611, -51.3589,-50.7377,-50.1171,-49.4831, -48.8332,-47.8412,-47.1783,-46.4817, -45.7941,-45.1039,-44.4029,-43.6851, -42.9559,-42.2181,-41.468,-40.6994, -39.9187,-39.1236,-38.3095,-37.4815, -36.6358,-35.773,-34.8907,-33.9877, -33.0823,-32.1841,-31.2929,-30.4093, -29.5327,-28.6632,-27.8017,-26.9476, -26.1007,-25.2611,-24.4287,-23.6044, -23.1101,-23.118,-23.1203,-23.121, -23.9371,-24.7608,-25.5923,-26.4315, -27.2779,-28.1318,-28.9933,-29.8622, -30.7384,-31.6221,-32.5123,-33.4114, -33.8634,-34.7644,-35.648,-36.5104, -37.3555,-38.1835,-38.9953,-39.7923, -40.5732,-41.3404,-42.092,-42.8316, -43.5589,-44.2762,-44.9768,-46.012, -46.6883,-47.7143,-48.3801,-49.0225, -49.9874,-50.6057,-51.2272,-51.8266, -52.4335,-53.0276,-53.6114,-54.1975, -55.0581,-55.9103,-56.4789,-57.028, -57.5766,-58.1268,-58.9503,-59.0921)
FOOTPRINT_POINT_LONGITUDE = (306.059,306.166,306.236,306.306, 306.383,306.486,306.549,306.611,306.667 ,306.732,306.818,306.875,306.929, 306.981,307.029,307.078,307.128,307.197 ,307.239,307.29,307.325,307.37,307.415, 307.454,307.489,307.531,307.575,307.607 ,307.644,307.683,307.715,307.752, 307.786,307.82,307.855,307.887,307.919, 307.949,307.978,308.006,308.033,308.058 ,308.083,308.107,308.13,308.151,308.171 ,308.192,307.846,306.848,306.03,305.459 ,305.489,305.518,305.544,305.569, 305.592,305.613,305.632,305.649,305.664 ,305.676,305.687,305.693,305.695, 305.699,305.699,305.696,305.69,305.682, 305.672,305.657,305.641,305.622,305.603 ,305.58,305.556,305.528,305.499,305.449 ,305.414,305.355,305.315,305.271, 305.203,305.156,305.102,305.057,304.991 ,304.936,304.878,304.813,304.712, 304.605,304.529,304.452,304.374,304.29, 304.153,306.059)
ORBIT_NUMBER = 405
ORBITAL_ECCENTRICITY = 0.573
ORBITAL_INCLINATION = 86.56
ORBITAL_SEMIMAJOR_AXIS = 8540.41
PERIAPSIS_ALTITUDE = 265.52
PERIAPSIS_ARGUMENT_ANGLE = 290.83
PERIAPSIS_TIME = 2004-05-16T03:39:35.000Z
SPACECRAFT_ORIENTATION = (0.0,-1.0,0.0)
^MEX_ORIENTATION_DESC = "MEX_ORIENTATION_DESC.TXT"
SPACECRAFT_POINTING_MODE = ACROSSTRACK
^MEX_POINTING_DESC = "MEX_POINTING_DESC.TXT"
RIGHT_ASCENSION = -1e+32
DECLINATION = -1e+32
OFFSET_ANGLE = -0.14
SPACECRAFT_SOLAR_DISTANCE = 2.4416e+08
TARGET_NAME = MARS
/* CAMERA DATA ELEMENTS */
DETECTOR_TEMPERATURE = 16.9432
FOCAL_PLANE_TEMPERATURE = 7.7677
INST_CMPRS_NAME = "DISCRETE COSINE TRANSFORMATION (DCT)"
INST_CMPRS_RATIO = 10.948
INST_CMPRS_QUALITY = 0
INST_CMPRS_QUANTZ_TBL_ID = 0
INSTRUMENT_TEMPERATURE = 11.0301
LENS_TEMPERATURE = 8.1755
MACROPIXEL_SIZE = 4
MISSING_FRAMES = 8
PIXEL_SUBSAMPLING_FLAG = N
SIGNAL_CHAIN_ID = 2
/* RADIOMETRIC DATA ELEMENTS */
BANDWIDTH = 76.0
CENTER_FILTER_WAVELENGTH = 444.0
RADIANCE_OFFSET = 0.24687
RADIANCE_SCALING_FACTOR = 0.00220516
REFLECTANCE_SCALING_FACTOR = 0.000135066
MEX:REFLECTANCE_OFFSET = 0.0151208
/* IMAGE OBJECT DEFINITIONS */
OBJECT = IMAGE
  INTERCHANGE_FORMAT = BINARY
  LINES = 42981
  LINE_SAMPLES = 3570
  SAMPLE_TYPE = UNSIGNED_INTEGER
  SAMPLE_BITS = 8
  BANDS = 1
  BAND_STORAGE_TYPE = BAND_SEQUENTIAL
  MAXIMUM = 198
  MEAN = 86.0845
  MINIMUM = 32
  STANDARD_DEVIATION = 15.2803
END_OBJECT = IMAGE
/* MAP OBJECT DEFINITIONS */
OBJECT = IMAGE_MAP_PROJECTION
  ^DATA_SET_MAP_PROJECTION_CATALOG= "DSMAP.CAT"
  A_AXIS_RADIUS = 3396.0
  B_AXIS_RADIUS = 3396.0
  C_AXIS_RADIUS = 3396.0
  CENTER_LATITUDE = 0.0
  CENTER_LONGITUDE = 306.0
  COORDINATE_SYSTEM_NAME = PLANETOGRAPHIC
  COORDINATE_SYSTEM_TYPE = "BODY-FIXED ROTATING"
  EASTERNMOST_LONGITUDE = 308.192
  FIRST_STANDARD_PARALLEL = "N/A"
  LINE_FIRST_PIXEL = 1
  LINE_LAST_PIXEL = 42981
  LINE_PROJECTION_OFFSET = -27391.125
  MAP_PROJECTION_ROTATION = 0.0
  MAP_PROJECTION_TYPE = SINUSOIDAL
  MAP_RESOLUTION = 1185.42760773333
  MAP_SCALE = 0.05
  MAXIMUM_LATITUDE = -23.1101
  MINIMUM_LATITUDE = -59.0921
  POSITIVE_LONGITUDE_DIRECTION = EAST
  REFERENCE_LATITUDE = "N/A"
  REFERENCE_LONGITUDE = "N/A"
  SAMPLE_FIRST_PIXEL = 1
  SAMPLE_LAST_PIXEL = 3570
  SAMPLE_PROJECTION_OFFSET = 1142.125
  SECOND_STANDARD_PARALLEL = "N/A"
  WESTERNMOST_LONGITUDE = 304.153
END_OBJECT = IMAGE_MAP_PROJECTION
/* The JPEG2000 image data file associated with this label. */
OBJECT = COMPRESSED_FILE
  FILE_NAME = "H0405_0000_BL3.JP2"
  RECORD_TYPE = UNDEFINED
  FILE_RECORDS = UNK
  ENCODING_TYPE = "JP2"
  INTERCHANGE_FORMAT = BINARY
  UNCOMPRESSED_FILE_NAME = "H0405_0000_BL3.IMG"
  REQUIRED_STORAGE_BYTES = "153463590"
  ^DESCRIPTION = "JP2INFO.TXT"
END_OBJECT = COMPRESSED_FILE
END
