PDS_VERSION_ID = PDS3
/* FILE DATA ELEMENTS */
RECORD_TYPE = STREAM
/* POINTERS TO DATA OBJECTS */
^COMPRESSED_FILE = "H0405_0000_IR3.JP2"
/* IDENTIFICATION DATA ELEMENTS */
DATA_SET_ID = "MEX-M-HRSC-5-REFDR-MAPPROJECTED-V3.0"
DATA_SET_NAME = "MARS EXPRESS HRSC MAP PROJECTED REFDR V3.0"
DETECTOR_ID = MEX_HRSC_IR
EVENT_TYPE = "MARS-REGIONAL-STEREO-Fl-Gl-Mw"
INSTRUMENT_HOST_ID = MEX
INSTRUMENT_HOST_NAME = "MARS EXPRESS"
INSTRUMENT_ID = HRSC
INSTRUMENT_NAME = "HIGH RESOLUTION STEREO CAMERA"
MISSION_NAME = "MARS EXPRESS"
MISSION_PHASE_NAME = MC_Phase_6
PROCESSING_LEVEL_ID = 3
PRODUCT_CREATION_TIME = 2016-03-03T04:31:40.000Z
PRODUCT_ID = "H0405_0000_IR3.JP2"
RELEASE_ID = 0007
REVISION_ID = 0000
/* QUALITY DATA ELEMENTS */
DATA_QUALITY_ID = 1
DATA_QUALITY_DESC = "Data calculated based on original SPICE kernels"
/* TIME DATA ELEMENTS */
SPACECRAFT_CLOCK_START_COUNT = "1/0032758886.57148"
SPACECRAFT_CLOCK_STOP_COUNT = "1/0032759367.01616"
START_TIME = 2004-05-16T03:41:39.428Z
STOP_TIME = 2004-05-16T03:50:57.023Z
/* ORBITAL DATA ELEMENTS */
ASCENDING_NODE_LONGITUDE = 220.61
MAXIMUM_RESOLUTION = 45.8
FOOTPRINT_POINT_LATITUDE = (-59.4079,-59.0914,-58.5684,-58.042, -57.5186,-56.9702,-56.4127,-55.8616, -55.0363,-54.4834,-53.9078,-53.3303, -52.7613,-52.1647,-51.573,-50.9832, -50.3753,-49.4641,-48.8337,-48.2097, -47.5691,-46.9101,-45.9192,-45.2338, -44.5139,-43.8202,-43.1241,-42.398, -41.6566,-40.9155,-39.7748,-38.9953, -38.2015,-37.3874,-36.5577,-35.7096, -34.84,-33.9545,-33.0483,-32.1222, -31.1712,-30.2084,-29.2517,-28.3002, -27.3517,-26.4088,-25.4734,-24.5431, -23.6167,-23.0717,-23.0801,-23.0816, -23.0784,-23.9981,-24.9225,-25.8522, -26.7868,-27.7293,-28.6759,-30.1061, -31.0639,-32.0217,-32.9466,-33.8515, -34.7395,-35.6059,-36.4539,-37.2827, -38.0953,-39.2865,-40.0595,-40.8136, -41.5565,-42.6477,-43.7213,-44.4115, -45.1256,-45.7943,-46.4841,-47.1404, -47.7824,-48.4174,-49.0434,-49.6622, -50.2716,-50.8807,-51.4725,-52.3503, -52.9378,-53.5073,-54.3607,-54.925, -55.747,-56.2955,-56.8446,-57.6595, -58.1879,-58.7128,-59.2457,-59.4079)
FOOTPRINT_POINT_LONGITUDE = (305.34,306.052,306.119,306.186,306.248 ,306.323,306.396,306.46,306.551,306.601 ,306.663,306.725,306.777,306.835, 306.888,306.937,306.984,307.052,307.1, 307.141,307.184,307.225,307.286,307.326 ,307.37,307.407,307.439,307.478,307.52, 307.553,307.601,307.634,307.665,307.697 ,307.728,307.759,307.79,307.819,307.847 ,307.874,307.901,307.927,307.952, 307.974,307.997,308.018,308.037,308.056 ,308.073,307.9,307.024,306.403,305.615, 305.642,305.667,305.69,305.711,305.73, 305.746,305.767,305.776,305.785,305.789 ,305.79,305.79,305.786,305.78,305.771, 305.76,305.741,305.723,305.704,305.683, 305.647,305.611,305.58,305.548,305.514, 305.481,305.441,305.4,305.36,305.316, 305.271,305.224,305.174,305.123,305.039 ,304.983,304.924,304.829,304.762, 304.658,304.585,304.508,304.391,304.307 ,304.219,304.129,305.34)
ORBIT_NUMBER = 405
ORBITAL_ECCENTRICITY = 0.573
ORBITAL_INCLINATION = 86.56
ORBITAL_SEMIMAJOR_AXIS = 8540.41
PERIAPSIS_ALTITUDE = 265.52
PERIAPSIS_ARGUMENT_ANGLE = 290.83
PERIAPSIS_TIME = 2004-05-16T03:39:35.000Z
SPACECRAFT_ORIENTATION = (0.0,-1.0,0.0)
^MEX_ORIENTATION_DESC = "MEX_ORIENTATION_DESC.TXT"
SPACECRAFT_POINTING_MODE = ACROSSTRACK
^MEX_POINTING_DESC = "MEX_POINTING_DESC.TXT"
RIGHT_ASCENSION = -1e+32
DECLINATION = -1e+32
OFFSET_ANGLE = -0.14
SPACECRAFT_SOLAR_DISTANCE = 2.4416e+08
TARGET_NAME = MARS
/* CAMERA DATA ELEMENTS */
DETECTOR_TEMPERATURE = 18.1666
FOCAL_PLANE_TEMPERATURE = 7.7677
INST_CMPRS_NAME = "DISCRETE COSINE TRANSFORMATION (DCT)"
INST_CMPRS_RATIO = 12.718
INST_CMPRS_QUALITY = 0
INST_CMPRS_QUANTZ_TBL_ID = 0
INSTRUMENT_TEMPERATURE = 11.0301
LENS_TEMPERATURE = 8.1755
MACROPIXEL_SIZE = 4
MISSING_FRAMES = 8
PIXEL_SUBSAMPLING_FLAG = N
SIGNAL_CHAIN_ID = 2
/* RADIOMETRIC DATA ELEMENTS */
BANDWIDTH = 81.0
CENTER_FILTER_WAVELENGTH = 955.5
RADIANCE_OFFSET = 0.167525
RADIANCE_SCALING_FACTOR = 0.00328479
REFLECTANCE_SCALING_FACTOR = 0.000422462
MEX:REFLECTANCE_OFFSET = 0.0215455
/* IMAGE OBJECT DEFINITIONS */
OBJECT = IMAGE
  INTERCHANGE_FORMAT = BINARY
  LINES = 42981
  LINE_SAMPLES = 3570
  SAMPLE_TYPE = UNSIGNED_INTEGER
  SAMPLE_BITS = 8
  BANDS = 1
  BAND_STORAGE_TYPE = BAND_SEQUENTIAL
  MAXIMUM = 112
  MEAN = 45.4956
  MINIMUM = 11
  STANDARD_DEVIATION = 9.22142
END_OBJECT = IMAGE
/* MAP OBJECT DEFINITIONS */
OBJECT = IMAGE_MAP_PROJECTION
  ^DATA_SET_MAP_PROJECTION_CATALOG= "DSMAP.CAT"
  A_AXIS_RADIUS = 3396.0
  B_AXIS_RADIUS = 3396.0
  C_AXIS_RADIUS = 3396.0
  CENTER_LATITUDE = 0.0
  CENTER_LONGITUDE = 306.0
  COORDINATE_SYSTEM_NAME = PLANETOGRAPHIC
  COORDINATE_SYSTEM_TYPE = "BODY-FIXED ROTATING"
  EASTERNMOST_LONGITUDE = 308.073
  FIRST_STANDARD_PARALLEL = "N/A"
  LINE_FIRST_PIXEL = 1
  LINE_LAST_PIXEL = 42981
  LINE_PROJECTION_OFFSET = -27391.125
  MAP_PROJECTION_ROTATION = 0.0
  MAP_PROJECTION_TYPE = SINUSOIDAL
  MAP_RESOLUTION = 1185.42760773333
  MAP_SCALE = 0.05
  MAXIMUM_LATITUDE = -23.0717
  MINIMUM_LATITUDE = -59.4079
  POSITIVE_LONGITUDE_DIRECTION = EAST
  REFERENCE_LATITUDE = "N/A"
  REFERENCE_LONGITUDE = "N/A"
  SAMPLE_FIRST_PIXEL = 1
  SAMPLE_LAST_PIXEL = 3570
  SAMPLE_PROJECTION_OFFSET = 1142.125
  SECOND_STANDARD_PARALLEL = "N/A"
  WESTERNMOST_LONGITUDE = 304.129
END_OBJECT = IMAGE_MAP_PROJECTION
/* The JPEG2000 image data file associated with this label. */
OBJECT = COMPRESSED_FILE
  FILE_NAME = "H0405_0000_IR3.JP2"
  RECORD_TYPE = UNDEFINED
  FILE_RECORDS = UNK
  ENCODING_TYPE = "JP2"
  INTERCHANGE_FORMAT = BINARY
  UNCOMPRESSED_FILE_NAME = "H0405_0000_IR3.IMG"
  REQUIRED_STORAGE_BYTES = "153463590"
  ^DESCRIPTION = "JP2INFO.TXT"
END_OBJECT = COMPRESSED_FILE
END
