PDS_VERSION_ID = PDS3
/* FILE DATA ELEMENTS */
RECORD_TYPE = STREAM
/* POINTERS TO DATA OBJECTS */
^COMPRESSED_FILE = "H0405_0000_P13.JP2"
/* IDENTIFICATION DATA ELEMENTS */
DATA_SET_ID = "MEX-M-HRSC-5-REFDR-MAPPROJECTED-V3.0"
DATA_SET_NAME = "MARS EXPRESS HRSC MAP PROJECTED REFDR V3.0"
DETECTOR_ID = MEX_HRSC_P1
EVENT_TYPE = "MARS-REGIONAL-STEREO-Fl-Gl-Mw"
INSTRUMENT_HOST_ID = MEX
INSTRUMENT_HOST_NAME = "MARS EXPRESS"
INSTRUMENT_ID = HRSC
INSTRUMENT_NAME = "HIGH RESOLUTION STEREO CAMERA"
MISSION_NAME = "MARS EXPRESS"
MISSION_PHASE_NAME = MC_Phase_6
PROCESSING_LEVEL_ID = 3
PRODUCT_CREATION_TIME = 2016-03-03T04:31:40.000Z
PRODUCT_ID = "H0405_0000_P13.JP2"
RELEASE_ID = 0007
REVISION_ID = 0000
/* QUALITY DATA ELEMENTS */
DATA_QUALITY_ID = 1
DATA_QUALITY_DESC = "Data calculated based on original SPICE kernels"
/* TIME DATA ELEMENTS */
SPACECRAFT_CLOCK_START_COUNT = "1/0032758886.57148"
SPACECRAFT_CLOCK_STOP_COUNT = "1/0032759367.01616"
START_TIME = 2004-05-16T03:41:43.439Z
STOP_TIME = 2004-05-16T03:51:07.894Z
/* ORBITAL DATA ELEMENTS */
ASCENDING_NODE_LONGITUDE = 220.61
MAXIMUM_RESOLUTION = 45.2
FOOTPRINT_POINT_LATITUDE = (-59.3643,-59.4071,-58.5745,-58.0479, -57.5226,-56.9674,-56.4116,-55.862, -55.0358,-54.4742,-53.9014,-53.0406, -52.4509,-51.5655,-50.9666,-50.3608, -49.7549,-48.8153,-47.8659,-47.2274, -46.5631,-45.9058,-45.2295,-44.1934, -43.4984,-42.785,-41.9531,-41.2116, -40.4651,-39.6938,-38.9091,-38.1109, -37.2934,-36.4606,-35.6091,-34.7391, -33.849,-32.9384,-32.008,-31.5324, -31.0575,-30.5823,-29.6386,-28.7006, -27.766,-26.8371,-25.9151,-24.9989, -24.0896,-23.1836,-23.0952,-23.0955, -23.5433,-24.4477,-25.3574,-26.2722, -27.194,-28.1218,-29.0546,-29.9938, -30.9378,-31.4122,-32.3587,-33.2788, -34.1785,-35.0589,-35.9186,-36.7604, -37.5842,-38.3939,-39.1877,-39.9613, -40.7218,-41.4704,-42.202,-43.3811, -44.0792,-44.7738,-45.4463,-46.1217, -46.7825,-47.4298,-48.0683,-49.011, -49.6362,-50.2445,-50.8513,-51.4523, -52.3273,-52.9205,-53.4913,-54.3423, -55.1883,-55.7365,-56.5582,-57.1069, -57.656,-58.1834,-58.7083,-59.3643)
FOOTPRINT_POINT_LONGITUDE = (304.502,305.575,306.117,306.185, 306.247,306.323,306.396,306.46,306.551, 306.602,306.664,306.754,306.809,306.89, 306.94,306.987,307.033,307.103,307.167, 307.205,307.254,307.291,307.33,307.392, 307.426,307.461,307.509,307.545,307.575 ,307.61,307.643,307.674,307.707,307.738 ,307.769,307.8,307.829,307.858,307.886, 307.9,307.913,307.927,307.951,307.975, 307.998,308.02,308.04,308.059,308.076, 308.094,306.881,306.041,305.605,305.632 ,305.656,305.678,305.699,305.717, 305.733,305.747,305.758,305.762,305.771 ,305.774,305.775,305.775,305.77,305.763 ,305.754,305.744,305.731,305.714, 305.695,305.674,305.651,305.613,305.585 ,305.556,305.521,305.49,305.454,305.416 ,305.374,305.31,305.265,305.219,305.169 ,305.118,305.034,304.979,304.919, 304.825,304.723,304.654,304.543,304.464 ,304.386,304.303,304.215,304.502)
ORBIT_NUMBER = 405
ORBITAL_ECCENTRICITY = 0.573
ORBITAL_INCLINATION = 86.56
ORBITAL_SEMIMAJOR_AXIS = 8540.41
PERIAPSIS_ALTITUDE = 265.52
PERIAPSIS_ARGUMENT_ANGLE = 290.83
PERIAPSIS_TIME = 2004-05-16T03:39:35.000Z
SPACECRAFT_ORIENTATION = (0.0,-1.0,0.0)
^MEX_ORIENTATION_DESC = "MEX_ORIENTATION_DESC.TXT"
SPACECRAFT_POINTING_MODE = ACROSSTRACK
^MEX_POINTING_DESC = "MEX_POINTING_DESC.TXT"
RIGHT_ASCENSION = -1e+32
DECLINATION = -1e+32
OFFSET_ANGLE = -0.14
SPACECRAFT_SOLAR_DISTANCE = 2.4416e+08
TARGET_NAME = MARS
/* CAMERA DATA ELEMENTS */
DETECTOR_TEMPERATURE = 18.1666
FOCAL_PLANE_TEMPERATURE = 7.7677
INST_CMPRS_NAME = "DISCRETE COSINE TRANSFORMATION (DCT)"
INST_CMPRS_RATIO = 28.3208
INST_CMPRS_QUALITY = 0
INST_CMPRS_QUANTZ_TBL_ID = 0
INSTRUMENT_TEMPERATURE = 11.0301
LENS_TEMPERATURE = 8.1755
MACROPIXEL_SIZE = 4
MISSING_FRAMES = 12
PIXEL_SUBSAMPLING_FLAG = N
SIGNAL_CHAIN_ID = 3
/* RADIOMETRIC DATA ELEMENTS */
BANDWIDTH = 174.0
CENTER_FILTER_WAVELENGTH = 675.0
RADIANCE_OFFSET = 1.02116
RADIANCE_SCALING_FACTOR = 0.0133485
REFLECTANCE_SCALING_FACTOR = 0.000428025
MEX:REFLECTANCE_OFFSET = 0.0327439
/* IMAGE OBJECT DEFINITIONS */
OBJECT = IMAGE
  INTERCHANGE_FORMAT = BINARY
  LINES = 42981
  LINE_SAMPLES = 3570
  SAMPLE_TYPE = UNSIGNED_INTEGER
  SAMPLE_BITS = 8
  BANDS = 1
  BAND_STORAGE_TYPE = BAND_SEQUENTIAL
  MAXIMUM = 113
  MEAN = 62.191
  MINIMUM = 24
  STANDARD_DEVIATION = 11.8455
END_OBJECT = IMAGE
/* MAP OBJECT DEFINITIONS */
OBJECT = IMAGE_MAP_PROJECTION
  ^DATA_SET_MAP_PROJECTION_CATALOG= "DSMAP.CAT"
  A_AXIS_RADIUS = 3396.0
  B_AXIS_RADIUS = 3396.0
  C_AXIS_RADIUS = 3396.0
  CENTER_LATITUDE = 0.0
  CENTER_LONGITUDE = 306.0
  COORDINATE_SYSTEM_NAME = PLANETOGRAPHIC
  COORDINATE_SYSTEM_TYPE = "BODY-FIXED ROTATING"
  EASTERNMOST_LONGITUDE = 308.094
  FIRST_STANDARD_PARALLEL = "N/A"
  LINE_FIRST_PIXEL = 1
  LINE_LAST_PIXEL = 42981
  LINE_PROJECTION_OFFSET = -27391.125
  MAP_PROJECTION_ROTATION = 0.0
  MAP_PROJECTION_TYPE = SINUSOIDAL
  MAP_RESOLUTION = 1185.42760773333
  MAP_SCALE = 0.05
  MAXIMUM_LATITUDE = -23.0952
  MINIMUM_LATITUDE = -59.4071
  POSITIVE_LONGITUDE_DIRECTION = EAST
  REFERENCE_LATITUDE = "N/A"
  REFERENCE_LONGITUDE = "N/A"
  SAMPLE_FIRST_PIXEL = 1
  SAMPLE_LAST_PIXEL = 3570
  SAMPLE_PROJECTION_OFFSET = 1142.125
  SECOND_STANDARD_PARALLEL = "N/A"
  WESTERNMOST_LONGITUDE = 304.215
END_OBJECT = IMAGE_MAP_PROJECTION
/* The JPEG2000 image data file associated with this label. */
OBJECT = COMPRESSED_FILE
  FILE_NAME = "H0405_0000_P13.JP2"
  RECORD_TYPE = UNDEFINED
  FILE_RECORDS = UNK
  ENCODING_TYPE = "JP2"
  INTERCHANGE_FORMAT = BINARY
  UNCOMPRESSED_FILE_NAME = "H0405_0000_P13.IMG"
  REQUIRED_STORAGE_BYTES = "153463590"
  ^DESCRIPTION = "JP2INFO.TXT"
END_OBJECT = COMPRESSED_FILE
END
