PDS_VERSION_ID = PDS3
/* FILE DATA ELEMENTS */
RECORD_TYPE = STREAM
/* POINTERS TO DATA OBJECTS */
^COMPRESSED_FILE = "H0420_0000_IR3.JP2"
/* IDENTIFICATION DATA ELEMENTS */
DATA_SET_ID = "MEX-M-HRSC-5-REFDR-MAPPROJECTED-V3.0"
DATA_SET_NAME = "MARS EXPRESS HRSC MAP PROJECTED REFDR V3.0"
DETECTOR_ID = MEX_HRSC_IR
EVENT_TYPE = "MARS-REGIONAL-STEREO-Vo-Te-Fl"
INSTRUMENT_HOST_ID = MEX
INSTRUMENT_HOST_NAME = "MARS EXPRESS"
INSTRUMENT_ID = HRSC
INSTRUMENT_NAME = "HIGH RESOLUTION STEREO CAMERA"
MISSION_NAME = "MARS EXPRESS"
MISSION_PHASE_NAME = MC_Phase_6
PROCESSING_LEVEL_ID = 3
PRODUCT_CREATION_TIME = 2016-03-03T04:31:40.000Z
PRODUCT_ID = "H0420_0000_IR3.JP2"
RELEASE_ID = 0007
REVISION_ID = 0000
/* QUALITY DATA ELEMENTS */
DATA_QUALITY_ID = 1
DATA_QUALITY_DESC = "Data calculated based on original SPICE kernels"
/* TIME DATA ELEMENTS */
SPACECRAFT_CLOCK_START_COUNT = "1/0033122097.57292"
SPACECRAFT_CLOCK_STOP_COUNT = "1/0033122417.54129"
START_TIME = 2004-05-20T08:35:12.131Z
STOP_TIME = 2004-05-20T08:38:29.548Z
/* ORBITAL DATA ELEMENTS */
ASCENDING_NODE_LONGITUDE = 220.29
MAXIMUM_RESOLUTION = 126.9
FOOTPRINT_POINT_LATITUDE = (-45.4055,-45.4039,-45.3988,-45.3899, -45.2387,-45.0191,-44.7999,-44.4714, -44.2464,-44.0216,-43.6853,-43.3458, -43.1166,-42.7731,-42.4263,-42.1923, -41.9579,-41.7236,-41.3674,-41.1297, -40.7736,-40.5283,-40.2832,-40.0367, -39.6617,-39.4116,-39.1605,-38.9047, -38.6473,-38.3914,-38.1319,-37.8706, -37.6099,-37.3449,-37.0794,-36.814, -36.4089,-36.1387,-35.8653,-35.5904, -35.3131,-35.0305,-34.7488,-34.4648, -34.0407,-33.6034,-33.1627,-32.8667, -32.6147,-32.6269,-32.6367,-32.6449, -32.6505,-32.6563,-32.6607,-32.8152, -33.1089,-33.4029,-33.6963,-34.133, -34.4148,-34.6972,-34.9768,-35.2589, -35.5375,-35.8125,-36.2225,-36.6242, -36.8914,-37.1561,-37.4233,-37.8261, -38.0817,-38.34,-38.5946,-38.8499, -39.2313,-39.4813,-39.7318,-40.1032, -40.3478,-40.5914,-40.8343,-41.0722, -41.4312,-41.6713,-41.9044,-42.1386, -42.3727,-42.6047,-42.8322,-43.0605, -43.2905,-43.5193,-43.855,-44.0793, -44.3039,-44.5275,-44.965,-45.4055)
FOOTPRINT_POINT_LONGITUDE = (271.933,272.486,273.05,273.625,273.865 ,273.874,273.882,273.894,273.902, 273.911,273.922,273.933,273.94,273.95, 273.961,273.967,273.974,273.98,273.989, 273.993,274.0,274.007,274.013,274.022, 274.034,274.04,274.048,274.056,274.064, 274.072,274.079,274.086,274.092,274.1, 274.106,274.112,274.121,274.127,274.133 ,274.138,274.146,274.154,274.161, 274.167,274.172,274.184,274.195,274.201 ,274.206,273.825,273.486,273.151, 272.879,272.527,272.198,271.982,271.987 ,271.991,271.995,272.001,272.004, 272.008,272.011,272.013,272.016,272.018 ,272.021,272.023,272.025,272.026, 272.026,272.027,272.027,272.027,272.027 ,272.027,272.026,272.025,272.024, 272.022,272.021,272.019,272.017,272.015 ,272.012,272.009,272.007,272.004, 272.001,271.997,271.994,271.991,271.987 ,271.983,271.976,271.972,271.967, 271.962,271.952,271.933)
ORBIT_NUMBER = 420
ORBITAL_ECCENTRICITY = 0.573
ORBITAL_INCLINATION = 86.56
ORBITAL_SEMIMAJOR_AXIS = 8538.58
PERIAPSIS_ALTITUDE = 265.44
PERIAPSIS_ARGUMENT_ANGLE = 288.18
PERIAPSIS_TIME = 2004-05-20T08:29:01.000Z
SPACECRAFT_ORIENTATION = (0.0,-1.0,0.0)
^MEX_ORIENTATION_DESC = "MEX_ORIENTATION_DESC.TXT"
SPACECRAFT_POINTING_MODE = ACROSSTRACK
^MEX_POINTING_DESC = "MEX_POINTING_DESC.TXT"
RIGHT_ASCENSION = -1e+32
DECLINATION = -1e+32
OFFSET_ANGLE = -0.86
SPACECRAFT_SOLAR_DISTANCE = 2.44645e+08
TARGET_NAME = MARS
/* CAMERA DATA ELEMENTS */
DETECTOR_TEMPERATURE = 16.3315
FOCAL_PLANE_TEMPERATURE = 7.5638
INST_CMPRS_NAME = "DISCRETE COSINE TRANSFORMATION (DCT)"
INST_CMPRS_RATIO = 18.2722
INST_CMPRS_QUALITY = 0
INST_CMPRS_QUANTZ_TBL_ID = 0
INSTRUMENT_TEMPERATURE = 10.8262
LENS_TEMPERATURE = 8.1755
MACROPIXEL_SIZE = 8
MISSING_FRAMES = 0
PIXEL_SUBSAMPLING_FLAG = N
SIGNAL_CHAIN_ID = 2
/* RADIOMETRIC DATA ELEMENTS */
BANDWIDTH = 81.0
CENTER_FILTER_WAVELENGTH = 955.5
RADIANCE_OFFSET = 0.278706
RADIANCE_SCALING_FACTOR = 0.0031748
REFLECTANCE_SCALING_FACTOR = 0.000409937
MEX:REFLECTANCE_OFFSET = 0.0359871
/* IMAGE OBJECT DEFINITIONS */
OBJECT = IMAGE
  INTERCHANGE_FORMAT = BINARY
  LINES = 7552
  LINE_SAMPLES = 1243
  SAMPLE_TYPE = UNSIGNED_INTEGER
  SAMPLE_BITS = 8
  BANDS = 1
  BAND_STORAGE_TYPE = BAND_SEQUENTIAL
  MAXIMUM = 91
  MEAN = 48.3673
  MINIMUM = 19
  STANDARD_DEVIATION = 6.46945
END_OBJECT = IMAGE
/* MAP OBJECT DEFINITIONS */
OBJECT = IMAGE_MAP_PROJECTION
  ^DATA_SET_MAP_PROJECTION_CATALOG= "DSMAP.CAT"
  A_AXIS_RADIUS = 3396.0
  B_AXIS_RADIUS = 3396.0
  C_AXIS_RADIUS = 3396.0
  CENTER_LATITUDE = 0.0
  CENTER_LONGITUDE = 273.0
  COORDINATE_SYSTEM_NAME = PLANETOGRAPHIC
  COORDINATE_SYSTEM_TYPE = "BODY-FIXED ROTATING"
  EASTERNMOST_LONGITUDE = 274.206
  FIRST_STANDARD_PARALLEL = "N/A"
  LINE_FIRST_PIXEL = 1
  LINE_LAST_PIXEL = 7552
  LINE_PROJECTION_OFFSET = -19331.3125
  MAP_PROJECTION_ROTATION = 0.0
  MAP_PROJECTION_TYPE = SINUSOIDAL
  MAP_RESOLUTION = 592.713803866667
  MAP_SCALE = 0.1
  MAXIMUM_LATITUDE = -32.6147
  MINIMUM_LATITUDE = -45.4055
  POSITIVE_LONGITUDE_DIRECTION = EAST
  REFERENCE_LATITUDE = "N/A"
  REFERENCE_LONGITUDE = "N/A"
  SAMPLE_FIRST_PIXEL = 1
  SAMPLE_LAST_PIXEL = 1243
  SAMPLE_PROJECTION_OFFSET = 557.8125
  SECOND_STANDARD_PARALLEL = "N/A"
  WESTERNMOST_LONGITUDE = 271.933
END_OBJECT = IMAGE_MAP_PROJECTION
/* The JPEG2000 image data file associated with this label. */
OBJECT = COMPRESSED_FILE
  FILE_NAME = "H0420_0000_IR3.JP2"
  RECORD_TYPE = UNDEFINED
  FILE_RECORDS = UNK
  ENCODING_TYPE = "JP2"
  INTERCHANGE_FORMAT = BINARY
  UNCOMPRESSED_FILE_NAME = "H0420_0000_IR3.IMG"
  REQUIRED_STORAGE_BYTES = "9405781"
  ^DESCRIPTION = "JP2INFO.TXT"
END_OBJECT = COMPRESSED_FILE
END
