PDS_VERSION_ID = PDS3
/* FILE DATA ELEMENTS */
RECORD_TYPE = STREAM
/* POINTERS TO DATA OBJECTS */
^COMPRESSED_FILE = "H0420_0000_P13.JP2"
/* IDENTIFICATION DATA ELEMENTS */
DATA_SET_ID = "MEX-M-HRSC-5-REFDR-MAPPROJECTED-V3.0"
DATA_SET_NAME = "MARS EXPRESS HRSC MAP PROJECTED REFDR V3.0"
DETECTOR_ID = MEX_HRSC_P1
EVENT_TYPE = "MARS-REGIONAL-STEREO-Vo-Te-Fl"
INSTRUMENT_HOST_ID = MEX
INSTRUMENT_HOST_NAME = "MARS EXPRESS"
INSTRUMENT_ID = HRSC
INSTRUMENT_NAME = "HIGH RESOLUTION STEREO CAMERA"
MISSION_NAME = "MARS EXPRESS"
MISSION_PHASE_NAME = MC_Phase_6
PROCESSING_LEVEL_ID = 3
PRODUCT_CREATION_TIME = 2016-03-03T04:31:40.000Z
PRODUCT_ID = "H0420_0000_P13.JP2"
RELEASE_ID = 0007
REVISION_ID = 0000
/* QUALITY DATA ELEMENTS */
DATA_QUALITY_ID = 1
DATA_QUALITY_DESC = "Data calculated based on original SPICE kernels"
/* TIME DATA ELEMENTS */
SPACECRAFT_CLOCK_START_COUNT = "1/0033122097.57292"
SPACECRAFT_CLOCK_STOP_COUNT = "1/0033122417.54129"
START_TIME = 2004-05-20T08:35:17.915Z
STOP_TIME = 2004-05-20T08:38:38.278Z
/* ORBITAL DATA ELEMENTS */
ASCENDING_NODE_LONGITUDE = 220.29
MAXIMUM_RESOLUTION = 63
FOOTPRINT_POINT_LATITUDE = (-45.399,-45.399,-45.3955,-45.3607, -44.9266,-44.594,-44.3716,-44.1494, -43.9272,-43.5868,-43.3597,-43.1331, -42.9056,-42.673,-42.4408,-42.2093, -41.9753,-41.738,-41.5012,-41.2657, -41.0262,-40.7859,-40.5438,-40.3007, -40.0527,-39.8034,-39.5556,-39.3027, -39.0499,-38.6675,-38.4094,-38.1518, -37.7605,-37.4984,-37.2346,-36.9682, -36.7015,-36.4325,-36.1606,-35.8896, -35.6143,-35.337,-35.0569,-34.7741, -34.3503,-34.0668,-33.7786,-33.4855, -33.0455,-32.7496,-32.6287,-32.6371, -32.6441,-32.6497,-32.6536,-32.6569, -32.6624,-32.9575,-33.2513,-33.6882, -33.9813,-34.2642,-34.5472,-34.8265, -35.1079,-35.387,-35.6642,-35.9402, -36.2097,-36.4808,-36.7459,-37.0116, -37.4095,-37.8107,-38.0683,-38.3232, -38.58,-38.9625,-39.2146,-39.5927, -39.84,-40.0867,-40.4551,-40.8164, -41.0577,-41.2973,-41.5341,-41.8892, -42.2408,-42.4717,-42.7027,-42.9338, -43.1606,-43.3878,-43.6142,-43.9539, -44.3977,-44.8421,-45.2761,-45.399)
FOOTPRINT_POINT_LONGITUDE = (272.198,272.761,273.334,273.876, 273.893,273.906,273.914,273.922,273.93, 273.941,273.949,273.956,273.963,273.97, 273.977,273.984,273.991,273.997,274.004 ,274.009,274.013,274.017,274.024, 274.031,274.039,274.048,274.056,274.063 ,274.07,274.083,274.09,274.097,274.108, 274.115,274.123,274.128,274.135,274.141 ,274.148,274.153,274.159,274.166, 274.174,274.182,274.19,274.194,274.201, 274.209,274.22,274.226,273.949,273.605, 273.264,272.926,272.611,272.277,271.959 ,271.964,271.969,271.975,271.979, 271.983,271.987,271.99,271.993,271.996, 271.998,272.0,272.003,272.004,272.006, 272.008,272.009,272.01,272.01,272.011, 272.011,272.01,272.01,272.009,272.008, 272.007,272.004,272.002,272.0,271.998, 271.996,271.992,271.988,271.985,271.982 ,271.978,271.975,271.971,271.967, 271.961,271.951,271.941,271.931, 272.198)
ORBIT_NUMBER = 420
ORBITAL_ECCENTRICITY = 0.573
ORBITAL_INCLINATION = 86.56
ORBITAL_SEMIMAJOR_AXIS = 8538.58
PERIAPSIS_ALTITUDE = 265.44
PERIAPSIS_ARGUMENT_ANGLE = 288.18
PERIAPSIS_TIME = 2004-05-20T08:29:01.000Z
SPACECRAFT_ORIENTATION = (0.0,-1.0,0.0)
^MEX_ORIENTATION_DESC = "MEX_ORIENTATION_DESC.TXT"
SPACECRAFT_POINTING_MODE = ACROSSTRACK
^MEX_POINTING_DESC = "MEX_POINTING_DESC.TXT"
RIGHT_ASCENSION = -1e+32
DECLINATION = -1e+32
OFFSET_ANGLE = -0.86
SPACECRAFT_SOLAR_DISTANCE = 2.44645e+08
TARGET_NAME = MARS
/* CAMERA DATA ELEMENTS */
DETECTOR_TEMPERATURE = 16.3315
FOCAL_PLANE_TEMPERATURE = 7.5638
INST_CMPRS_NAME = "DISCRETE COSINE TRANSFORMATION (DCT)"
INST_CMPRS_RATIO = 17.6742
INST_CMPRS_QUALITY = 0
INST_CMPRS_QUANTZ_TBL_ID = 0
INSTRUMENT_TEMPERATURE = 10.8262
LENS_TEMPERATURE = 8.1755
MACROPIXEL_SIZE = 4
MISSING_FRAMES = 0
PIXEL_SUBSAMPLING_FLAG = N
SIGNAL_CHAIN_ID = 3
/* RADIOMETRIC DATA ELEMENTS */
BANDWIDTH = 174.0
CENTER_FILTER_WAVELENGTH = 675.0
RADIANCE_OFFSET = 1.24909
RADIANCE_SCALING_FACTOR = 0.0124994
REFLECTANCE_SCALING_FACTOR = 0.000402392
MEX:REFLECTANCE_OFFSET = 0.040212
/* IMAGE OBJECT DEFINITIONS */
OBJECT = IMAGE
  INTERCHANGE_FORMAT = BINARY
  LINES = 15103
  LINE_SAMPLES = 2486
  SAMPLE_TYPE = UNSIGNED_INTEGER
  SAMPLE_BITS = 8
  BANDS = 1
  BAND_STORAGE_TYPE = BAND_SEQUENTIAL
  MAXIMUM = 114
  MEAN = 64.6553
  MINIMUM = 25
  STANDARD_DEVIATION = 7.34877
END_OBJECT = IMAGE
/* MAP OBJECT DEFINITIONS */
OBJECT = IMAGE_MAP_PROJECTION
  ^DATA_SET_MAP_PROJECTION_CATALOG= "DSMAP.CAT"
  A_AXIS_RADIUS = 3396.0
  B_AXIS_RADIUS = 3396.0
  C_AXIS_RADIUS = 3396.0
  CENTER_LATITUDE = 0.0
  CENTER_LONGITUDE = 273.0
  COORDINATE_SYSTEM_NAME = PLANETOGRAPHIC
  COORDINATE_SYSTEM_TYPE = "BODY-FIXED ROTATING"
  EASTERNMOST_LONGITUDE = 274.226
  FIRST_STANDARD_PARALLEL = "N/A"
  LINE_FIRST_PIXEL = 1
  LINE_LAST_PIXEL = 15103
  LINE_PROJECTION_OFFSET = -38662.125
  MAP_PROJECTION_ROTATION = 0.0
  MAP_PROJECTION_TYPE = SINUSOIDAL
  MAP_RESOLUTION = 1185.42760773333
  MAP_SCALE = 0.05
  MAXIMUM_LATITUDE = -32.6287
  MINIMUM_LATITUDE = -45.399
  POSITIVE_LONGITUDE_DIRECTION = EAST
  REFERENCE_LATITUDE = "N/A"
  REFERENCE_LONGITUDE = "N/A"
  SAMPLE_FIRST_PIXEL = 1
  SAMPLE_LAST_PIXEL = 2486
  SAMPLE_PROJECTION_OFFSET = 1116.125
  SECOND_STANDARD_PARALLEL = "N/A"
  WESTERNMOST_LONGITUDE = 271.931
END_OBJECT = IMAGE_MAP_PROJECTION
/* The JPEG2000 image data file associated with this label. */
OBJECT = COMPRESSED_FILE
  FILE_NAME = "H0420_0000_P13.JP2"
  RECORD_TYPE = UNDEFINED
  FILE_RECORDS = UNK
  ENCODING_TYPE = "JP2"
  INTERCHANGE_FORMAT = BINARY
  UNCOMPRESSED_FILE_NAME = "H0420_0000_P13.IMG"
  REQUIRED_STORAGE_BYTES = "37565946"
  ^DESCRIPTION = "JP2INFO.TXT"
END_OBJECT = COMPRESSED_FILE
END
