PDS_VERSION_ID = PDS3
/* FILE DATA ELEMENTS */
RECORD_TYPE = STREAM
/* POINTERS TO DATA OBJECTS */
^COMPRESSED_FILE = "H0424_0000_IR3.JP2"
/* IDENTIFICATION DATA ELEMENTS */
DATA_SET_ID = "MEX-M-HRSC-5-REFDR-MAPPROJECTED-V3.0"
DATA_SET_NAME = "MARS EXPRESS HRSC MAP PROJECTED REFDR V3.0"
DETECTOR_ID = MEX_HRSC_IR
EVENT_TYPE = "MARS-LOCAL-STEREO-Vo-Te-Im"
INSTRUMENT_HOST_ID = MEX
INSTRUMENT_HOST_NAME = "MARS EXPRESS"
INSTRUMENT_ID = HRSC
INSTRUMENT_NAME = "HIGH RESOLUTION STEREO CAMERA"
MISSION_NAME = "MARS EXPRESS"
MISSION_PHASE_NAME = MC_Phase_6
PROCESSING_LEVEL_ID = 3
PRODUCT_CREATION_TIME = 2016-03-03T04:31:40.000Z
PRODUCT_ID = "H0424_0000_IR3.JP2"
RELEASE_ID = 0007
REVISION_ID = 0000
/* QUALITY DATA ELEMENTS */
DATA_QUALITY_ID = 1
DATA_QUALITY_DESC = "Data calculated based on original SPICE kernels"
/* TIME DATA ELEMENTS */
SPACECRAFT_CLOCK_START_COUNT = "1/0033218840.58002"
SPACECRAFT_CLOCK_STOP_COUNT = "1/0033219072.56424"
START_TIME = 2004-05-21T11:27:34.619Z
STOP_TIME = 2004-05-21T11:29:50.749Z
/* ORBITAL DATA ELEMENTS */
ASCENDING_NODE_LONGITUDE = 220.2
MAXIMUM_RESOLUTION = 59.2
FOOTPRINT_POINT_LATITUDE = (-48.8068,-48.8236,-48.8415,-48.8502, -48.86,-48.6598,-48.4179,-48.0959, -47.9342,-47.7681,-47.6023,-47.3541, -47.1887,-47.0233,-46.8579,-46.6892, -46.5179,-46.2637,-46.0938,-45.8391, -45.6658,-45.4914,-45.3172,-45.1436, -44.9701,-44.7073,-44.4401,-44.262, -44.0845,-43.9086,-43.7265,-43.5401, -43.3573,-43.0829,-42.8069,-42.6201, -42.4331,-42.247,-42.0601,-41.87, -41.6789,-41.488,-41.2999,-41.0089, -40.8127,-40.6175,-40.4227,-40.1261, -39.8811,-39.8748,-39.8691,-39.8592, -39.8529,-39.8432,-39.9368,-40.1353, -40.3328,-40.5267,-40.8181,-41.0132, -41.2058,-41.3962,-41.5867,-41.7773, -41.9678,-42.1539,-42.3402,-42.5266, -42.7135,-42.8989,-43.081,-43.2638, -43.4488,-43.6306,-43.8096,-44.0766, -44.2539,-44.4321,-44.6105,-44.8748, -45.0492,-45.222,-45.3955,-45.5696, -45.7435,-45.9128,-46.0823,-46.2516, -46.4212,-46.5908,-46.8437,-47.0087, -47.1739,-47.4214,-47.5868,-47.7523, -48.0777,-48.3188,-48.6407,-48.8068)
FOOTPRINT_POINT_LONGITUDE = (237.43,237.839,238.335,238.608,238.95, 239.183,239.201,239.226,239.238,239.25, 239.262,239.28,239.292,239.303,239.315, 239.326,239.339,239.355,239.367,239.384 ,239.395,239.406,239.417,239.428, 239.439,239.455,239.471,239.481,239.491 ,239.501,239.512,239.524,239.535, 239.551,239.566,239.576,239.586,239.596 ,239.606,239.616,239.626,239.636, 239.644,239.66,239.67,239.679,239.689, 239.703,239.564,239.166,238.882,238.465 ,238.238,237.916,237.68,237.676,237.671 ,237.666,237.659,237.654,237.648, 237.643,237.638,237.632,237.626,237.62, 237.614,237.608,237.602,237.595,237.588 ,237.582,237.576,237.569,237.56,237.55, 237.542,237.534,237.526,237.515,237.507 ,237.498,237.49,237.481,237.472,237.463 ,237.454,237.445,237.436,237.427, 237.412,237.403,237.393,237.378,237.367 ,237.357,237.336,237.32,237.298,237.43)
ORBIT_NUMBER = 424
ORBITAL_ECCENTRICITY = 0.573
ORBITAL_INCLINATION = 86.57
ORBITAL_SEMIMAJOR_AXIS = 8537.01
PERIAPSIS_ALTITUDE = 264.61
PERIAPSIS_ARGUMENT_ANGLE = 287.47
PERIAPSIS_TIME = 2004-05-21T11:22:05.000Z
SPACECRAFT_ORIENTATION = (0.0,-1.0,0.0)
^MEX_ORIENTATION_DESC = "MEX_ORIENTATION_DESC.TXT"
SPACECRAFT_POINTING_MODE = NADIR
^MEX_POINTING_DESC = "MEX_POINTING_DESC.TXT"
RIGHT_ASCENSION = -1e+32
DECLINATION = -1e+32
OFFSET_ANGLE = -1e+32
SPACECRAFT_SOLAR_DISTANCE = 2.4477e+08
TARGET_NAME = MARS
/* CAMERA DATA ELEMENTS */
DETECTOR_TEMPERATURE = 17.351
FOCAL_PLANE_TEMPERATURE = 8.5833
INST_CMPRS_NAME = "DISCRETE COSINE TRANSFORMATION (DCT)"
INST_CMPRS_RATIO = 5.67569
INST_CMPRS_QUALITY = 0
INST_CMPRS_QUANTZ_TBL_ID = 0
INSTRUMENT_TEMPERATURE = 12.2535
LENS_TEMPERATURE = 8.9911
MACROPIXEL_SIZE = 4
MISSING_FRAMES = 0
PIXEL_SUBSAMPLING_FLAG = N
SIGNAL_CHAIN_ID = 2
/* RADIOMETRIC DATA ELEMENTS */
BANDWIDTH = 81.0
CENTER_FILTER_WAVELENGTH = 955.5
RADIANCE_OFFSET = 0.222286
RADIANCE_SCALING_FACTOR = 0.00298069
REFLECTANCE_SCALING_FACTOR = 0.000385269
MEX:REFLECTANCE_OFFSET = 0.0287316
/* IMAGE OBJECT DEFINITIONS */
OBJECT = IMAGE
  INTERCHANGE_FORMAT = BINARY
  LINES = 10651
  LINE_SAMPLES = 2254
  SAMPLE_TYPE = UNSIGNED_INTEGER
  SAMPLE_BITS = 8
  BANDS = 1
  BAND_STORAGE_TYPE = BAND_SEQUENTIAL
  MAXIMUM = 147
  MEAN = 69.8773
  MINIMUM = 26
  STANDARD_DEVIATION = 10.6745
END_OBJECT = IMAGE
/* MAP OBJECT DEFINITIONS */
OBJECT = IMAGE_MAP_PROJECTION
  ^DATA_SET_MAP_PROJECTION_CATALOG= "DSMAP.CAT"
  A_AXIS_RADIUS = 3396.0
  B_AXIS_RADIUS = 3396.0
  C_AXIS_RADIUS = 3396.0
  CENTER_LATITUDE = 0.0
  CENTER_LONGITUDE = 238.0
  COORDINATE_SYSTEM_NAME = PLANETOGRAPHIC
  COORDINATE_SYSTEM_TYPE = "BODY-FIXED ROTATING"
  EASTERNMOST_LONGITUDE = 239.703
  FIRST_STANDARD_PARALLEL = "N/A"
  LINE_FIRST_PIXEL = 1
  LINE_LAST_PIXEL = 10651
  LINE_PROJECTION_OFFSET = -47186.125
  MAP_PROJECTION_ROTATION = 0.0
  MAP_PROJECTION_TYPE = SINUSOIDAL
  MAP_RESOLUTION = 1185.42760773333
  MAP_SCALE = 0.05
  MAXIMUM_LATITUDE = -39.8432
  MINIMUM_LATITUDE = -48.86
  POSITIVE_LONGITUDE_DIRECTION = EAST
  REFERENCE_LATITUDE = "N/A"
  REFERENCE_LONGITUDE = "N/A"
  SAMPLE_FIRST_PIXEL = 1
  SAMPLE_LAST_PIXEL = 2254
  SAMPLE_PROJECTION_OFFSET = 606.625
  SECOND_STANDARD_PARALLEL = "N/A"
  WESTERNMOST_LONGITUDE = 237.298
END_OBJECT = IMAGE_MAP_PROJECTION
/* The JPEG2000 image data file associated with this label. */
OBJECT = COMPRESSED_FILE
  FILE_NAME = "H0424_0000_IR3.JP2"
  RECORD_TYPE = UNDEFINED
  FILE_RECORDS = UNK
  ENCODING_TYPE = "JP2"
  INTERCHANGE_FORMAT = BINARY
  UNCOMPRESSED_FILE_NAME = "H0424_0000_IR3.IMG"
  REQUIRED_STORAGE_BYTES = "24029894"
  ^DESCRIPTION = "JP2INFO.TXT"
END_OBJECT = COMPRESSED_FILE
END
