PDS_VERSION_ID = PDS3
/* FILE DATA ELEMENTS */
RECORD_TYPE = STREAM
/* POINTERS TO DATA OBJECTS */
^COMPRESSED_FILE = "H0424_0000_RE3.JP2"
/* IDENTIFICATION DATA ELEMENTS */
DATA_SET_ID = "MEX-M-HRSC-5-REFDR-MAPPROJECTED-V3.0"
DATA_SET_NAME = "MARS EXPRESS HRSC MAP PROJECTED REFDR V3.0"
DETECTOR_ID = MEX_HRSC_RED
EVENT_TYPE = "MARS-LOCAL-STEREO-Vo-Te-Im"
INSTRUMENT_HOST_ID = MEX
INSTRUMENT_HOST_NAME = "MARS EXPRESS"
INSTRUMENT_ID = HRSC
INSTRUMENT_NAME = "HIGH RESOLUTION STEREO CAMERA"
MISSION_NAME = "MARS EXPRESS"
MISSION_PHASE_NAME = MC_Phase_6
PROCESSING_LEVEL_ID = 3
PRODUCT_CREATION_TIME = 2016-03-03T04:31:40.000Z
PRODUCT_ID = "H0424_0000_RE3.JP2"
RELEASE_ID = 0007
REVISION_ID = 0000
/* QUALITY DATA ELEMENTS */
DATA_QUALITY_ID = 1
DATA_QUALITY_DESC = "Data calculated based on original SPICE kernels"
/* TIME DATA ELEMENTS */
SPACECRAFT_CLOCK_START_COUNT = "1/0033218840.58002"
SPACECRAFT_CLOCK_STOP_COUNT = "1/0033219072.56424"
START_TIME = 2004-05-21T11:28:32.457Z
STOP_TIME = 2004-05-21T11:31:09.656Z
/* ORBITAL DATA ELEMENTS */
ASCENDING_NODE_LONGITUDE = 220.2
MAXIMUM_RESOLUTION = 65.6
FOOTPRINT_POINT_LATITUDE = (-48.6776,-48.6899,-48.704,-48.7109, -48.7187,-48.7712,-48.4496,-48.2872, -48.1245,-47.9622,-47.8003,-47.5533, -47.3872,-47.2216,-47.0563,-46.8909, -46.7217,-46.5562,-46.3884,-46.2165, -45.9599,-45.7879,-45.616,-45.4446, -45.1836,-45.0083,-44.8332,-44.6578, -44.48,-44.2105,-44.0306,-43.7639, -43.5857,-43.3076,-43.1257,-42.9416, -42.7578,-42.5742,-42.3892,-42.2012, -41.9208,-41.6367,-41.3499,-41.1592, -40.9683,-40.7765,-40.4848,-40.2896, -40.0947,-39.812,-39.8074,-39.8025, -39.7963,-39.7924,-39.7872,-39.7804, -39.9731,-40.1692,-40.4611,-40.6558, -40.8472,-41.039,-41.2311,-41.4198, -41.6089,-41.8924,-42.0782,-42.2644, -42.5432,-42.7257,-42.9091,-43.0926, -43.2734,-43.55,-43.731,-44.0021, -44.1794,-44.3568,-44.6219,-44.7958, -45.0562,-45.2319,-45.4047,-45.5755, -45.7469,-45.9187,-46.0895,-46.3418, -46.5101,-46.6787,-46.9295,-47.0943, -47.3422,-47.5078,-47.6733,-47.9967, -48.1588,-48.3211,-48.564,-48.6776)
FOOTPRINT_POINT_LONGITUDE = (237.586,237.964,238.437,238.683, 238.986,239.279,239.305,239.319,239.332 ,239.345,239.358,239.377,239.39,239.403 ,239.415,239.428,239.44,239.455,239.467 ,239.478,239.496,239.509,239.521, 239.533,239.551,239.563,239.575,239.586 ,239.597,239.614,239.625,239.643, 239.656,239.675,239.686,239.698,239.709 ,239.721,239.733,239.743,239.76,239.777 ,239.792,239.804,239.815,239.827, 239.843,239.854,239.865,239.88,239.465, 239.093,238.678,238.437,238.153,237.803 ,237.53,237.527,237.522,237.519,237.515 ,237.512,237.508,237.504,237.5,237.493, 237.488,237.484,237.476,237.471,237.466 ,237.461,237.456,237.448,237.442, 237.431,237.424,237.418,237.408,237.401 ,237.391,237.383,237.376,237.368, 237.361,237.353,237.345,237.332,237.324 ,237.315,237.302,237.294,237.28,237.271 ,237.261,237.242,237.232,237.222, 237.207,237.586)
ORBIT_NUMBER = 424
ORBITAL_ECCENTRICITY = 0.573
ORBITAL_INCLINATION = 86.57
ORBITAL_SEMIMAJOR_AXIS = 8537.01
PERIAPSIS_ALTITUDE = 264.61
PERIAPSIS_ARGUMENT_ANGLE = 287.47
PERIAPSIS_TIME = 2004-05-21T11:22:05.000Z
SPACECRAFT_ORIENTATION = (0.0,-1.0,0.0)
^MEX_ORIENTATION_DESC = "MEX_ORIENTATION_DESC.TXT"
SPACECRAFT_POINTING_MODE = NADIR
^MEX_POINTING_DESC = "MEX_POINTING_DESC.TXT"
RIGHT_ASCENSION = -1e+32
DECLINATION = -1e+32
OFFSET_ANGLE = -1e+32
SPACECRAFT_SOLAR_DISTANCE = 2.4477e+08
TARGET_NAME = MARS
/* CAMERA DATA ELEMENTS */
DETECTOR_TEMPERATURE = 18.3705
FOCAL_PLANE_TEMPERATURE = 8.5833
INST_CMPRS_NAME = "DISCRETE COSINE TRANSFORMATION (DCT)"
INST_CMPRS_RATIO = 10.5647
INST_CMPRS_QUALITY = 0
INST_CMPRS_QUANTZ_TBL_ID = 0
INSTRUMENT_TEMPERATURE = 12.2535
LENS_TEMPERATURE = 8.9911
MACROPIXEL_SIZE = 4
MISSING_FRAMES = 1
PIXEL_SUBSAMPLING_FLAG = N
SIGNAL_CHAIN_ID = 2
/* RADIOMETRIC DATA ELEMENTS */
BANDWIDTH = 48.0
CENTER_FILTER_WAVELENGTH = 748.0
RADIANCE_OFFSET = 0.29545
RADIANCE_SCALING_FACTOR = 0.00335393
REFLECTANCE_SCALING_FACTOR = 0.000458562
MEX:REFLECTANCE_OFFSET = 0.0403951
/* IMAGE OBJECT DEFINITIONS */
OBJECT = IMAGE
  INTERCHANGE_FORMAT = BINARY
  LINES = 10651
  LINE_SAMPLES = 2254
  SAMPLE_TYPE = UNSIGNED_INTEGER
  SAMPLE_BITS = 8
  BANDS = 1
  BAND_STORAGE_TYPE = BAND_SEQUENTIAL
  MAXIMUM = 157
  MEAN = 81.2969
  MINIMUM = 34
  STANDARD_DEVIATION = 13.4273
END_OBJECT = IMAGE
/* MAP OBJECT DEFINITIONS */
OBJECT = IMAGE_MAP_PROJECTION
  ^DATA_SET_MAP_PROJECTION_CATALOG= "DSMAP.CAT"
  A_AXIS_RADIUS = 3396.0
  B_AXIS_RADIUS = 3396.0
  C_AXIS_RADIUS = 3396.0
  CENTER_LATITUDE = 0.0
  CENTER_LONGITUDE = 238.0
  COORDINATE_SYSTEM_NAME = PLANETOGRAPHIC
  COORDINATE_SYSTEM_TYPE = "BODY-FIXED ROTATING"
  EASTERNMOST_LONGITUDE = 239.88
  FIRST_STANDARD_PARALLEL = "N/A"
  LINE_FIRST_PIXEL = 1
  LINE_LAST_PIXEL = 10651
  LINE_PROJECTION_OFFSET = -47186.125
  MAP_PROJECTION_ROTATION = 0.0
  MAP_PROJECTION_TYPE = SINUSOIDAL
  MAP_RESOLUTION = 1185.42760773333
  MAP_SCALE = 0.05
  MAXIMUM_LATITUDE = -39.7804
  MINIMUM_LATITUDE = -48.7712
  POSITIVE_LONGITUDE_DIRECTION = EAST
  REFERENCE_LATITUDE = "N/A"
  REFERENCE_LONGITUDE = "N/A"
  SAMPLE_FIRST_PIXEL = 1
  SAMPLE_LAST_PIXEL = 2254
  SAMPLE_PROJECTION_OFFSET = 606.625
  SECOND_STANDARD_PARALLEL = "N/A"
  WESTERNMOST_LONGITUDE = 237.207
END_OBJECT = IMAGE_MAP_PROJECTION
/* The JPEG2000 image data file associated with this label. */
OBJECT = COMPRESSED_FILE
  FILE_NAME = "H0424_0000_RE3.JP2"
  RECORD_TYPE = UNDEFINED
  FILE_RECORDS = UNK
  ENCODING_TYPE = "JP2"
  INTERCHANGE_FORMAT = BINARY
  UNCOMPRESSED_FILE_NAME = "H0424_0000_RE3.IMG"
  REQUIRED_STORAGE_BYTES = "24029894"
  ^DESCRIPTION = "JP2INFO.TXT"
END_OBJECT = COMPRESSED_FILE
END
