PDS_VERSION_ID = PDS3
/* FILE DATA ELEMENTS */
RECORD_TYPE = STREAM
/* POINTERS TO DATA OBJECTS */
^COMPRESSED_FILE = "H0427_0000_P23.JP2"
/* IDENTIFICATION DATA ELEMENTS */
DATA_SET_ID = "MEX-M-HRSC-5-REFDR-MAPPROJECTED-V3.0"
DATA_SET_NAME = "MARS EXPRESS HRSC MAP PROJECTED REFDR V3.0"
DETECTOR_ID = MEX_HRSC_P2
EVENT_TYPE = "MARS-REGIONAL-MAPPING-Fl-Gl-Mw"
INSTRUMENT_HOST_ID = MEX
INSTRUMENT_HOST_NAME = "MARS EXPRESS"
INSTRUMENT_ID = HRSC
INSTRUMENT_NAME = "HIGH RESOLUTION STEREO CAMERA"
MISSION_NAME = "MARS EXPRESS"
MISSION_PHASE_NAME = MC_Phase_6
PROCESSING_LEVEL_ID = 3
PRODUCT_CREATION_TIME = 2016-03-03T04:31:40.000Z
PRODUCT_ID = "H0427_0000_P23.JP2"
RELEASE_ID = 0007
REVISION_ID = 0000
/* QUALITY DATA ELEMENTS */
DATA_QUALITY_ID = 1
DATA_QUALITY_DESC = "Data calculated based on original SPICE kernels"
/* TIME DATA ELEMENTS */
SPACECRAFT_CLOCK_START_COUNT = "1/0033291304.57956"
SPACECRAFT_CLOCK_STOP_COUNT = "1/0033291694.31833"
START_TIME = 2004-05-22T07:35:58.164Z
STOP_TIME = 2004-05-22T07:41:20.433Z
/* ORBITAL DATA ELEMENTS */
ASCENDING_NODE_LONGITUDE = 220.14
MAXIMUM_RESOLUTION = 51.3
FOOTPRINT_POINT_LATITUDE = (-58.056,-58.0771,-58.1396,-57.8273, -57.5083,-57.0317,-56.711,-56.2246, -55.8903,-55.3992,-55.0701,-54.565, -54.2268,-53.8892,-53.3694,-53.0248, -52.6772,-52.3147,-51.9701,-51.6141, -51.0716,-50.7067,-50.1557,-49.7899, -49.4171,-49.0367,-48.6503,-48.2714, -47.8866,-47.4956,-46.9002,-46.4998, -45.8951,-45.4855,-45.0706,-44.6541, -44.2301,-43.5912,-42.9412,-42.5034, -42.0552,-41.6041,-41.1513,-40.6866, -40.2255,-39.7556,-39.2827,-38.9456, -38.9416,-38.9369,-38.9315,-39.1626, -39.6363,-40.1049,-40.5689,-41.0245, -41.7023,-42.1486,-42.5915,-43.029, -43.4596,-43.8867,-44.3145,-44.7369, -45.1528,-45.5619,-45.9678,-46.3703, -46.7692,-47.1624,-47.5592,-48.1375, -48.5277,-48.9047,-49.2835,-49.6601, -50.0295,-50.3934,-50.9301,-51.3019, -51.6588,-52.0137,-52.3551,-52.7091, -53.0554,-53.4083,-53.7557,-54.0917, -54.429,-54.7593,-55.0951,-55.4123, -55.742,-56.0746,-56.4017,-56.7202, -57.0449,-57.525,-58.0013,-58.056)
FOOTPRINT_POINT_LONGITUDE = (301.562,302.152,302.602,302.655, 302.708,302.785,302.835,302.908,302.956 ,303.027,303.072,303.141,303.186, 303.229,303.294,303.337,303.378,303.417 ,303.46,303.5,303.559,303.597,303.655, 303.693,303.73,303.767,303.801,303.838, 303.874,303.909,303.959,303.994,304.044 ,304.077,304.109,304.141,304.173,304.22 ,304.266,304.297,304.326,304.355, 304.385,304.413,304.443,304.471,304.5, 304.147,303.438,302.97,302.635,302.131, 302.121,302.111,302.1,302.09,302.07, 302.054,302.037,302.02,302.003,301.986, 301.961,301.938,301.916,301.895,301.875 ,301.85,301.827,301.803,301.772,301.733 ,301.699,301.671,301.639,301.604, 301.572,301.546,301.503,301.455,301.419 ,301.38,301.358,301.313,301.272,301.22, 301.175,301.133,301.088,301.054,301.004 ,300.974,300.925,300.87,300.819,300.769 ,300.709,300.629,300.543,301.562)
ORBIT_NUMBER = 427
ORBITAL_ECCENTRICITY = 0.573
ORBITAL_INCLINATION = 86.56
ORBITAL_SEMIMAJOR_AXIS = 8536.69
PERIAPSIS_ALTITUDE = 265.35
PERIAPSIS_ARGUMENT_ANGLE = 286.98
PERIAPSIS_TIME = 2004-05-22T07:32:00.000Z
SPACECRAFT_ORIENTATION = (0.0,-1.0,0.0)
^MEX_ORIENTATION_DESC = "MEX_ORIENTATION_DESC.TXT"
SPACECRAFT_POINTING_MODE = ACROSSTRACK
^MEX_POINTING_DESC = "MEX_POINTING_DESC.TXT"
RIGHT_ASCENSION = -1e+32
DECLINATION = -1e+32
OFFSET_ANGLE = 0.35
SPACECRAFT_SOLAR_DISTANCE = 2.44864e+08
TARGET_NAME = MARS
/* CAMERA DATA ELEMENTS */
DETECTOR_TEMPERATURE = 18.3705
FOCAL_PLANE_TEMPERATURE = 8.5833
INST_CMPRS_NAME = "DISCRETE COSINE TRANSFORMATION (DCT)"
INST_CMPRS_RATIO = 12.3308
INST_CMPRS_QUALITY = 0
INST_CMPRS_QUANTZ_TBL_ID = 0
INSTRUMENT_TEMPERATURE = 11.234
LENS_TEMPERATURE = 8.9911
MACROPIXEL_SIZE = 4
MISSING_FRAMES = 0
PIXEL_SUBSAMPLING_FLAG = N
SIGNAL_CHAIN_ID = 3
/* RADIOMETRIC DATA ELEMENTS */
BANDWIDTH = 177.0
CENTER_FILTER_WAVELENGTH = 676.5
RADIANCE_OFFSET = 0.784609
RADIANCE_SCALING_FACTOR = 0.0117823
REFLECTANCE_SCALING_FACTOR = 0.000374572
MEX:REFLECTANCE_OFFSET = 0.0249436
/* IMAGE OBJECT DEFINITIONS */
OBJECT = IMAGE
  INTERCHANGE_FORMAT = BINARY
  LINES = 22814
  LINE_SAMPLES = 2913
  SAMPLE_TYPE = UNSIGNED_INTEGER
  SAMPLE_BITS = 8
  BANDS = 1
  BAND_STORAGE_TYPE = BAND_SEQUENTIAL
  MAXIMUM = 217
  MEAN = 101.667
  MINIMUM = 40
  STANDARD_DEVIATION = 21.8325
END_OBJECT = IMAGE
/* MAP OBJECT DEFINITIONS */
OBJECT = IMAGE_MAP_PROJECTION
  ^DATA_SET_MAP_PROJECTION_CATALOG= "DSMAP.CAT"
  A_AXIS_RADIUS = 3396.0
  B_AXIS_RADIUS = 3396.0
  C_AXIS_RADIUS = 3396.0
  CENTER_LATITUDE = 0.0
  CENTER_LONGITUDE = 303.0
  COORDINATE_SYSTEM_NAME = PLANETOGRAPHIC
  COORDINATE_SYSTEM_TYPE = "BODY-FIXED ROTATING"
  EASTERNMOST_LONGITUDE = 304.5
  FIRST_STANDARD_PARALLEL = "N/A"
  LINE_FIRST_PIXEL = 1
  LINE_LAST_PIXEL = 22814
  LINE_PROJECTION_OFFSET = -46134.375
  MAP_PROJECTION_ROTATION = 0.0
  MAP_PROJECTION_TYPE = SINUSOIDAL
  MAP_RESOLUTION = 1185.42760773333
  MAP_SCALE = 0.05
  MAXIMUM_LATITUDE = -38.9315
  MINIMUM_LATITUDE = -58.1396
  POSITIVE_LONGITUDE_DIRECTION = EAST
  REFERENCE_LATITUDE = "N/A"
  REFERENCE_LONGITUDE = "N/A"
  SAMPLE_FIRST_PIXEL = 1
  SAMPLE_LAST_PIXEL = 2913
  SAMPLE_PROJECTION_OFFSET = 1562.375
  SECOND_STANDARD_PARALLEL = "N/A"
  WESTERNMOST_LONGITUDE = 300.543
END_OBJECT = IMAGE_MAP_PROJECTION
/* The JPEG2000 image data file associated with this label. */
OBJECT = COMPRESSED_FILE
  FILE_NAME = "H0427_0000_P23.JP2"
  RECORD_TYPE = UNDEFINED
  FILE_RECORDS = UNK
  ENCODING_TYPE = "JP2"
  INTERCHANGE_FORMAT = BINARY
  UNCOMPRESSED_FILE_NAME = "H0427_0000_P23.IMG"
  REQUIRED_STORAGE_BYTES = "66480486"
  ^DESCRIPTION = "JP2INFO.TXT"
END_OBJECT = COMPRESSED_FILE
END
