PDS_VERSION_ID = PDS3
/* FILE DATA ELEMENTS */
RECORD_TYPE = STREAM
/* POINTERS TO DATA OBJECTS */
^COMPRESSED_FILE = "H0427_0000_S13.JP2"
/* IDENTIFICATION DATA ELEMENTS */
DATA_SET_ID = "MEX-M-HRSC-5-REFDR-MAPPROJECTED-V3.0"
DATA_SET_NAME = "MARS EXPRESS HRSC MAP PROJECTED REFDR V3.0"
DETECTOR_ID = MEX_HRSC_S1
EVENT_TYPE = "MARS-REGIONAL-MAPPING-Fl-Gl-Mw"
INSTRUMENT_HOST_ID = MEX
INSTRUMENT_HOST_NAME = "MARS EXPRESS"
INSTRUMENT_ID = HRSC
INSTRUMENT_NAME = "HIGH RESOLUTION STEREO CAMERA"
MISSION_NAME = "MARS EXPRESS"
MISSION_PHASE_NAME = MC_Phase_6
PROCESSING_LEVEL_ID = 3
PRODUCT_CREATION_TIME = 2016-03-03T04:31:40.000Z
PRODUCT_ID = "H0427_0000_S13.JP2"
RELEASE_ID = 0007
REVISION_ID = 0000
/* QUALITY DATA ELEMENTS */
DATA_QUALITY_ID = 1
DATA_QUALITY_DESC = "Data calculated based on original SPICE kernels"
/* TIME DATA ELEMENTS */
SPACECRAFT_CLOCK_START_COUNT = "1/0033291304.57956"
SPACECRAFT_CLOCK_STOP_COUNT = "1/0033291694.31833"
START_TIME = 2004-05-22T07:35:13.451Z
STOP_TIME = 2004-05-22T07:40:00.700Z
/* ORBITAL DATA ELEMENTS */
ASCENDING_NODE_LONGITUDE = 220.14
MAXIMUM_RESOLUTION = 24.9
FOOTPRINT_POINT_LATITUDE = (-58.1604,-58.2004,-58.2368,-58.1912, -57.8741,-57.5517,-57.234,-56.9111, -56.5916,-56.2634,-55.9446,-55.6071, -55.2797,-54.9485,-54.61,-54.2711, -53.9318,-53.5929,-53.0789,-52.7332, -52.3908,-52.0324,-51.6811,-51.3336, -50.9555,-50.4135,-49.8515,-49.4799, -49.0392,-48.6632,-48.2749,-47.8896, -47.3126,-46.7131,-46.105,-45.4943, -45.0843,-44.4492,-44.0252,-43.3806, -42.9472,-42.5039,-42.0643,-41.6155, -41.1646,-40.7064,-40.0005,-39.5266, -39.2849,-38.985,-38.9704,-38.949, -38.9254,-38.9075,-39.1497,-39.3909, -39.8637,-40.3347,-40.7999,-41.4863, -41.9369,-42.3781,-42.8194,-43.4695, -43.9014,-44.3151,-44.738,-45.1493, -45.5627,-45.9726,-46.577,-46.9772, -47.3633,-47.9556,-48.5243,-48.9016, -49.3406,-49.7077,-50.0788,-50.4625, -50.9958,-51.3514,-51.8843,-52.2512, -52.7664,-53.1158,-53.4466,-53.9514, -54.2896,-54.8102,-55.3025,-55.6425, -55.9657,-56.2898,-56.6177,-56.9309, -57.2374,-57.5595,-57.8735,-58.1604)
FOOTPRINT_POINT_LONGITUDE = (300.919,301.502,302.08,302.539,302.59, 302.643,302.693,302.743,302.791,302.839 ,302.883,302.932,302.977,303.021, 303.066,303.109,303.152,303.193,303.255 ,303.294,303.332,303.373,303.411, 303.445,303.488,303.542,303.598,303.633 ,303.674,303.707,303.742,303.776, 303.822,303.872,303.92,303.966,303.995, 304.041,304.07,304.113,304.141,304.169, 304.196,304.222,304.248,304.273,304.314 ,304.339,304.352,304.089,303.669, 303.207,302.662,302.29,302.285,302.278, 302.265,302.251,302.237,302.214,302.195 ,302.176,302.156,302.127,302.107,302.08 ,302.055,302.031,302.007,301.984, 301.944,301.919,301.888,301.847,301.8, 301.765,301.726,301.69,301.656,301.63, 301.573,301.532,301.474,301.446,301.38, 301.337,301.289,301.222,301.177,301.116 ,301.044,301.004,300.951,300.897, 300.847,300.792,300.731,300.68,300.622, 300.919)
ORBIT_NUMBER = 427
ORBITAL_ECCENTRICITY = 0.573
ORBITAL_INCLINATION = 86.56
ORBITAL_SEMIMAJOR_AXIS = 8536.69
PERIAPSIS_ALTITUDE = 265.35
PERIAPSIS_ARGUMENT_ANGLE = 286.98
PERIAPSIS_TIME = 2004-05-22T07:32:00.000Z
SPACECRAFT_ORIENTATION = (0.0,-1.0,0.0)
^MEX_ORIENTATION_DESC = "MEX_ORIENTATION_DESC.TXT"
SPACECRAFT_POINTING_MODE = ACROSSTRACK
^MEX_POINTING_DESC = "MEX_POINTING_DESC.TXT"
RIGHT_ASCENSION = -1e+32
DECLINATION = -1e+32
OFFSET_ANGLE = 0.35
SPACECRAFT_SOLAR_DISTANCE = 2.44864e+08
TARGET_NAME = MARS
/* CAMERA DATA ELEMENTS */
DETECTOR_TEMPERATURE = 17.7588
FOCAL_PLANE_TEMPERATURE = 8.5833
INST_CMPRS_NAME = "DISCRETE COSINE TRANSFORMATION (DCT)"
INST_CMPRS_RATIO = 8.94321
INST_CMPRS_QUALITY = 0
INST_CMPRS_QUANTZ_TBL_ID = 0
INSTRUMENT_TEMPERATURE = 11.234
LENS_TEMPERATURE = 8.9911
MACROPIXEL_SIZE = 2
MISSING_FRAMES = 20
PIXEL_SUBSAMPLING_FLAG = N
SIGNAL_CHAIN_ID = 1
/* RADIOMETRIC DATA ELEMENTS */
BANDWIDTH = 180.0
CENTER_FILTER_WAVELENGTH = 677.0
RADIANCE_OFFSET = 0.923513
RADIANCE_SCALING_FACTOR = 0.0114832
REFLECTANCE_SCALING_FACTOR = 0.000359215
MEX:REFLECTANCE_OFFSET = 0.0288891
/* IMAGE OBJECT DEFINITIONS */
OBJECT = IMAGE
  INTERCHANGE_FORMAT = BINARY
  LINES = 45628
  LINE_SAMPLES = 5826
  SAMPLE_TYPE = UNSIGNED_INTEGER
  SAMPLE_BITS = 8
  BANDS = 1
  BAND_STORAGE_TYPE = BAND_SEQUENTIAL
  MAXIMUM = 189
  MEAN = 97.2727
  MINIMUM = 39
  STANDARD_DEVIATION = 16.5173
END_OBJECT = IMAGE
/* MAP OBJECT DEFINITIONS */
OBJECT = IMAGE_MAP_PROJECTION
  ^DATA_SET_MAP_PROJECTION_CATALOG= "DSMAP.CAT"
  A_AXIS_RADIUS = 3396.0
  B_AXIS_RADIUS = 3396.0
  C_AXIS_RADIUS = 3396.0
  CENTER_LATITUDE = 0.0
  CENTER_LONGITUDE = 303.0
  COORDINATE_SYSTEM_NAME = PLANETOGRAPHIC
  COORDINATE_SYSTEM_TYPE = "BODY-FIXED ROTATING"
  EASTERNMOST_LONGITUDE = 304.352
  FIRST_STANDARD_PARALLEL = "N/A"
  LINE_FIRST_PIXEL = 1
  LINE_LAST_PIXEL = 45628
  LINE_PROJECTION_OFFSET = -92268.25
  MAP_PROJECTION_ROTATION = 0.0
  MAP_PROJECTION_TYPE = SINUSOIDAL
  MAP_RESOLUTION = 2370.85521546667
  MAP_SCALE = 0.025
  MAXIMUM_LATITUDE = -38.9075
  MINIMUM_LATITUDE = -58.2368
  POSITIVE_LONGITUDE_DIRECTION = EAST
  REFERENCE_LATITUDE = "N/A"
  REFERENCE_LONGITUDE = "N/A"
  SAMPLE_FIRST_PIXEL = 1
  SAMPLE_LAST_PIXEL = 5826
  SAMPLE_PROJECTION_OFFSET = 3125.25
  SECOND_STANDARD_PARALLEL = "N/A"
  WESTERNMOST_LONGITUDE = 300.622
END_OBJECT = IMAGE_MAP_PROJECTION
/* The JPEG2000 image data file associated with this label. */
OBJECT = COMPRESSED_FILE
  FILE_NAME = "H0427_0000_S13.JP2"
  RECORD_TYPE = UNDEFINED
  FILE_RECORDS = UNK
  ENCODING_TYPE = "JP2"
  INTERCHANGE_FORMAT = BINARY
  UNCOMPRESSED_FILE_NAME = "H0427_0000_S13.IMG"
  REQUIRED_STORAGE_BYTES = "265857858"
  ^DESCRIPTION = "JP2INFO.TXT"
END_OBJECT = COMPRESSED_FILE
END
