PDS_VERSION_ID = PDS3
/* FILE DATA ELEMENTS */
RECORD_TYPE = STREAM
/* POINTERS TO DATA OBJECTS */
^COMPRESSED_FILE = "H0431_0000_ND3.JP2"
/* IDENTIFICATION DATA ELEMENTS */
DATA_SET_ID = "MEX-M-HRSC-5-REFDR-MAPPROJECTED-V3.0"
DATA_SET_NAME = "MARS EXPRESS HRSC MAP PROJECTED REFDR V3.0"
DETECTOR_ID = MEX_HRSC_NADIR
EVENT_TYPE = "MARS-REGIONAL-MAPPING-Vo-Te-Fl"
INSTRUMENT_HOST_ID = MEX
INSTRUMENT_HOST_NAME = "MARS EXPRESS"
INSTRUMENT_ID = HRSC
INSTRUMENT_NAME = "HIGH RESOLUTION STEREO CAMERA"
MISSION_NAME = "MARS EXPRESS"
MISSION_PHASE_NAME = MC_Phase_6
PROCESSING_LEVEL_ID = 3
PRODUCT_CREATION_TIME = 2016-03-03T04:31:40.000Z
PRODUCT_ID = "H0431_0000_ND3.JP2"
RELEASE_ID = 0007
REVISION_ID = 0000
/* QUALITY DATA ELEMENTS */
DATA_QUALITY_ID = 1
DATA_QUALITY_DESC = "Data calculated based on original SPICE kernels"
/* TIME DATA ELEMENTS */
SPACECRAFT_CLOCK_START_COUNT = "1/0033388226.57151"
SPACECRAFT_CLOCK_STOP_COUNT = "1/0033388711.52859"
START_TIME = 2004-05-23T10:31:08.026Z
STOP_TIME = 2004-05-23T10:37:09.027Z
/* ORBITAL DATA ELEMENTS */
ASCENDING_NODE_LONGITUDE = 220.05
MAXIMUM_RESOLUTION = 14.9
FOOTPRINT_POINT_LATITUDE = (-49.7904,-49.8081,-49.8227,-49.4919, -48.8191,-48.4764,-48.132,-47.7883, -47.4363,-46.9088,-46.3704,-46.0113, -45.6448,-45.278,-44.7192,-44.3451, -43.9637,-43.5822,-43.194,-42.8052, -42.4091,-41.8109,-41.4075,-40.9983, -40.3783,-39.7488,-39.3244,-38.8936, -38.459,-38.0208,-37.5756,-37.1263, -36.6724,-36.2137,-35.7485,-35.2782, -34.8025,-34.321,-33.834,-33.3409, -32.8417,-32.336,-31.8241,-31.3057, -30.7806,-30.249,-29.7105,-29.1637, -28.6098,-28.6012,-28.6035,-28.6043, -28.6027,-28.6002,-29.1518,-29.6966, -30.233,-30.7627,-31.2859,-31.8024, -32.3125,-32.8164,-33.3141,-33.8057, -34.2913,-34.7713,-35.2456,-35.7147, -36.1783,-36.6358,-37.0885,-37.5367, -37.9808,-38.4179,-38.8514,-39.2812, -39.7045,-40.3326,-40.951,-41.3595, -41.7619,-42.3588,-42.7542,-43.1421, -43.5296,-43.9102,-44.2909,-44.6642, -45.2219,-45.588,-45.9538,-46.3121, -46.8496,-47.376,-47.7274,-48.0705, -48.4141,-49.0917,-49.7622,-49.7904)
FOOTPRINT_POINT_LONGITUDE = (270.301,270.925,271.558,271.755,271.8, 271.822,271.843,271.865,271.886,271.916 ,271.948,271.968,271.988,272.008, 272.038,272.057,272.077,272.095,272.114 ,272.132,272.148,272.174,272.19,272.208 ,272.23,272.256,272.274,272.291,272.308 ,272.321,272.343,272.36,272.373,272.39, 272.405,272.422,272.44,272.454,272.468, 272.487,272.503,272.518,272.533,272.547 ,272.562,272.576,272.59,272.605,272.619 ,271.937,271.502,270.827,270.315, 269.873,269.889,269.904,269.918,269.931 ,269.943,269.954,269.964,269.974, 269.983,269.99,269.996,270.002,270.007, 270.012,270.015,270.017,270.018,270.018 ,270.018,270.017,270.016,270.015, 270.012,270.006,269.999,269.994,269.987 ,269.975,269.967,269.957,269.948, 269.939,269.929,269.918,269.901,269.889 ,269.876,269.863,269.841,269.819, 269.802,269.786,269.769,269.733,269.695 ,270.301)
ORBIT_NUMBER = 431
ORBITAL_ECCENTRICITY = 0.573
ORBITAL_INCLINATION = 86.56
ORBITAL_SEMIMAJOR_AXIS = 8536.42
PERIAPSIS_ALTITUDE = 264.73
PERIAPSIS_ARGUMENT_ANGLE = 286.26
PERIAPSIS_TIME = 2004-05-23T10:25:08.000Z
SPACECRAFT_ORIENTATION = (0.0,-1.0,0.0)
^MEX_ORIENTATION_DESC = "MEX_ORIENTATION_DESC.TXT"
SPACECRAFT_POINTING_MODE = ACROSSTRACK
^MEX_POINTING_DESC = "MEX_POINTING_DESC.TXT"
RIGHT_ASCENSION = -1e+32
DECLINATION = -1e+32
OFFSET_ANGLE = -0.44
SPACECRAFT_SOLAR_DISTANCE = 2.44986e+08
TARGET_NAME = MARS
/* CAMERA DATA ELEMENTS */
DETECTOR_TEMPERATURE = 17.9627
FOCAL_PLANE_TEMPERATURE = 8.5833
INST_CMPRS_NAME = "DISCRETE COSINE TRANSFORMATION (DCT)"
INST_CMPRS_RATIO = 5.84481
INST_CMPRS_QUALITY = 0
INST_CMPRS_QUANTZ_TBL_ID = 0
INSTRUMENT_TEMPERATURE = 11.234
LENS_TEMPERATURE = 8.7872
MACROPIXEL_SIZE = 1
MISSING_FRAMES = 0
PIXEL_SUBSAMPLING_FLAG = N
SIGNAL_CHAIN_ID = 0
/* RADIOMETRIC DATA ELEMENTS */
BANDWIDTH = 177.0
CENTER_FILTER_WAVELENGTH = 677.5
RADIANCE_OFFSET = 1.0291
RADIANCE_SCALING_FACTOR = 0.0143836
REFLECTANCE_SCALING_FACTOR = 0.000458604
MEX:REFLECTANCE_OFFSET = 0.0328116
/* IMAGE OBJECT DEFINITIONS */
OBJECT = IMAGE
  INTERCHANGE_FORMAT = BINARY
  LINES = 100667
  LINE_SAMPLES = 11694
  SAMPLE_TYPE = UNSIGNED_INTEGER
  SAMPLE_BITS = 8
  BANDS = 1
  BAND_STORAGE_TYPE = BAND_SEQUENTIAL
  MAXIMUM = 219
  MEAN = 88.2553
  MINIMUM = 32
  STANDARD_DEVIATION = 19.8775
END_OBJECT = IMAGE
/* MAP OBJECT DEFINITIONS */
OBJECT = IMAGE_MAP_PROJECTION
  ^DATA_SET_MAP_PROJECTION_CATALOG= "DSMAP.CAT"
  A_AXIS_RADIUS = 3396.0
  B_AXIS_RADIUS = 3396.0
  C_AXIS_RADIUS = 3396.0
  CENTER_LATITUDE = 0.0
  CENTER_LONGITUDE = 271.0
  COORDINATE_SYSTEM_NAME = PLANETOGRAPHIC
  COORDINATE_SYSTEM_TYPE = "BODY-FIXED ROTATING"
  EASTERNMOST_LONGITUDE = 272.619
  FIRST_STANDARD_PARALLEL = "N/A"
  LINE_FIRST_PIXEL = 1
  LINE_LAST_PIXEL = 100667
  LINE_PROJECTION_OFFSET = -135591.0
  MAP_PROJECTION_ROTATION = 0.0
  MAP_PROJECTION_TYPE = SINUSOIDAL
  MAP_RESOLUTION = 4741.71043093333
  MAP_SCALE = 0.0125
  MAXIMUM_LATITUDE = -28.6002
  MINIMUM_LATITUDE = -49.8227
  POSITIVE_LONGITUDE_DIRECTION = EAST
  REFERENCE_LATITUDE = "N/A"
  REFERENCE_LONGITUDE = "N/A"
  SAMPLE_FIRST_PIXEL = 1
  SAMPLE_LAST_PIXEL = 11694
  SAMPLE_PROJECTION_OFFSET = 4755.0
  SECOND_STANDARD_PARALLEL = "N/A"
  WESTERNMOST_LONGITUDE = 269.695
END_OBJECT = IMAGE_MAP_PROJECTION
/* The JPEG2000 image data file associated with this label. */
OBJECT = COMPRESSED_FILE
  FILE_NAME = "H0431_0000_ND3.JP2"
  RECORD_TYPE = UNDEFINED
  FILE_RECORDS = UNK
  ENCODING_TYPE = "JP2"
  INTERCHANGE_FORMAT = BINARY
  UNCOMPRESSED_FILE_NAME = "H0431_0000_ND3.IMG"
  REQUIRED_STORAGE_BYTES = "1177234980"
  ^DESCRIPTION = "JP2INFO.TXT"
END_OBJECT = COMPRESSED_FILE
END
