PDS_VERSION_ID = PDS3
/* FILE DATA ELEMENTS */
RECORD_TYPE = STREAM
/* POINTERS TO DATA OBJECTS */
^COMPRESSED_FILE = "H0431_0001_SR3.JP2"
/* IDENTIFICATION DATA ELEMENTS */
DATA_SET_ID = "MEX-M-HRSC-5-REFDR-MAPPROJECTED-V3.0"
DATA_SET_NAME = "MARS EXPRESS HRSC MAP PROJECTED REFDR V3.0"
DETECTOR_ID = MEX_HRSC_SRC
EVENT_TYPE = "MARS-REGIONAL-MAPPING-Vo-Te-Fl"
INSTRUMENT_HOST_ID = MEX
INSTRUMENT_HOST_NAME = "MARS EXPRESS"
INSTRUMENT_ID = HRSC
INSTRUMENT_NAME = "HIGH RESOLUTION STEREO CAMERA"
MISSION_NAME = "MARS EXPRESS"
MISSION_PHASE_NAME = MC_Phase_6
PROCESSING_LEVEL_ID = 3
PRODUCT_CREATION_TIME = 2016-03-03T04:31:40.000Z
PRODUCT_ID = "H0431_0001_SR3.JP2"
RELEASE_ID = 0007
REVISION_ID = 0000
/* QUALITY DATA ELEMENTS */
DATA_QUALITY_ID = 1
DATA_QUALITY_DESC = "Data calculated based on original SPICE kernels"
/* TIME DATA ELEMENTS */
SPACECRAFT_CLOCK_START_COUNT = "1/0033388226.57151"
SPACECRAFT_CLOCK_STOP_COUNT = "1/0033388711.52859"
IMAGE_TIME = 2004-05-23T10:34:10.967Z
START_TIME = 2004-05-23T10:34:10.709Z
STOP_TIME = 2004-05-23T10:34:11.225Z
/* ORBITAL DATA ELEMENTS */
ASCENDING_NODE_LONGITUDE = 220.05
MAXIMUM_RESOLUTION = 4.651
FOOTPRINT_POINT_LATITUDE = (-38.5465,-38.5497,-38.5539,-38.5568, -38.5606,-38.5626,-38.5664,-38.5688, -38.5724,-38.5764,-38.581,-38.5839, -38.5878,-38.5904,-38.5937,-38.597, -38.6009,-38.6037,-38.606,-38.6086, -38.6108,-38.6146,-38.6178,-38.6206, -38.6236,-38.6257,-38.6257,-38.6256, -38.6256,-38.6255,-38.6255,-38.6254, -38.6254,-38.6253,-38.6253,-38.6252, -38.6252,-38.6251,-38.6251,-38.625, -38.625,-38.6249,-38.6249,-38.6248, -38.6248,-38.6247,-38.6247,-38.6246, -38.6245,-38.6245,-38.6244,-38.6218, -38.6196,-38.6164,-38.613,-38.6075, -38.6049,-38.6018,-38.5994,-38.597, -38.5936,-38.59,-38.5876,-38.5836, -38.5805,-38.5762,-38.5714,-38.5692, -38.5656,-38.563,-38.5606,-38.5576, -38.5533,-38.5505,-38.5471,-38.5453, -38.5453,-38.5454,-38.5454,-38.5455, -38.5455,-38.5456,-38.5456,-38.5457, -38.5457,-38.5458,-38.5458,-38.5459, -38.5459,-38.546,-38.546,-38.5461, -38.5461,-38.5462,-38.5462,-38.5463, -38.5463,-38.5464,-38.5464,-38.5465)
FOOTPRINT_POINT_LONGITUDE = (271.197,271.197,271.197,271.197, 271.197,271.198,271.197,271.197,271.197 ,271.197,271.197,271.197,271.197, 271.197,271.197,271.197,271.197,271.197 ,271.197,271.197,271.197,271.196, 271.196,271.196,271.196,271.195,271.191 ,271.187,271.183,271.179,271.175, 271.171,271.167,271.163,271.159,271.155 ,271.151,271.147,271.143,271.139, 271.135,271.131,271.127,271.123,271.118 ,271.114,271.11,271.106,271.102,271.098 ,271.094,271.094,271.094,271.094, 271.094,271.094,271.094,271.094,271.094 ,271.094,271.094,271.094,271.094, 271.095,271.095,271.095,271.095,271.095 ,271.095,271.095,271.094,271.094, 271.094,271.095,271.095,271.099,271.103 ,271.107,271.111,271.115,271.119, 271.123,271.127,271.131,271.135,271.139 ,271.143,271.147,271.151,271.155, 271.159,271.163,271.167,271.171,271.175 ,271.179,271.183,271.187,271.191, 271.197)
ORBIT_NUMBER = 431
ORBITAL_ECCENTRICITY = 0.573
ORBITAL_INCLINATION = 86.56
ORBITAL_SEMIMAJOR_AXIS = 8536.42
PERIAPSIS_ALTITUDE = 264.73
PERIAPSIS_ARGUMENT_ANGLE = 286.26
PERIAPSIS_TIME = 2004-05-23T10:25:08.000Z
SPACECRAFT_ORIENTATION = (0.0,-1.0,0.0)
^MEX_ORIENTATION_DESC = "MEX_ORIENTATION_DESC.TXT"
SPACECRAFT_POINTING_MODE = ACROSSTRACK
^MEX_POINTING_DESC = "MEX_POINTING_DESC.TXT"
RIGHT_ASCENSION = -1e+32
DECLINATION = -1e+32
OFFSET_ANGLE = -0.44
SPACECRAFT_SOLAR_DISTANCE = 2.44986e+08
TARGET_NAME = MARS
/* CAMERA DATA ELEMENTS */
BUFFER_MODE_ID = BUFFER_8
EXPOSURE_DURATION = 516.096
INST_CMPRS_NAME = NONE
INST_CMPRS_RATIO = 1.0
INST_CMPRS_QUALITY = -2147483648
INST_CMPRS_QUANTZ_TBL_ID = -2147483648
INSTRUMENT_TEMPERATURE = 11.2121
MISSING_FRAMES = 0
START_BIT = 0
/* RADIOMETRIC DATA ELEMENTS */
BANDWIDTH = 250.0
CENTER_FILTER_WAVELENGTH = 600.0
RADIANCE_OFFSET = -9.99e+31
RADIANCE_SCALING_FACTOR = -9.99e+31
REFLECTANCE_SCALING_FACTOR = -9.99e+31
MEX:REFLECTANCE_OFFSET = -9.99e+31
/* IMAGE OBJECT DEFINITIONS */
OBJECT = IMAGE
  INTERCHANGE_FORMAT = BINARY
  LINES = 1009
  LINE_SAMPLES = 1022
  SAMPLE_TYPE = UNSIGNED_INTEGER
  SAMPLE_BITS = 8
  BANDS = 1
  BAND_STORAGE_TYPE = BAND_SEQUENTIAL
  MAXIMUM = 13825
  MEAN = 13026.1
  MINIMUM = 11893
  STANDARD_DEVIATION = 240.604
END_OBJECT = IMAGE
/* MAP OBJECT DEFINITIONS */
OBJECT = IMAGE_MAP_PROJECTION
  ^DATA_SET_MAP_PROJECTION_CATALOG= "DSMAP.CAT"
  A_AXIS_RADIUS = 3396.19
  B_AXIS_RADIUS = 3396.19
  C_AXIS_RADIUS = 3396.19
  CENTER_LATITUDE = 0.0
  CENTER_LONGITUDE = 271.0
  COORDINATE_SYSTEM_NAME = PLANETOGRAPHIC
  COORDINATE_SYSTEM_TYPE = "BODY-FIXED ROTATING"
  EASTERNMOST_LONGITUDE = 271.198
  FIRST_STANDARD_PARALLEL = "N/A"
  LINE_FIRST_PIXEL = 1
  LINE_LAST_PIXEL = 1009
  LINE_PROJECTION_OFFSET = -456565.0
  MAP_PROJECTION_ROTATION = 0.0
  MAP_PROJECTION_TYPE = SINUSOIDAL
  MAP_RESOLUTION = 11854.9393024378
  MAP_SCALE = 0.005
  MAXIMUM_LATITUDE = -38.5453
  MINIMUM_LATITUDE = -38.6257
  POSITIVE_LONGITUDE_DIRECTION = EAST
  REFERENCE_LATITUDE = "N/A"
  REFERENCE_LONGITUDE = "N/A"
  SAMPLE_FIRST_PIXEL = 1
  SAMPLE_LAST_PIXEL = 1022
  SAMPLE_PROJECTION_OFFSET = -927.0
  SECOND_STANDARD_PARALLEL = "N/A"
  WESTERNMOST_LONGITUDE = 271.094
END_OBJECT = IMAGE_MAP_PROJECTION
/* The JPEG2000 image data file associated with this label. */
OBJECT = COMPRESSED_FILE
  FILE_NAME = "H0431_0001_SR3.JP2"
  RECORD_TYPE = UNDEFINED
  FILE_RECORDS = UNK
  ENCODING_TYPE = "JP2"
  INTERCHANGE_FORMAT = BINARY
  UNCOMPRESSED_FILE_NAME = "H0431_0001_SR3.IMG"
  REQUIRED_STORAGE_BYTES = "1050616"
  ^DESCRIPTION = "JP2INFO.TXT"
END_OBJECT = COMPRESSED_FILE
END
